BEGIN:VCALENDAR
VERSION:2.0
PRODID:-//City of Pittsburg - ECPv6.15.20//NONSGML v1.0//EN
CALSCALE:GREGORIAN
METHOD:PUBLISH
X-WR-CALNAME:City of Pittsburg
X-ORIGINAL-URL:https://www.pittks.org
X-WR-CALDESC:Events for City of Pittsburg
REFRESH-INTERVAL;VALUE=DURATION:PT1H
X-Robots-Tag:noindex
X-PUBLISHED-TTL:PT1H
BEGIN:VTIMEZONE
TZID:America/Chicago
BEGIN:DAYLIGHT
TZOFFSETFROM:-0600
TZOFFSETTO:-0500
TZNAME:CDT
DTSTART:20250309T080000
END:DAYLIGHT
BEGIN:STANDARD
TZOFFSETFROM:-0500
TZOFFSETTO:-0600
TZNAME:CST
DTSTART:20251102T070000
END:STANDARD
BEGIN:DAYLIGHT
TZOFFSETFROM:-0600
TZOFFSETTO:-0500
TZNAME:CDT
DTSTART:20260308T080000
END:DAYLIGHT
BEGIN:STANDARD
TZOFFSETFROM:-0500
TZOFFSETTO:-0600
TZNAME:CST
DTSTART:20261101T070000
END:STANDARD
BEGIN:DAYLIGHT
TZOFFSETFROM:-0600
TZOFFSETTO:-0500
TZNAME:CDT
DTSTART:20270314T080000
END:DAYLIGHT
BEGIN:STANDARD
TZOFFSETFROM:-0500
TZOFFSETTO:-0600
TZNAME:CST
DTSTART:20271107T070000
END:STANDARD
END:VTIMEZONE
BEGIN:VEVENT
DTSTART;TZID=America/Chicago:20260610T160000
DTEND;TZID=America/Chicago:20260610T160000
DTSTAMP:20260422T152756
CREATED:20200708T162119Z
LAST-MODIFIED:20250916T192120Z
UID:10023209-1781107200-1781107200@www.pittks.org
SUMMARY:Memorial Auditorium Advisory Board Meeting
DESCRIPTION:The Memorial Auditorium Advisory Board will hold its regular meeting at Memorial Auditorium. This board meets every other month on the second Wednesday at 4:00 pm. Contact Darcie Shultz at (620) 231-7827.
URL:https://www.pittks.org/event/memorial-auditorium-advisory-board-meeting/2026-06-10/
LOCATION:Memorial Auditorium\, 503 N. Pine St.\, Pittsburg\, KS\, 66762\, United States
CATEGORIES:Government
ATTACH;FMTTYPE=image/jpeg:https://www.pittks.org/wp-content/uploads/2017/10/20170913_171312-1-e1509052266963.jpg
END:VEVENT
BEGIN:VEVENT
DTSTART;TZID=America/Chicago:20260812T160000
DTEND;TZID=America/Chicago:20260812T160000
DTSTAMP:20260422T152756
CREATED:20200708T162119Z
LAST-MODIFIED:20250916T192120Z
UID:10023210-1786550400-1786550400@www.pittks.org
SUMMARY:Memorial Auditorium Advisory Board Meeting
DESCRIPTION:The Memorial Auditorium Advisory Board will hold its regular meeting at Memorial Auditorium. This board meets every other month on the second Wednesday at 4:00 pm. Contact Darcie Shultz at (620) 231-7827.
URL:https://www.pittks.org/event/memorial-auditorium-advisory-board-meeting/2026-08-12/
LOCATION:Memorial Auditorium\, 503 N. Pine St.\, Pittsburg\, KS\, 66762\, United States
CATEGORIES:Government
ATTACH;FMTTYPE=image/jpeg:https://www.pittks.org/wp-content/uploads/2017/10/20170913_171312-1-e1509052266963.jpg
END:VEVENT
BEGIN:VEVENT
DTSTART;TZID=America/Chicago:20261014T160000
DTEND;TZID=America/Chicago:20261014T160000
DTSTAMP:20260422T152756
CREATED:20200708T162119Z
LAST-MODIFIED:20250916T192120Z
UID:10024705-1791993600-1791993600@www.pittks.org
SUMMARY:Memorial Auditorium Advisory Board Meeting
DESCRIPTION:The Memorial Auditorium Advisory Board will hold its regular meeting at Memorial Auditorium. This board meets every other month on the second Wednesday at 4:00 pm. Contact Darcie Shultz at (620) 231-7827.
URL:https://www.pittks.org/event/memorial-auditorium-advisory-board-meeting/2026-10-14/
LOCATION:Memorial Auditorium\, 503 N. Pine St.\, Pittsburg\, KS\, 66762\, United States
CATEGORIES:Government
ATTACH;FMTTYPE=image/jpeg:https://www.pittks.org/wp-content/uploads/2017/10/20170913_171312-1-e1509052266963.jpg
END:VEVENT
BEGIN:VEVENT
DTSTART;TZID=America/Chicago:20261209T160000
DTEND;TZID=America/Chicago:20261209T160000
DTSTAMP:20260422T152756
CREATED:20200708T162119Z
LAST-MODIFIED:20250916T192120Z
UID:10024706-1796832000-1796832000@www.pittks.org
SUMMARY:Memorial Auditorium Advisory Board Meeting
DESCRIPTION:The Memorial Auditorium Advisory Board will hold its regular meeting at Memorial Auditorium. This board meets every other month on the second Wednesday at 4:00 pm. Contact Darcie Shultz at (620) 231-7827.
URL:https://www.pittks.org/event/memorial-auditorium-advisory-board-meeting/2026-12-09/
LOCATION:Memorial Auditorium\, 503 N. Pine St.\, Pittsburg\, KS\, 66762\, United States
CATEGORIES:Government
ATTACH;FMTTYPE=image/jpeg:https://www.pittks.org/wp-content/uploads/2017/10/20170913_171312-1-e1509052266963.jpg
END:VEVENT
END:VCALENDAR