BEGIN:VCALENDAR
VERSION:2.0
PRODID:-//City of Pittsburg - ECPv6.15.20//NONSGML v1.0//EN
CALSCALE:GREGORIAN
METHOD:PUBLISH
X-WR-CALNAME:City of Pittsburg
X-ORIGINAL-URL:https://www.pittks.org
X-WR-CALDESC:Events for City of Pittsburg
REFRESH-INTERVAL;VALUE=DURATION:PT1H
X-Robots-Tag:noindex
X-PUBLISHED-TTL:PT1H
BEGIN:VTIMEZONE
TZID:America/Chicago
BEGIN:DAYLIGHT
TZOFFSETFROM:-0600
TZOFFSETTO:-0500
TZNAME:CDT
DTSTART:20220313T080000
END:DAYLIGHT
BEGIN:STANDARD
TZOFFSETFROM:-0500
TZOFFSETTO:-0600
TZNAME:CST
DTSTART:20221106T070000
END:STANDARD
BEGIN:DAYLIGHT
TZOFFSETFROM:-0600
TZOFFSETTO:-0500
TZNAME:CDT
DTSTART:20230312T080000
END:DAYLIGHT
BEGIN:STANDARD
TZOFFSETFROM:-0500
TZOFFSETTO:-0600
TZNAME:CST
DTSTART:20231105T070000
END:STANDARD
BEGIN:DAYLIGHT
TZOFFSETFROM:-0600
TZOFFSETTO:-0500
TZNAME:CDT
DTSTART:20240310T080000
END:DAYLIGHT
BEGIN:STANDARD
TZOFFSETFROM:-0500
TZOFFSETTO:-0600
TZNAME:CST
DTSTART:20241103T070000
END:STANDARD
BEGIN:DAYLIGHT
TZOFFSETFROM:-0600
TZOFFSETTO:-0500
TZNAME:CDT
DTSTART:20250309T080000
END:DAYLIGHT
BEGIN:STANDARD
TZOFFSETFROM:-0500
TZOFFSETTO:-0600
TZNAME:CST
DTSTART:20251102T070000
END:STANDARD
BEGIN:DAYLIGHT
TZOFFSETFROM:-0600
TZOFFSETTO:-0500
TZNAME:CDT
DTSTART:20260308T080000
END:DAYLIGHT
BEGIN:STANDARD
TZOFFSETFROM:-0500
TZOFFSETTO:-0600
TZNAME:CST
DTSTART:20261101T070000
END:STANDARD
END:VTIMEZONE
BEGIN:VEVENT
DTSTART;TZID=America/Chicago:20250618T080000
DTEND;TZID=America/Chicago:20250618T170000
DTSTAMP:20260419T070746
CREATED:20250124T222008Z
LAST-MODIFIED:20250127T192236Z
UID:10023925-1750233600-1750266000@www.pittks.org
SUMMARY:PPRD Summer Softball Adult League
DESCRIPTION:Mixed 7/3: Tuesday\, June 3rd – July 29th \nDeadline May 28th \n  \nMixed 5/5: Wednesday\, June 4th – July 30th \nDeadline May 28th \n  \n6-week league – $300 per team. \nEnd of the season tournament following the last week of play. \nRegister by calling: 620-231-8310
URL:https://www.pittks.org/event/pprd-softball-adult-league-3/2025-06-18/
LOCATION:Don Gutteridge Sports Complex\, 702 Memorial Dr.\, Pittsburg\, KS\, 66762\, United States
CATEGORIES:Athletics
ATTACH;FMTTYPE=image/png:https://www.pittks.org/wp-content/uploads/2025/01/Summer-ASB-1.png
ORGANIZER;CN="Pittsburg Parks & Recreation Department":MAILTO:pprd@pittks.org
END:VEVENT
BEGIN:VEVENT
DTSTART;TZID=America/Chicago:20250617T080000
DTEND;TZID=America/Chicago:20250617T170000
DTSTAMP:20260419T070746
CREATED:20250124T222008Z
LAST-MODIFIED:20250127T192236Z
UID:10023924-1750147200-1750179600@www.pittks.org
SUMMARY:PPRD Summer Softball Adult League
DESCRIPTION:Mixed 7/3: Tuesday\, June 3rd – July 29th \nDeadline May 28th \n  \nMixed 5/5: Wednesday\, June 4th – July 30th \nDeadline May 28th \n  \n6-week league – $300 per team. \nEnd of the season tournament following the last week of play. \nRegister by calling: 620-231-8310
URL:https://www.pittks.org/event/pprd-softball-adult-league-3/2025-06-17/
LOCATION:Don Gutteridge Sports Complex\, 702 Memorial Dr.\, Pittsburg\, KS\, 66762\, United States
CATEGORIES:Athletics
ATTACH;FMTTYPE=image/png:https://www.pittks.org/wp-content/uploads/2025/01/Summer-ASB-1.png
ORGANIZER;CN="Pittsburg Parks & Recreation Department":MAILTO:pprd@pittks.org
END:VEVENT
BEGIN:VEVENT
DTSTART;TZID=America/Chicago:20250611T080000
DTEND;TZID=America/Chicago:20250611T170000
DTSTAMP:20260419T070746
CREATED:20250124T222008Z
LAST-MODIFIED:20250127T192236Z
UID:10023918-1749628800-1749661200@www.pittks.org
SUMMARY:PPRD Summer Softball Adult League
DESCRIPTION:Mixed 7/3: Tuesday\, June 3rd – July 29th \nDeadline May 28th \n  \nMixed 5/5: Wednesday\, June 4th – July 30th \nDeadline May 28th \n  \n6-week league – $300 per team. \nEnd of the season tournament following the last week of play. \nRegister by calling: 620-231-8310
URL:https://www.pittks.org/event/pprd-softball-adult-league-3/2025-06-11/
LOCATION:Don Gutteridge Sports Complex\, 702 Memorial Dr.\, Pittsburg\, KS\, 66762\, United States
CATEGORIES:Athletics
ATTACH;FMTTYPE=image/png:https://www.pittks.org/wp-content/uploads/2025/01/Summer-ASB-1.png
ORGANIZER;CN="Pittsburg Parks & Recreation Department":MAILTO:pprd@pittks.org
END:VEVENT
BEGIN:VEVENT
DTSTART;TZID=America/Chicago:20250610T080000
DTEND;TZID=America/Chicago:20250610T170000
DTSTAMP:20260419T070746
CREATED:20250124T222008Z
LAST-MODIFIED:20250127T192236Z
UID:10023917-1749542400-1749574800@www.pittks.org
SUMMARY:PPRD Summer Softball Adult League
DESCRIPTION:Mixed 7/3: Tuesday\, June 3rd – July 29th \nDeadline May 28th \n  \nMixed 5/5: Wednesday\, June 4th – July 30th \nDeadline May 28th \n  \n6-week league – $300 per team. \nEnd of the season tournament following the last week of play. \nRegister by calling: 620-231-8310
URL:https://www.pittks.org/event/pprd-softball-adult-league-3/2025-06-10/
LOCATION:Don Gutteridge Sports Complex\, 702 Memorial Dr.\, Pittsburg\, KS\, 66762\, United States
CATEGORIES:Athletics
ATTACH;FMTTYPE=image/png:https://www.pittks.org/wp-content/uploads/2025/01/Summer-ASB-1.png
ORGANIZER;CN="Pittsburg Parks & Recreation Department":MAILTO:pprd@pittks.org
END:VEVENT
BEGIN:VEVENT
DTSTART;TZID=America/Chicago:20250604T080000
DTEND;TZID=America/Chicago:20250604T170000
DTSTAMP:20260419T070746
CREATED:20250124T222008Z
LAST-MODIFIED:20250127T192236Z
UID:10023911-1749024000-1749056400@www.pittks.org
SUMMARY:PPRD Summer Softball Adult League
DESCRIPTION:Mixed 7/3: Tuesday\, June 3rd – July 29th \nDeadline May 28th \n  \nMixed 5/5: Wednesday\, June 4th – July 30th \nDeadline May 28th \n  \n6-week league – $300 per team. \nEnd of the season tournament following the last week of play. \nRegister by calling: 620-231-8310
URL:https://www.pittks.org/event/pprd-softball-adult-league-3/2025-06-04/
LOCATION:Don Gutteridge Sports Complex\, 702 Memorial Dr.\, Pittsburg\, KS\, 66762\, United States
CATEGORIES:Athletics
ATTACH;FMTTYPE=image/png:https://www.pittks.org/wp-content/uploads/2025/01/Summer-ASB-1.png
ORGANIZER;CN="Pittsburg Parks & Recreation Department":MAILTO:pprd@pittks.org
END:VEVENT
BEGIN:VEVENT
DTSTART;TZID=America/Chicago:20250603T080000
DTEND;TZID=America/Chicago:20250603T170000
DTSTAMP:20260419T070746
CREATED:20250124T222008Z
LAST-MODIFIED:20250127T192236Z
UID:10023910-1748937600-1748970000@www.pittks.org
SUMMARY:PPRD Summer Softball Adult League
DESCRIPTION:Mixed 7/3: Tuesday\, June 3rd – July 29th \nDeadline May 28th \n  \nMixed 5/5: Wednesday\, June 4th – July 30th \nDeadline May 28th \n  \n6-week league – $300 per team. \nEnd of the season tournament following the last week of play. \nRegister by calling: 620-231-8310
URL:https://www.pittks.org/event/pprd-softball-adult-league-3/2025-06-03/
LOCATION:Don Gutteridge Sports Complex\, 702 Memorial Dr.\, Pittsburg\, KS\, 66762\, United States
CATEGORIES:Athletics
ATTACH;FMTTYPE=image/png:https://www.pittks.org/wp-content/uploads/2025/01/Summer-ASB-1.png
ORGANIZER;CN="Pittsburg Parks & Recreation Department":MAILTO:pprd@pittks.org
END:VEVENT
BEGIN:VEVENT
DTSTART;TZID=America/Chicago:20250419T110000
DTEND;TZID=America/Chicago:20250419T113000
DTSTAMP:20260419T070746
CREATED:20250110T180417Z
LAST-MODIFIED:20250110T180417Z
UID:10023490-1745060400-1745062200@www.pittks.org
SUMMARY:2025 Easter Egg Hunt
DESCRIPTION:Easter Egg Hunt – 11AM – April 19th \n\n0-2 Years – Ted Carino Ball Field\n3-5 Years – Bill Russell Ball Field\n6-7 Years – Dale Connor Ball Field\n8-9 Years – Kelly & Bunk Ball Field\nSpecial Needs – Jaycee Ball Field\n\nSponsored By:  Al Patel \nFor more information\, please call 620-231-8310 or follow on social media for more updates.
URL:https://www.pittks.org/event/2025-easter-egg-hunt/
LOCATION:Don Gutteridge Sports Complex\, 702 Memorial Dr.\, Pittsburg\, KS\, 66762\, United States
CATEGORIES:Children
ATTACH;FMTTYPE=image/png:https://www.pittks.org/wp-content/uploads/2025/01/2025-EEH-Flyer-1.png
END:VEVENT
BEGIN:VEVENT
DTSTART;VALUE=DATE:20230829
DTEND;VALUE=DATE:20231005
DTSTAMP:20260419T070746
CREATED:20230315T192118Z
LAST-MODIFIED:20230315T192118Z
UID:10021618-1693267200-1696463999@www.pittks.org
SUMMARY:Adult Softball League
DESCRIPTION:TUESDAY 7/3 COED\nWEDNESDAY 5/5 COED \nSession 1: April 11 – May 17 | RSVP by April 4\nSession 2: May 30 – August 2 | RSVP by May 23\nSession 3: August 29 – October 4 | RSVP by August 22\nLast Week Will Be Tournament Play \n$250.00 Per Team For Session 1 & 3\n$325.00 Per Team For Session 2 \nDon Gutteridge Sports Complex \nRegister: 620.231.8310 | 710 W 9th St.
URL:https://www.pittks.org/event/adult-softball-league-4/
LOCATION:Don Gutteridge Sports Complex\, 702 Memorial Dr.\, Pittsburg\, KS\, 66762\, United States
CATEGORIES:Adults,Athletics
ATTACH;FMTTYPE=image/png:https://www.pittks.org/wp-content/uploads/2023/03/2023-Adult-Softball-League-Flyer.png
ORGANIZER;CN="Pittsburg Parks & Recreation Department":MAILTO:pprd@pittks.org
END:VEVENT
END:VCALENDAR