BEGIN:VCALENDAR
VERSION:2.0
PRODID:-//City of Pittsburg - ECPv6.15.20//NONSGML v1.0//EN
CALSCALE:GREGORIAN
METHOD:PUBLISH
X-WR-CALNAME:City of Pittsburg
X-ORIGINAL-URL:https://www.pittks.org
X-WR-CALDESC:Events for City of Pittsburg
REFRESH-INTERVAL;VALUE=DURATION:PT1H
X-Robots-Tag:noindex
X-PUBLISHED-TTL:PT1H
BEGIN:VTIMEZONE
TZID:America/Chicago
BEGIN:DAYLIGHT
TZOFFSETFROM:-0600
TZOFFSETTO:-0500
TZNAME:CDT
DTSTART:20230312T080000
END:DAYLIGHT
BEGIN:STANDARD
TZOFFSETFROM:-0500
TZOFFSETTO:-0600
TZNAME:CST
DTSTART:20231105T070000
END:STANDARD
BEGIN:DAYLIGHT
TZOFFSETFROM:-0600
TZOFFSETTO:-0500
TZNAME:CDT
DTSTART:20240310T080000
END:DAYLIGHT
BEGIN:STANDARD
TZOFFSETFROM:-0500
TZOFFSETTO:-0600
TZNAME:CST
DTSTART:20241103T070000
END:STANDARD
BEGIN:DAYLIGHT
TZOFFSETFROM:-0600
TZOFFSETTO:-0500
TZNAME:CDT
DTSTART:20250309T080000
END:DAYLIGHT
BEGIN:STANDARD
TZOFFSETFROM:-0500
TZOFFSETTO:-0600
TZNAME:CST
DTSTART:20251102T070000
END:STANDARD
BEGIN:DAYLIGHT
TZOFFSETFROM:-0600
TZOFFSETTO:-0500
TZNAME:CDT
DTSTART:20260308T080000
END:DAYLIGHT
BEGIN:STANDARD
TZOFFSETFROM:-0500
TZOFFSETTO:-0600
TZNAME:CST
DTSTART:20261101T070000
END:STANDARD
BEGIN:DAYLIGHT
TZOFFSETFROM:-0600
TZOFFSETTO:-0500
TZNAME:CDT
DTSTART:20270314T080000
END:DAYLIGHT
BEGIN:STANDARD
TZOFFSETFROM:-0500
TZOFFSETTO:-0600
TZNAME:CST
DTSTART:20271107T070000
END:STANDARD
END:VTIMEZONE
BEGIN:VEVENT
DTSTART;TZID=America/Chicago:20260408T173000
DTEND;TZID=America/Chicago:20260408T173000
DTSTAMP:20260425T140731
CREATED:20200706T202939Z
LAST-MODIFIED:20250611T165603Z
UID:10023149-1775669400-1775669400@www.pittks.org
SUMMARY:Sustainability Advisory Committee Meeting
DESCRIPTION:The Sustainability Advisory Committee will hold its regularly-scheduled monthly meeting at City Hall. The committee typically meets every second Wednesday of the month at 5:30 pm. Contact Jay Byers at (620) 230-5685.
URL:https://www.pittks.org/event/sustainability-advisory-committee-meeting/2026-04-08/
LOCATION:City Hall\, 201 W. 4th St\, Pittsburg\, Kansas\, 66762
CATEGORIES:Government
ATTACH;FMTTYPE=image/jpeg:https://www.pittks.org/wp-content/uploads/2020/07/SAC_Group_SM.jpg
END:VEVENT
BEGIN:VEVENT
DTSTART;TZID=America/Chicago:20260311T173000
DTEND;TZID=America/Chicago:20260311T173000
DTSTAMP:20260425T140731
CREATED:20200706T202939Z
LAST-MODIFIED:20250611T165603Z
UID:10023148-1773250200-1773250200@www.pittks.org
SUMMARY:Sustainability Advisory Committee Meeting
DESCRIPTION:The Sustainability Advisory Committee will hold its regularly-scheduled monthly meeting at City Hall. The committee typically meets every second Wednesday of the month at 5:30 pm. Contact Jay Byers at (620) 230-5685.
URL:https://www.pittks.org/event/sustainability-advisory-committee-meeting/2026-03-11/
LOCATION:City Hall\, 201 W. 4th St\, Pittsburg\, Kansas\, 66762
CATEGORIES:Government
ATTACH;FMTTYPE=image/jpeg:https://www.pittks.org/wp-content/uploads/2020/07/SAC_Group_SM.jpg
END:VEVENT
BEGIN:VEVENT
DTSTART;TZID=America/Chicago:20260211T173000
DTEND;TZID=America/Chicago:20260211T173000
DTSTAMP:20260425T140731
CREATED:20200706T202939Z
LAST-MODIFIED:20250611T165603Z
UID:10023147-1770831000-1770831000@www.pittks.org
SUMMARY:Sustainability Advisory Committee Meeting
DESCRIPTION:The Sustainability Advisory Committee will hold its regularly-scheduled monthly meeting at City Hall. The committee typically meets every second Wednesday of the month at 5:30 pm. Contact Jay Byers at (620) 230-5685.
URL:https://www.pittks.org/event/sustainability-advisory-committee-meeting/2026-02-11/
LOCATION:City Hall\, 201 W. 4th St\, Pittsburg\, Kansas\, 66762
CATEGORIES:Government
ATTACH;FMTTYPE=image/jpeg:https://www.pittks.org/wp-content/uploads/2020/07/SAC_Group_SM.jpg
END:VEVENT
BEGIN:VEVENT
DTSTART;TZID=America/Chicago:20260202T120000
DTEND;TZID=America/Chicago:20260202T120000
DTSTAMP:20260425T140731
CREATED:20200706T211427Z
LAST-MODIFIED:20211220T202521Z
UID:10022975-1770033600-1770033600@www.pittks.org
SUMMARY:Airport Advisory Board Meeting
DESCRIPTION:The Airport Advisory Board will hold its regularly-scheduled\, quarterly meeting at City Hall. Meetings are held on the first Monday in Feb.\, May\, Aug.\, and Nov. For details\, contact Bill Pyle at (620) 230-5134.
URL:https://www.pittks.org/event/airport-advisory-board-meeting-2020-08-03/2026-02-02/
LOCATION:City Hall\, 201 W. 4th St\, Pittsburg\, Kansas\, 66762
CATEGORIES:Government
ATTACH;FMTTYPE=image/jpeg:https://www.pittks.org/wp-content/uploads/2020/07/airport_graham_sm.jpg
END:VEVENT
BEGIN:VEVENT
DTSTART;TZID=America/Chicago:20260114T173000
DTEND;TZID=America/Chicago:20260114T173000
DTSTAMP:20260425T140731
CREATED:20200706T202939Z
LAST-MODIFIED:20250611T165603Z
UID:10023146-1768411800-1768411800@www.pittks.org
SUMMARY:Sustainability Advisory Committee Meeting
DESCRIPTION:The Sustainability Advisory Committee will hold its regularly-scheduled monthly meeting at City Hall. The committee typically meets every second Wednesday of the month at 5:30 pm. Contact Jay Byers at (620) 230-5685.
URL:https://www.pittks.org/event/sustainability-advisory-committee-meeting/2026-01-14/
LOCATION:City Hall\, 201 W. 4th St\, Pittsburg\, Kansas\, 66762
CATEGORIES:Government
ATTACH;FMTTYPE=image/jpeg:https://www.pittks.org/wp-content/uploads/2020/07/SAC_Group_SM.jpg
END:VEVENT
BEGIN:VEVENT
DTSTART;TZID=America/Chicago:20251210T173000
DTEND;TZID=America/Chicago:20251210T173000
DTSTAMP:20260425T140731
CREATED:20200706T202939Z
LAST-MODIFIED:20250611T165603Z
UID:10023145-1765387800-1765387800@www.pittks.org
SUMMARY:Sustainability Advisory Committee Meeting
DESCRIPTION:The Sustainability Advisory Committee will hold its regularly-scheduled monthly meeting at City Hall. The committee typically meets every second Wednesday of the month at 5:30 pm. Contact Jay Byers at (620) 230-5685.
URL:https://www.pittks.org/event/sustainability-advisory-committee-meeting/2025-12-10/
LOCATION:City Hall\, 201 W. 4th St\, Pittsburg\, Kansas\, 66762
CATEGORIES:Government
ATTACH;FMTTYPE=image/jpeg:https://www.pittks.org/wp-content/uploads/2020/07/SAC_Group_SM.jpg
END:VEVENT
BEGIN:VEVENT
DTSTART;TZID=America/Chicago:20251112T173000
DTEND;TZID=America/Chicago:20251112T173000
DTSTAMP:20260425T140731
CREATED:20200706T202939Z
LAST-MODIFIED:20250611T165603Z
UID:10023144-1762968600-1762968600@www.pittks.org
SUMMARY:Sustainability Advisory Committee Meeting
DESCRIPTION:The Sustainability Advisory Committee will hold its regularly-scheduled monthly meeting at City Hall. The committee typically meets every second Wednesday of the month at 5:30 pm. Contact Jay Byers at (620) 230-5685.
URL:https://www.pittks.org/event/sustainability-advisory-committee-meeting/2025-11-12/
LOCATION:City Hall\, 201 W. 4th St\, Pittsburg\, Kansas\, 66762
CATEGORIES:Government
ATTACH;FMTTYPE=image/jpeg:https://www.pittks.org/wp-content/uploads/2020/07/SAC_Group_SM.jpg
END:VEVENT
BEGIN:VEVENT
DTSTART;TZID=America/Chicago:20251103T120000
DTEND;TZID=America/Chicago:20251103T120000
DTSTAMP:20260425T140731
CREATED:20200706T211427Z
LAST-MODIFIED:20211220T202521Z
UID:10022974-1762171200-1762171200@www.pittks.org
SUMMARY:Airport Advisory Board Meeting
DESCRIPTION:The Airport Advisory Board will hold its regularly-scheduled\, quarterly meeting at City Hall. Meetings are held on the first Monday in Feb.\, May\, Aug.\, and Nov. For details\, contact Bill Pyle at (620) 230-5134.
URL:https://www.pittks.org/event/airport-advisory-board-meeting-2020-08-03/2025-11-03/
LOCATION:City Hall\, 201 W. 4th St\, Pittsburg\, Kansas\, 66762
CATEGORIES:Government
ATTACH;FMTTYPE=image/jpeg:https://www.pittks.org/wp-content/uploads/2020/07/airport_graham_sm.jpg
END:VEVENT
BEGIN:VEVENT
DTSTART;TZID=America/Chicago:20251008T173000
DTEND;TZID=America/Chicago:20251008T173000
DTSTAMP:20260425T140731
CREATED:20200706T202939Z
LAST-MODIFIED:20250611T165603Z
UID:10023143-1759944600-1759944600@www.pittks.org
SUMMARY:Sustainability Advisory Committee Meeting
DESCRIPTION:The Sustainability Advisory Committee will hold its regularly-scheduled monthly meeting at City Hall. The committee typically meets every second Wednesday of the month at 5:30 pm. Contact Jay Byers at (620) 230-5685.
URL:https://www.pittks.org/event/sustainability-advisory-committee-meeting/2025-10-08/
LOCATION:City Hall\, 201 W. 4th St\, Pittsburg\, Kansas\, 66762
CATEGORIES:Government
ATTACH;FMTTYPE=image/jpeg:https://www.pittks.org/wp-content/uploads/2020/07/SAC_Group_SM.jpg
END:VEVENT
BEGIN:VEVENT
DTSTART;TZID=America/Chicago:20250910T173000
DTEND;TZID=America/Chicago:20250910T173000
DTSTAMP:20260425T140731
CREATED:20200706T202939Z
LAST-MODIFIED:20250611T165603Z
UID:10023142-1757525400-1757525400@www.pittks.org
SUMMARY:Sustainability Advisory Committee Meeting
DESCRIPTION:The Sustainability Advisory Committee will hold its regularly-scheduled monthly meeting at City Hall. The committee typically meets every second Wednesday of the month at 5:30 pm. Contact Jay Byers at (620) 230-5685.
URL:https://www.pittks.org/event/sustainability-advisory-committee-meeting/2025-09-10/
LOCATION:City Hall\, 201 W. 4th St\, Pittsburg\, Kansas\, 66762
CATEGORIES:Government
ATTACH;FMTTYPE=image/jpeg:https://www.pittks.org/wp-content/uploads/2020/07/SAC_Group_SM.jpg
END:VEVENT
BEGIN:VEVENT
DTSTART;TZID=America/Chicago:20250813T173000
DTEND;TZID=America/Chicago:20250813T173000
DTSTAMP:20260425T140731
CREATED:20200706T202939Z
LAST-MODIFIED:20250611T165603Z
UID:10021046-1755106200-1755106200@www.pittks.org
SUMMARY:Sustainability Advisory Committee Meeting
DESCRIPTION:The Sustainability Advisory Committee will hold its regularly-scheduled monthly meeting at City Hall. The committee typically meets every second Wednesday of the month at 5:30 pm. Contact Jay Byers at (620) 230-5685.
URL:https://www.pittks.org/event/sustainability-advisory-committee-meeting/2025-08-13/
LOCATION:City Hall\, 201 W. 4th St\, Pittsburg\, Kansas\, 66762
CATEGORIES:Government
ATTACH;FMTTYPE=image/jpeg:https://www.pittks.org/wp-content/uploads/2020/07/SAC_Group_SM.jpg
END:VEVENT
BEGIN:VEVENT
DTSTART;TZID=America/Chicago:20250804T120000
DTEND;TZID=America/Chicago:20250804T120000
DTSTAMP:20260425T140731
CREATED:20200706T211427Z
LAST-MODIFIED:20211220T202521Z
UID:10021364-1754308800-1754308800@www.pittks.org
SUMMARY:Airport Advisory Board Meeting
DESCRIPTION:The Airport Advisory Board will hold its regularly-scheduled\, quarterly meeting at City Hall. Meetings are held on the first Monday in Feb.\, May\, Aug.\, and Nov. For details\, contact Bill Pyle at (620) 230-5134.
URL:https://www.pittks.org/event/airport-advisory-board-meeting-2020-08-03/2025-08-04/
LOCATION:City Hall\, 201 W. 4th St\, Pittsburg\, Kansas\, 66762
CATEGORIES:Government
ATTACH;FMTTYPE=image/jpeg:https://www.pittks.org/wp-content/uploads/2020/07/airport_graham_sm.jpg
END:VEVENT
BEGIN:VEVENT
DTSTART;TZID=America/Chicago:20250709T173000
DTEND;TZID=America/Chicago:20250709T173000
DTSTAMP:20260425T140731
CREATED:20200706T202939Z
LAST-MODIFIED:20250611T165603Z
UID:10021045-1752082200-1752082200@www.pittks.org
SUMMARY:Sustainability Advisory Committee Meeting
DESCRIPTION:The Sustainability Advisory Committee will hold its regularly-scheduled monthly meeting at City Hall. The committee typically meets every second Wednesday of the month at 5:30 pm. Contact Jay Byers at (620) 230-5685.
URL:https://www.pittks.org/event/sustainability-advisory-committee-meeting/2025-07-09/
LOCATION:City Hall\, 201 W. 4th St\, Pittsburg\, Kansas\, 66762
CATEGORIES:Government
ATTACH;FMTTYPE=image/jpeg:https://www.pittks.org/wp-content/uploads/2020/07/SAC_Group_SM.jpg
END:VEVENT
BEGIN:VEVENT
DTSTART;TZID=America/Chicago:20250611T173000
DTEND;TZID=America/Chicago:20250611T173000
DTSTAMP:20260425T140731
CREATED:20200706T202939Z
LAST-MODIFIED:20250611T165603Z
UID:10021044-1749663000-1749663000@www.pittks.org
SUMMARY:Sustainability Advisory Committee Meeting
DESCRIPTION:The Sustainability Advisory Committee will hold its regularly-scheduled monthly meeting at City Hall. The committee typically meets every second Wednesday of the month at 5:30 pm. Contact Jay Byers at (620) 230-5685.
URL:https://www.pittks.org/event/sustainability-advisory-committee-meeting/2025-06-11/
LOCATION:City Hall\, 201 W. 4th St\, Pittsburg\, Kansas\, 66762
CATEGORIES:Government
ATTACH;FMTTYPE=image/jpeg:https://www.pittks.org/wp-content/uploads/2020/07/SAC_Group_SM.jpg
END:VEVENT
BEGIN:VEVENT
DTSTART;TZID=America/Chicago:20250514T173000
DTEND;TZID=America/Chicago:20250514T173000
DTSTAMP:20260425T140731
CREATED:20200706T202939Z
LAST-MODIFIED:20250611T165603Z
UID:10021043-1747243800-1747243800@www.pittks.org
SUMMARY:Sustainability Advisory Committee Meeting
DESCRIPTION:The Sustainability Advisory Committee will hold its regularly-scheduled monthly meeting at City Hall. The committee typically meets every second Wednesday of the month at 5:30 pm. Contact Jay Byers at (620) 230-5685.
URL:https://www.pittks.org/event/sustainability-advisory-committee-meeting/2025-05-14/
LOCATION:City Hall\, 201 W. 4th St\, Pittsburg\, Kansas\, 66762
CATEGORIES:Government
ATTACH;FMTTYPE=image/jpeg:https://www.pittks.org/wp-content/uploads/2020/07/SAC_Group_SM.jpg
END:VEVENT
BEGIN:VEVENT
DTSTART;TZID=America/Chicago:20250505T120000
DTEND;TZID=America/Chicago:20250505T120000
DTSTAMP:20260425T140731
CREATED:20200706T211427Z
LAST-MODIFIED:20211220T202521Z
UID:10021363-1746446400-1746446400@www.pittks.org
SUMMARY:Airport Advisory Board Meeting
DESCRIPTION:The Airport Advisory Board will hold its regularly-scheduled\, quarterly meeting at City Hall. Meetings are held on the first Monday in Feb.\, May\, Aug.\, and Nov. For details\, contact Bill Pyle at (620) 230-5134.
URL:https://www.pittks.org/event/airport-advisory-board-meeting-2020-08-03/2025-05-05/
LOCATION:City Hall\, 201 W. 4th St\, Pittsburg\, Kansas\, 66762
CATEGORIES:Government
ATTACH;FMTTYPE=image/jpeg:https://www.pittks.org/wp-content/uploads/2020/07/airport_graham_sm.jpg
END:VEVENT
BEGIN:VEVENT
DTSTART;TZID=America/Chicago:20250409T173000
DTEND;TZID=America/Chicago:20250409T173000
DTSTAMP:20260425T140731
CREATED:20200706T202939Z
LAST-MODIFIED:20250611T165603Z
UID:10021042-1744219800-1744219800@www.pittks.org
SUMMARY:Sustainability Advisory Committee Meeting
DESCRIPTION:The Sustainability Advisory Committee will hold its regularly-scheduled monthly meeting at City Hall. The committee typically meets every second Wednesday of the month at 5:30 pm. Contact Jay Byers at (620) 230-5685.
URL:https://www.pittks.org/event/sustainability-advisory-committee-meeting/2025-04-09/
LOCATION:City Hall\, 201 W. 4th St\, Pittsburg\, Kansas\, 66762
CATEGORIES:Government
ATTACH;FMTTYPE=image/jpeg:https://www.pittks.org/wp-content/uploads/2020/07/SAC_Group_SM.jpg
END:VEVENT
BEGIN:VEVENT
DTSTART;TZID=America/Chicago:20250312T173000
DTEND;TZID=America/Chicago:20250312T173000
DTSTAMP:20260425T140731
CREATED:20200706T202939Z
LAST-MODIFIED:20250611T165603Z
UID:10021041-1741800600-1741800600@www.pittks.org
SUMMARY:Sustainability Advisory Committee Meeting
DESCRIPTION:The Sustainability Advisory Committee will hold its regularly-scheduled monthly meeting at City Hall. The committee typically meets every second Wednesday of the month at 5:30 pm. Contact Jay Byers at (620) 230-5685.
URL:https://www.pittks.org/event/sustainability-advisory-committee-meeting/2025-03-12/
LOCATION:City Hall\, 201 W. 4th St\, Pittsburg\, Kansas\, 66762
CATEGORIES:Government
ATTACH;FMTTYPE=image/jpeg:https://www.pittks.org/wp-content/uploads/2020/07/SAC_Group_SM.jpg
END:VEVENT
BEGIN:VEVENT
DTSTART;TZID=America/Chicago:20250212T173000
DTEND;TZID=America/Chicago:20250212T173000
DTSTAMP:20260425T140731
CREATED:20200706T202939Z
LAST-MODIFIED:20250611T165603Z
UID:10021040-1739381400-1739381400@www.pittks.org
SUMMARY:Sustainability Advisory Committee Meeting
DESCRIPTION:The Sustainability Advisory Committee will hold its regularly-scheduled monthly meeting at City Hall. The committee typically meets every second Wednesday of the month at 5:30 pm. Contact Jay Byers at (620) 230-5685.
URL:https://www.pittks.org/event/sustainability-advisory-committee-meeting/2025-02-12/
LOCATION:City Hall\, 201 W. 4th St\, Pittsburg\, Kansas\, 66762
CATEGORIES:Government
ATTACH;FMTTYPE=image/jpeg:https://www.pittks.org/wp-content/uploads/2020/07/SAC_Group_SM.jpg
END:VEVENT
BEGIN:VEVENT
DTSTART;TZID=America/Chicago:20250203T120000
DTEND;TZID=America/Chicago:20250203T120000
DTSTAMP:20260425T140731
CREATED:20200706T211427Z
LAST-MODIFIED:20211220T202521Z
UID:10021362-1738584000-1738584000@www.pittks.org
SUMMARY:Airport Advisory Board Meeting
DESCRIPTION:The Airport Advisory Board will hold its regularly-scheduled\, quarterly meeting at City Hall. Meetings are held on the first Monday in Feb.\, May\, Aug.\, and Nov. For details\, contact Bill Pyle at (620) 230-5134.
URL:https://www.pittks.org/event/airport-advisory-board-meeting-2020-08-03/2025-02-03/
LOCATION:City Hall\, 201 W. 4th St\, Pittsburg\, Kansas\, 66762
CATEGORIES:Government
ATTACH;FMTTYPE=image/jpeg:https://www.pittks.org/wp-content/uploads/2020/07/airport_graham_sm.jpg
END:VEVENT
BEGIN:VEVENT
DTSTART;TZID=America/Chicago:20250108T173000
DTEND;TZID=America/Chicago:20250108T173000
DTSTAMP:20260425T140731
CREATED:20200706T202939Z
LAST-MODIFIED:20250611T165603Z
UID:10021039-1736357400-1736357400@www.pittks.org
SUMMARY:Sustainability Advisory Committee Meeting
DESCRIPTION:The Sustainability Advisory Committee will hold its regularly-scheduled monthly meeting at City Hall. The committee typically meets every second Wednesday of the month at 5:30 pm. Contact Jay Byers at (620) 230-5685.
URL:https://www.pittks.org/event/sustainability-advisory-committee-meeting/2025-01-08/
LOCATION:City Hall\, 201 W. 4th St\, Pittsburg\, Kansas\, 66762
CATEGORIES:Government
ATTACH;FMTTYPE=image/jpeg:https://www.pittks.org/wp-content/uploads/2020/07/SAC_Group_SM.jpg
END:VEVENT
BEGIN:VEVENT
DTSTART;TZID=America/Chicago:20241211T173000
DTEND;TZID=America/Chicago:20241211T173000
DTSTAMP:20260425T140731
CREATED:20200706T202939Z
LAST-MODIFIED:20250611T165603Z
UID:10021038-1733938200-1733938200@www.pittks.org
SUMMARY:Sustainability Advisory Committee Meeting
DESCRIPTION:The Sustainability Advisory Committee will hold its regularly-scheduled monthly meeting at City Hall. The committee typically meets every second Wednesday of the month at 5:30 pm. Contact Jay Byers at (620) 230-5685.
URL:https://www.pittks.org/event/sustainability-advisory-committee-meeting/2024-12-11/
LOCATION:City Hall\, 201 W. 4th St\, Pittsburg\, Kansas\, 66762
CATEGORIES:Government
ATTACH;FMTTYPE=image/jpeg:https://www.pittks.org/wp-content/uploads/2020/07/SAC_Group_SM.jpg
END:VEVENT
BEGIN:VEVENT
DTSTART;TZID=America/Chicago:20241113T173000
DTEND;TZID=America/Chicago:20241113T173000
DTSTAMP:20260425T140731
CREATED:20200706T202939Z
LAST-MODIFIED:20250611T165603Z
UID:10021037-1731519000-1731519000@www.pittks.org
SUMMARY:Sustainability Advisory Committee Meeting
DESCRIPTION:The Sustainability Advisory Committee will hold its regularly-scheduled monthly meeting at City Hall. The committee typically meets every second Wednesday of the month at 5:30 pm. Contact Jay Byers at (620) 230-5685.
URL:https://www.pittks.org/event/sustainability-advisory-committee-meeting/2024-11-13/
LOCATION:City Hall\, 201 W. 4th St\, Pittsburg\, Kansas\, 66762
CATEGORIES:Government
ATTACH;FMTTYPE=image/jpeg:https://www.pittks.org/wp-content/uploads/2020/07/SAC_Group_SM.jpg
END:VEVENT
BEGIN:VEVENT
DTSTART;TZID=America/Chicago:20241104T120000
DTEND;TZID=America/Chicago:20241104T120000
DTSTAMP:20260425T140731
CREATED:20200706T211427Z
LAST-MODIFIED:20211220T202521Z
UID:10021361-1730721600-1730721600@www.pittks.org
SUMMARY:Airport Advisory Board Meeting
DESCRIPTION:The Airport Advisory Board will hold its regularly-scheduled\, quarterly meeting at City Hall. Meetings are held on the first Monday in Feb.\, May\, Aug.\, and Nov. For details\, contact Bill Pyle at (620) 230-5134.
URL:https://www.pittks.org/event/airport-advisory-board-meeting-2020-08-03/2024-11-04/
LOCATION:City Hall\, 201 W. 4th St\, Pittsburg\, Kansas\, 66762
CATEGORIES:Government
ATTACH;FMTTYPE=image/jpeg:https://www.pittks.org/wp-content/uploads/2020/07/airport_graham_sm.jpg
END:VEVENT
BEGIN:VEVENT
DTSTART;TZID=America/Chicago:20241031T150000
DTEND;TZID=America/Chicago:20241031T170000
DTSTAMP:20260425T140731
CREATED:20241022T154432Z
LAST-MODIFIED:20241022T154432Z
UID:10023237-1730386800-1730394000@www.pittks.org
SUMMARY:City of Pittsburg's Trunk-or-Treat
DESCRIPTION:The City of Pittsburg’s Trunk-or-Treat event will be at City Hall from 3:00 pm to 5:00 pm. It will start in the alley between City Hall and the Pittsburg Public Library.
URL:https://www.pittks.org/event/city-of-pittsburgs-trunk-or-treat/
LOCATION:City Hall\, 201 W. 4th St\, Pittsburg\, Kansas\, 66762
CATEGORIES:Children,Holiday
ATTACH;FMTTYPE=image/jpeg:https://www.pittks.org/wp-content/uploads/2024/10/463439981_946268374194876_1774983855627090842_n.jpg
END:VEVENT
BEGIN:VEVENT
DTSTART;TZID=America/Chicago:20241009T173000
DTEND;TZID=America/Chicago:20241009T173000
DTSTAMP:20260425T140731
CREATED:20200706T202939Z
LAST-MODIFIED:20250611T165603Z
UID:10021036-1728495000-1728495000@www.pittks.org
SUMMARY:Sustainability Advisory Committee Meeting
DESCRIPTION:The Sustainability Advisory Committee will hold its regularly-scheduled monthly meeting at City Hall. The committee typically meets every second Wednesday of the month at 5:30 pm. Contact Jay Byers at (620) 230-5685.
URL:https://www.pittks.org/event/sustainability-advisory-committee-meeting/2024-10-09/
LOCATION:City Hall\, 201 W. 4th St\, Pittsburg\, Kansas\, 66762
CATEGORIES:Government
ATTACH;FMTTYPE=image/jpeg:https://www.pittks.org/wp-content/uploads/2020/07/SAC_Group_SM.jpg
END:VEVENT
BEGIN:VEVENT
DTSTART;TZID=America/Chicago:20240911T173000
DTEND;TZID=America/Chicago:20240911T173000
DTSTAMP:20260425T140731
CREATED:20200706T202939Z
LAST-MODIFIED:20250611T165603Z
UID:10021035-1726075800-1726075800@www.pittks.org
SUMMARY:Sustainability Advisory Committee Meeting
DESCRIPTION:The Sustainability Advisory Committee will hold its regularly-scheduled monthly meeting at City Hall. The committee typically meets every second Wednesday of the month at 5:30 pm. Contact Jay Byers at (620) 230-5685.
URL:https://www.pittks.org/event/sustainability-advisory-committee-meeting/2024-09-11/
LOCATION:City Hall\, 201 W. 4th St\, Pittsburg\, Kansas\, 66762
CATEGORIES:Government
ATTACH;FMTTYPE=image/jpeg:https://www.pittks.org/wp-content/uploads/2020/07/SAC_Group_SM.jpg
END:VEVENT
BEGIN:VEVENT
DTSTART;TZID=America/Chicago:20240814T173000
DTEND;TZID=America/Chicago:20240814T173000
DTSTAMP:20260425T140731
CREATED:20200706T202939Z
LAST-MODIFIED:20250611T165603Z
UID:10021034-1723656600-1723656600@www.pittks.org
SUMMARY:Sustainability Advisory Committee Meeting
DESCRIPTION:The Sustainability Advisory Committee will hold its regularly-scheduled monthly meeting at City Hall. The committee typically meets every second Wednesday of the month at 5:30 pm. Contact Jay Byers at (620) 230-5685.
URL:https://www.pittks.org/event/sustainability-advisory-committee-meeting/2024-08-14/
LOCATION:City Hall\, 201 W. 4th St\, Pittsburg\, Kansas\, 66762
CATEGORIES:Government
ATTACH;FMTTYPE=image/jpeg:https://www.pittks.org/wp-content/uploads/2020/07/SAC_Group_SM.jpg
END:VEVENT
BEGIN:VEVENT
DTSTART;TZID=America/Chicago:20240805T120000
DTEND;TZID=America/Chicago:20240805T120000
DTSTAMP:20260425T140731
CREATED:20200706T211427Z
LAST-MODIFIED:20211220T202521Z
UID:10021360-1722859200-1722859200@www.pittks.org
SUMMARY:Airport Advisory Board Meeting
DESCRIPTION:The Airport Advisory Board will hold its regularly-scheduled\, quarterly meeting at City Hall. Meetings are held on the first Monday in Feb.\, May\, Aug.\, and Nov. For details\, contact Bill Pyle at (620) 230-5134.
URL:https://www.pittks.org/event/airport-advisory-board-meeting-2020-08-03/2024-08-05/
LOCATION:City Hall\, 201 W. 4th St\, Pittsburg\, Kansas\, 66762
CATEGORIES:Government
ATTACH;FMTTYPE=image/jpeg:https://www.pittks.org/wp-content/uploads/2020/07/airport_graham_sm.jpg
END:VEVENT
BEGIN:VEVENT
DTSTART;TZID=America/Chicago:20240710T173000
DTEND;TZID=America/Chicago:20240710T173000
DTSTAMP:20260425T140731
CREATED:20200706T202939Z
LAST-MODIFIED:20250611T165603Z
UID:10021033-1720632600-1720632600@www.pittks.org
SUMMARY:Sustainability Advisory Committee Meeting
DESCRIPTION:The Sustainability Advisory Committee will hold its regularly-scheduled monthly meeting at City Hall. The committee typically meets every second Wednesday of the month at 5:30 pm. Contact Jay Byers at (620) 230-5685.
URL:https://www.pittks.org/event/sustainability-advisory-committee-meeting/2024-07-10/
LOCATION:City Hall\, 201 W. 4th St\, Pittsburg\, Kansas\, 66762
CATEGORIES:Government
ATTACH;FMTTYPE=image/jpeg:https://www.pittks.org/wp-content/uploads/2020/07/SAC_Group_SM.jpg
END:VEVENT
END:VCALENDAR