BEGIN:VCALENDAR
VERSION:2.0
PRODID:-//City of Pittsburg - ECPv6.15.20//NONSGML v1.0//EN
CALSCALE:GREGORIAN
METHOD:PUBLISH
X-WR-CALNAME:City of Pittsburg
X-ORIGINAL-URL:https://www.pittks.org
X-WR-CALDESC:Events for City of Pittsburg
REFRESH-INTERVAL;VALUE=DURATION:PT1H
X-Robots-Tag:noindex
X-PUBLISHED-TTL:PT1H
BEGIN:VTIMEZONE
TZID:America/Chicago
BEGIN:DAYLIGHT
TZOFFSETFROM:-0600
TZOFFSETTO:-0500
TZNAME:CDT
DTSTART:20230312T080000
END:DAYLIGHT
BEGIN:STANDARD
TZOFFSETFROM:-0500
TZOFFSETTO:-0600
TZNAME:CST
DTSTART:20231105T070000
END:STANDARD
BEGIN:DAYLIGHT
TZOFFSETFROM:-0600
TZOFFSETTO:-0500
TZNAME:CDT
DTSTART:20240310T080000
END:DAYLIGHT
BEGIN:STANDARD
TZOFFSETFROM:-0500
TZOFFSETTO:-0600
TZNAME:CST
DTSTART:20241103T070000
END:STANDARD
BEGIN:DAYLIGHT
TZOFFSETFROM:-0600
TZOFFSETTO:-0500
TZNAME:CDT
DTSTART:20250309T080000
END:DAYLIGHT
BEGIN:STANDARD
TZOFFSETFROM:-0500
TZOFFSETTO:-0600
TZNAME:CST
DTSTART:20251102T070000
END:STANDARD
END:VTIMEZONE
BEGIN:VEVENT
DTSTART;TZID=America/Chicago:20240326T173000
DTEND;TZID=America/Chicago:20240326T200000
DTSTAMP:20260419T085926
CREATED:20240206T225638Z
LAST-MODIFIED:20240206T225638Z
UID:10022701-1711474200-1711483200@www.pittks.org
SUMMARY:Bags to Riches\, An Evening on the Ranch
DESCRIPTION:Dust off your boots and join us for our 13th annual Bags to Riches\, Ladies Night Out fundraiser. Reuben Schrock & his team will be returning to help us with our live purse auction!\n\n\nMore information is coming soon.
URL:https://www.pittks.org/event/bags-to-riches-an-evening-on-the-ranch/
LOCATION:Memorial Auditorium\, 503 N. Pine St.\, Pittsburg\, KS\, 66762\, United States
CATEGORIES:Adults,Celebrations/Fundraisers,Memorial Auditorium
ATTACH;FMTTYPE=image/jpeg:https://www.pittks.org/wp-content/uploads/2024/02/Bags_to_riches.jpg
END:VEVENT
END:VCALENDAR