BEGIN:VCALENDAR
VERSION:2.0
PRODID:-//City of Pittsburg - ECPv6.15.20//NONSGML v1.0//EN
CALSCALE:GREGORIAN
METHOD:PUBLISH
X-WR-CALNAME:City of Pittsburg
X-ORIGINAL-URL:https://www.pittks.org
X-WR-CALDESC:Events for City of Pittsburg
REFRESH-INTERVAL;VALUE=DURATION:PT1H
X-Robots-Tag:noindex
X-PUBLISHED-TTL:PT1H
BEGIN:VTIMEZONE
TZID:America/Chicago
BEGIN:DAYLIGHT
TZOFFSETFROM:-0600
TZOFFSETTO:-0500
TZNAME:CDT
DTSTART:20240310T080000
END:DAYLIGHT
BEGIN:STANDARD
TZOFFSETFROM:-0500
TZOFFSETTO:-0600
TZNAME:CST
DTSTART:20241103T070000
END:STANDARD
BEGIN:DAYLIGHT
TZOFFSETFROM:-0600
TZOFFSETTO:-0500
TZNAME:CDT
DTSTART:20250309T080000
END:DAYLIGHT
BEGIN:STANDARD
TZOFFSETFROM:-0500
TZOFFSETTO:-0600
TZNAME:CST
DTSTART:20251102T070000
END:STANDARD
BEGIN:DAYLIGHT
TZOFFSETFROM:-0600
TZOFFSETTO:-0500
TZNAME:CDT
DTSTART:20260308T080000
END:DAYLIGHT
BEGIN:STANDARD
TZOFFSETFROM:-0500
TZOFFSETTO:-0600
TZNAME:CST
DTSTART:20261101T070000
END:STANDARD
END:VTIMEZONE
BEGIN:VEVENT
DTSTART;TZID=America/Chicago:20250902T080000
DTEND;TZID=America/Chicago:20250902T170000
DTSTAMP:20260423T172906
CREATED:20250127T214037Z
LAST-MODIFIED:20250127T214037Z
UID:10024022-1756800000-1756832400@www.pittks.org
SUMMARY:PPRD Fall Softball Adult League
DESCRIPTION:Mixed 7/3: Tuesday\, September 2nd – October 29th \n  \nMixed 5/5: Wednesday\, September 3nd – October 30th \n  \n6-week league – $300 per team. \nEnd of the season tournament following the last week of play. \nRegister by calling: 620-231-8310
URL:https://www.pittks.org/event/pprd-fall-softball-adult-league/2025-09-02/
CATEGORIES:Adults,Athletics
ATTACH;FMTTYPE=image/png:https://www.pittks.org/wp-content/uploads/2025/01/Fall-ASB-2-1.png
ORGANIZER;CN="Pittsburg Parks & Recreation Department":MAILTO:pprd@pittks.org
END:VEVENT
BEGIN:VEVENT
DTSTART;TZID=America/Chicago:20250903T080000
DTEND;TZID=America/Chicago:20250903T170000
DTSTAMP:20260423T172906
CREATED:20250127T214037Z
LAST-MODIFIED:20250127T214037Z
UID:10024023-1756886400-1756918800@www.pittks.org
SUMMARY:PPRD Fall Softball Adult League
DESCRIPTION:Mixed 7/3: Tuesday\, September 2nd – October 29th \n  \nMixed 5/5: Wednesday\, September 3nd – October 30th \n  \n6-week league – $300 per team. \nEnd of the season tournament following the last week of play. \nRegister by calling: 620-231-8310
URL:https://www.pittks.org/event/pprd-fall-softball-adult-league/2025-09-03/
CATEGORIES:Adults,Athletics
ATTACH;FMTTYPE=image/png:https://www.pittks.org/wp-content/uploads/2025/01/Fall-ASB-2-1.png
ORGANIZER;CN="Pittsburg Parks & Recreation Department":MAILTO:pprd@pittks.org
END:VEVENT
BEGIN:VEVENT
DTSTART;TZID=America/Chicago:20250909T080000
DTEND;TZID=America/Chicago:20250909T170000
DTSTAMP:20260423T172906
CREATED:20250127T214037Z
LAST-MODIFIED:20250127T214037Z
UID:10024024-1757404800-1757437200@www.pittks.org
SUMMARY:PPRD Fall Softball Adult League
DESCRIPTION:Mixed 7/3: Tuesday\, September 2nd – October 29th \n  \nMixed 5/5: Wednesday\, September 3nd – October 30th \n  \n6-week league – $300 per team. \nEnd of the season tournament following the last week of play. \nRegister by calling: 620-231-8310
URL:https://www.pittks.org/event/pprd-fall-softball-adult-league/2025-09-09/
CATEGORIES:Adults,Athletics
ATTACH;FMTTYPE=image/png:https://www.pittks.org/wp-content/uploads/2025/01/Fall-ASB-2-1.png
ORGANIZER;CN="Pittsburg Parks & Recreation Department":MAILTO:pprd@pittks.org
END:VEVENT
BEGIN:VEVENT
DTSTART;TZID=America/Chicago:20250910T080000
DTEND;TZID=America/Chicago:20250910T170000
DTSTAMP:20260423T172906
CREATED:20250127T214037Z
LAST-MODIFIED:20250127T214037Z
UID:10024025-1757491200-1757523600@www.pittks.org
SUMMARY:PPRD Fall Softball Adult League
DESCRIPTION:Mixed 7/3: Tuesday\, September 2nd – October 29th \n  \nMixed 5/5: Wednesday\, September 3nd – October 30th \n  \n6-week league – $300 per team. \nEnd of the season tournament following the last week of play. \nRegister by calling: 620-231-8310
URL:https://www.pittks.org/event/pprd-fall-softball-adult-league/2025-09-10/
CATEGORIES:Adults,Athletics
ATTACH;FMTTYPE=image/png:https://www.pittks.org/wp-content/uploads/2025/01/Fall-ASB-2-1.png
ORGANIZER;CN="Pittsburg Parks & Recreation Department":MAILTO:pprd@pittks.org
END:VEVENT
BEGIN:VEVENT
DTSTART;TZID=America/Chicago:20250912T130000
DTEND;TZID=America/Chicago:20250912T150000
DTSTAMP:20260423T172906
CREATED:20250113T173833Z
LAST-MODIFIED:20250925T184253Z
UID:10023878-1757682000-1757689200@www.pittks.org
SUMMARY:Senior Bingo
DESCRIPTION:Senior Bingo\nJoin us for an unforgettable afternoon of excitement\, camaraderie\, and the thrill of the win at Bingo! \n🕒 Time: Bingo Starts at 1:00pm\, Snack at 2:00pm📍 Location: Lincoln Center\, 710 W 9th St.🎟️ Admission: $0.50 Per Meeting\, $0.25 Per Card \nJANUARY 10 & 17 | LINCOLN CENTER\, 710 W 9TH ST \nNO BINGO FEBRUARY \nMARCH  7 & 28 | LINCOLN CENTER\, 710 W 9TH ST \nAPRIL 4\, 11\, & 25 | LINCOLN CENTER\, 710 W 9TH S T \nMAY 9 | LINCOLN CENTER\, 710 W 9TH ST \nJUNE 6 & 13 | HOMER COLE \, 3003 N JOPLIN ST . \nJULY 11 | HOMER COLE \, 3003 N JOPLIN ST . \nAUGUST 22 | LINCOLN CENTER\, 710 W 9TH ST \nSEPTEMBER 12 & 26 | LINCOLN CENTER\, 710 W 9TH ST \nOCTOBER 2\, 3\, 30 & 31 | L INCOLN CENTER\, 710 W 9TH ST \nNOVEMBER 6\, 14\, 20 & 21 | LINCOLN CENTER\, 710 W 9TH ST \nDECEMBER 4\, 5\, 11\, 12\, 18 & 19 | LINCOLN CENTER\, 710 W 9TH ST
URL:https://www.pittks.org/event/senior-bingo/2025-09-12/
CATEGORIES:Seniors
ATTACH;FMTTYPE=image/png:https://www.pittks.org/wp-content/uploads/2025/01/2025-Fall-Senior-Bingo-1.png
ORGANIZER;CN="Pittsburg Parks & Recreation Department":MAILTO:pprd@pittks.org
END:VEVENT
BEGIN:VEVENT
DTSTART;TZID=America/Chicago:20250916T080000
DTEND;TZID=America/Chicago:20250916T170000
DTSTAMP:20260423T172906
CREATED:20250127T214037Z
LAST-MODIFIED:20250127T214037Z
UID:10024026-1758009600-1758042000@www.pittks.org
SUMMARY:PPRD Fall Softball Adult League
DESCRIPTION:Mixed 7/3: Tuesday\, September 2nd – October 29th \n  \nMixed 5/5: Wednesday\, September 3nd – October 30th \n  \n6-week league – $300 per team. \nEnd of the season tournament following the last week of play. \nRegister by calling: 620-231-8310
URL:https://www.pittks.org/event/pprd-fall-softball-adult-league/2025-09-16/
CATEGORIES:Adults,Athletics
ATTACH;FMTTYPE=image/png:https://www.pittks.org/wp-content/uploads/2025/01/Fall-ASB-2-1.png
ORGANIZER;CN="Pittsburg Parks & Recreation Department":MAILTO:pprd@pittks.org
END:VEVENT
BEGIN:VEVENT
DTSTART;TZID=America/Chicago:20250917T080000
DTEND;TZID=America/Chicago:20250917T170000
DTSTAMP:20260423T172906
CREATED:20250127T214037Z
LAST-MODIFIED:20250127T214037Z
UID:10024027-1758096000-1758128400@www.pittks.org
SUMMARY:PPRD Fall Softball Adult League
DESCRIPTION:Mixed 7/3: Tuesday\, September 2nd – October 29th \n  \nMixed 5/5: Wednesday\, September 3nd – October 30th \n  \n6-week league – $300 per team. \nEnd of the season tournament following the last week of play. \nRegister by calling: 620-231-8310
URL:https://www.pittks.org/event/pprd-fall-softball-adult-league/2025-09-17/
CATEGORIES:Adults,Athletics
ATTACH;FMTTYPE=image/png:https://www.pittks.org/wp-content/uploads/2025/01/Fall-ASB-2-1.png
ORGANIZER;CN="Pittsburg Parks & Recreation Department":MAILTO:pprd@pittks.org
END:VEVENT
BEGIN:VEVENT
DTSTART;TZID=America/Chicago:20250920T170000
DTEND;TZID=America/Chicago:20250920T210000
DTSTAMP:20260423T172906
CREATED:20250228T210035Z
LAST-MODIFIED:20250812T144029Z
UID:10024422-1758387600-1758402000@www.pittks.org
SUMMARY:2025 Fall Pittsburg Artwalk
DESCRIPTION:The Pittsburg ArtWalk is celebrating 19 incredible years! This highly anticipated bi-annual event\, organized by the Pittsburg Arts Council\, brings together the finest local artists to showcase their exceptional talents across various forms of art. From stunning 2D and 3D artwork to captivating live performances\, there’s something for everyone to enjoy! \nWhat to Expect: \n\nAmazing Art Displays – Discover a diverse collection of works\, including paintings\, sculptures\, photography\, and more.\nLive Music & Entertainment – Experience performances from talented local musicians and performers.\nExciting Art Demonstrations – Watch artists in action and learn more about their creative processes.\nDelicious Local Food Vendors – Savor the flavors of Pittsburg with a variety of food and drink options.\nLively Festival Atmosphere – Engage in community activities and soak in the vibrant energy of the Arts District.\nArt for Purchase – Add unique and exceptional pieces to your collection while supporting local artists.\n\nMake it a weekend getaway! Stay at one of the cozy Airbnbs in the Arts District\, enjoy Pittsburg’s fantastic local restaurants\, and experience the nightlife all weekend long. \nEnjoy Responsibly with Common Consumption!\nAs always\, you can sip your favorite drinks while exploring the amazing art exhibits and attractions within the ArtWalk boundaries. We kindly remind everyone to drink responsibly and follow all guidelines to ensure a safe and enjoyable experience. Cheers to an unforgettable ArtWalk! \nLocation: 4th to 7th Street on Broadway\, Pittsburg Arts District\, Downtown Pittsburg\, KS\nMark your calendars and invite your friends! \nSign up today to participate or sponsor the event! https://pittsburgartscouncil.com/event-applications \nStay updated by following us on:\nInstagram: @PittsburgArtWalk\nFacebook: @PittsburgArtWalk \nFor vendor and sponsorship inquiries\, contact us at PittsburgArtWalk@gmail.com!
URL:https://www.pittks.org/event/fall-artwalk/
LOCATION:Downtown Pittsburg\, Downtown\, Pittsburg\, KS\, 66762\, United States
CATEGORIES:Adults,Celebrations/Fundraisers,Children,Civic Engagement,Crafts & Traditional Arts,Downtown,Enrichment/Learning,Fine & Performing Arts,Food,Kids,Nightlife
ATTACH;FMTTYPE=image/jpeg:https://www.pittks.org/wp-content/uploads/2022/09/IMG_7649-scaled-e1688749369627.jpg
ORGANIZER;CN="Pittsburg ArtWalk":MAILTO:pittsburgartwalk@gmail.com
END:VEVENT
BEGIN:VEVENT
DTSTART;TZID=America/Chicago:20250923T080000
DTEND;TZID=America/Chicago:20250923T170000
DTSTAMP:20260423T172906
CREATED:20250127T214037Z
LAST-MODIFIED:20250127T214037Z
UID:10024028-1758614400-1758646800@www.pittks.org
SUMMARY:PPRD Fall Softball Adult League
DESCRIPTION:Mixed 7/3: Tuesday\, September 2nd – October 29th \n  \nMixed 5/5: Wednesday\, September 3nd – October 30th \n  \n6-week league – $300 per team. \nEnd of the season tournament following the last week of play. \nRegister by calling: 620-231-8310
URL:https://www.pittks.org/event/pprd-fall-softball-adult-league/2025-09-23/
CATEGORIES:Adults,Athletics
ATTACH;FMTTYPE=image/png:https://www.pittks.org/wp-content/uploads/2025/01/Fall-ASB-2-1.png
ORGANIZER;CN="Pittsburg Parks & Recreation Department":MAILTO:pprd@pittks.org
END:VEVENT
BEGIN:VEVENT
DTSTART;TZID=America/Chicago:20250924T080000
DTEND;TZID=America/Chicago:20250924T170000
DTSTAMP:20260423T172906
CREATED:20250127T214037Z
LAST-MODIFIED:20250127T214037Z
UID:10024029-1758700800-1758733200@www.pittks.org
SUMMARY:PPRD Fall Softball Adult League
DESCRIPTION:Mixed 7/3: Tuesday\, September 2nd – October 29th \n  \nMixed 5/5: Wednesday\, September 3nd – October 30th \n  \n6-week league – $300 per team. \nEnd of the season tournament following the last week of play. \nRegister by calling: 620-231-8310
URL:https://www.pittks.org/event/pprd-fall-softball-adult-league/2025-09-24/
CATEGORIES:Adults,Athletics
ATTACH;FMTTYPE=image/png:https://www.pittks.org/wp-content/uploads/2025/01/Fall-ASB-2-1.png
ORGANIZER;CN="Pittsburg Parks & Recreation Department":MAILTO:pprd@pittks.org
END:VEVENT
BEGIN:VEVENT
DTSTART;TZID=America/Chicago:20250926T130000
DTEND;TZID=America/Chicago:20250926T150000
DTSTAMP:20260423T172906
CREATED:20250113T173833Z
LAST-MODIFIED:20250925T184253Z
UID:10023879-1758891600-1758898800@www.pittks.org
SUMMARY:Senior Bingo
DESCRIPTION:Senior Bingo\nJoin us for an unforgettable afternoon of excitement\, camaraderie\, and the thrill of the win at Bingo! \n🕒 Time: Bingo Starts at 1:00pm\, Snack at 2:00pm📍 Location: Lincoln Center\, 710 W 9th St.🎟️ Admission: $0.50 Per Meeting\, $0.25 Per Card \nJANUARY 10 & 17 | LINCOLN CENTER\, 710 W 9TH ST \nNO BINGO FEBRUARY \nMARCH  7 & 28 | LINCOLN CENTER\, 710 W 9TH ST \nAPRIL 4\, 11\, & 25 | LINCOLN CENTER\, 710 W 9TH S T \nMAY 9 | LINCOLN CENTER\, 710 W 9TH ST \nJUNE 6 & 13 | HOMER COLE \, 3003 N JOPLIN ST . \nJULY 11 | HOMER COLE \, 3003 N JOPLIN ST . \nAUGUST 22 | LINCOLN CENTER\, 710 W 9TH ST \nSEPTEMBER 12 & 26 | LINCOLN CENTER\, 710 W 9TH ST \nOCTOBER 2\, 3\, 30 & 31 | L INCOLN CENTER\, 710 W 9TH ST \nNOVEMBER 6\, 14\, 20 & 21 | LINCOLN CENTER\, 710 W 9TH ST \nDECEMBER 4\, 5\, 11\, 12\, 18 & 19 | LINCOLN CENTER\, 710 W 9TH ST
URL:https://www.pittks.org/event/senior-bingo/2025-09-26/
CATEGORIES:Seniors
ATTACH;FMTTYPE=image/png:https://www.pittks.org/wp-content/uploads/2025/01/2025-Fall-Senior-Bingo-1.png
ORGANIZER;CN="Pittsburg Parks & Recreation Department":MAILTO:pprd@pittks.org
END:VEVENT
BEGIN:VEVENT
DTSTART;TZID=America/Chicago:20250930T080000
DTEND;TZID=America/Chicago:20250930T170000
DTSTAMP:20260423T172906
CREATED:20250127T214037Z
LAST-MODIFIED:20250127T214037Z
UID:10024030-1759219200-1759251600@www.pittks.org
SUMMARY:PPRD Fall Softball Adult League
DESCRIPTION:Mixed 7/3: Tuesday\, September 2nd – October 29th \n  \nMixed 5/5: Wednesday\, September 3nd – October 30th \n  \n6-week league – $300 per team. \nEnd of the season tournament following the last week of play. \nRegister by calling: 620-231-8310
URL:https://www.pittks.org/event/pprd-fall-softball-adult-league/2025-09-30/
CATEGORIES:Adults,Athletics
ATTACH;FMTTYPE=image/png:https://www.pittks.org/wp-content/uploads/2025/01/Fall-ASB-2-1.png
ORGANIZER;CN="Pittsburg Parks & Recreation Department":MAILTO:pprd@pittks.org
END:VEVENT
END:VCALENDAR