BEGIN:VCALENDAR
VERSION:2.0
PRODID:-//City of Pittsburg - ECPv6.15.20//NONSGML v1.0//EN
CALSCALE:GREGORIAN
METHOD:PUBLISH
X-WR-CALNAME:City of Pittsburg
X-ORIGINAL-URL:https://www.pittks.org
X-WR-CALDESC:Events for City of Pittsburg
REFRESH-INTERVAL;VALUE=DURATION:PT1H
X-Robots-Tag:noindex
X-PUBLISHED-TTL:PT1H
BEGIN:VTIMEZONE
TZID:America/Chicago
BEGIN:DAYLIGHT
TZOFFSETFROM:-0600
TZOFFSETTO:-0500
TZNAME:CDT
DTSTART:20240310T080000
END:DAYLIGHT
BEGIN:STANDARD
TZOFFSETFROM:-0500
TZOFFSETTO:-0600
TZNAME:CST
DTSTART:20241103T070000
END:STANDARD
BEGIN:DAYLIGHT
TZOFFSETFROM:-0600
TZOFFSETTO:-0500
TZNAME:CDT
DTSTART:20250309T080000
END:DAYLIGHT
BEGIN:STANDARD
TZOFFSETFROM:-0500
TZOFFSETTO:-0600
TZNAME:CST
DTSTART:20251102T070000
END:STANDARD
BEGIN:DAYLIGHT
TZOFFSETFROM:-0600
TZOFFSETTO:-0500
TZNAME:CDT
DTSTART:20260308T080000
END:DAYLIGHT
BEGIN:STANDARD
TZOFFSETFROM:-0500
TZOFFSETTO:-0600
TZNAME:CST
DTSTART:20261101T070000
END:STANDARD
END:VTIMEZONE
BEGIN:VEVENT
DTSTART;TZID=America/Chicago:20250808T103000
DTEND;TZID=America/Chicago:20250808T113000
DTSTAMP:20260423T224022
CREATED:20250203T210459Z
LAST-MODIFIED:20250203T210459Z
UID:10024412-1754649000-1754652600@www.pittks.org
SUMMARY:Special Population
DESCRIPTION:Our “Special Pops” program is for our adapted/special needs community members. We partner with several organizations\, such Class LTD\, New Hope\, Skil\, and Special Olympics for SEK\, to make learning new sports fun and adaptive. \nJune 6th – Kickball at Jaycee Ballpark \nJuly 11th – Basketball at Schlanger Park \nAugust 8th – Pickleball at Jack Johnson Courts \n– \nRegister – 620.231.8310 OR 710 W 9TH ST. \nEVENT TIME: 10:30AM-11:30AM\nThese events are free!
URL:https://www.pittks.org/event/special-population/2025-08-08/
LOCATION:Lincoln Park\, 813 Memorial Dr\, Pittsburg\, Kansas\, 66762\, United States
CATEGORIES:Athletics
ATTACH;FMTTYPE=image/png:https://www.pittks.org/wp-content/uploads/2025/02/Special-Pops-1.png
ORGANIZER;CN="Pittsburg Parks & Recreation Department":MAILTO:pprd@pittks.org
END:VEVENT
BEGIN:VEVENT
DTSTART;TZID=America/Chicago:20250822T130000
DTEND;TZID=America/Chicago:20250822T150000
DTSTAMP:20260423T224022
CREATED:20250113T173833Z
LAST-MODIFIED:20250925T184253Z
UID:10023877-1755867600-1755874800@www.pittks.org
SUMMARY:Senior Bingo
DESCRIPTION:Senior Bingo\nJoin us for an unforgettable afternoon of excitement\, camaraderie\, and the thrill of the win at Bingo! \n🕒 Time: Bingo Starts at 1:00pm\, Snack at 2:00pm📍 Location: Lincoln Center\, 710 W 9th St.🎟️ Admission: $0.50 Per Meeting\, $0.25 Per Card \nJANUARY 10 & 17 | LINCOLN CENTER\, 710 W 9TH ST \nNO BINGO FEBRUARY \nMARCH  7 & 28 | LINCOLN CENTER\, 710 W 9TH ST \nAPRIL 4\, 11\, & 25 | LINCOLN CENTER\, 710 W 9TH S T \nMAY 9 | LINCOLN CENTER\, 710 W 9TH ST \nJUNE 6 & 13 | HOMER COLE \, 3003 N JOPLIN ST . \nJULY 11 | HOMER COLE \, 3003 N JOPLIN ST . \nAUGUST 22 | LINCOLN CENTER\, 710 W 9TH ST \nSEPTEMBER 12 & 26 | LINCOLN CENTER\, 710 W 9TH ST \nOCTOBER 2\, 3\, 30 & 31 | L INCOLN CENTER\, 710 W 9TH ST \nNOVEMBER 6\, 14\, 20 & 21 | LINCOLN CENTER\, 710 W 9TH ST \nDECEMBER 4\, 5\, 11\, 12\, 18 & 19 | LINCOLN CENTER\, 710 W 9TH ST
URL:https://www.pittks.org/event/senior-bingo/2025-08-22/
CATEGORIES:Seniors
ATTACH;FMTTYPE=image/png:https://www.pittks.org/wp-content/uploads/2025/01/2025-Fall-Senior-Bingo-1.png
ORGANIZER;CN="Pittsburg Parks & Recreation Department":MAILTO:pprd@pittks.org
END:VEVENT
END:VCALENDAR