BEGIN:VCALENDAR
VERSION:2.0
PRODID:-//City of Pittsburg - ECPv6.15.20//NONSGML v1.0//EN
CALSCALE:GREGORIAN
METHOD:PUBLISH
X-WR-CALNAME:City of Pittsburg
X-ORIGINAL-URL:https://www.pittks.org
X-WR-CALDESC:Events for City of Pittsburg
REFRESH-INTERVAL;VALUE=DURATION:PT1H
X-Robots-Tag:noindex
X-PUBLISHED-TTL:PT1H
BEGIN:VTIMEZONE
TZID:America/Chicago
BEGIN:DAYLIGHT
TZOFFSETFROM:-0600
TZOFFSETTO:-0500
TZNAME:CDT
DTSTART:20230312T080000
END:DAYLIGHT
BEGIN:STANDARD
TZOFFSETFROM:-0500
TZOFFSETTO:-0600
TZNAME:CST
DTSTART:20231105T070000
END:STANDARD
BEGIN:DAYLIGHT
TZOFFSETFROM:-0600
TZOFFSETTO:-0500
TZNAME:CDT
DTSTART:20240310T080000
END:DAYLIGHT
BEGIN:STANDARD
TZOFFSETFROM:-0500
TZOFFSETTO:-0600
TZNAME:CST
DTSTART:20241103T070000
END:STANDARD
BEGIN:DAYLIGHT
TZOFFSETFROM:-0600
TZOFFSETTO:-0500
TZNAME:CDT
DTSTART:20250309T080000
END:DAYLIGHT
BEGIN:STANDARD
TZOFFSETFROM:-0500
TZOFFSETTO:-0600
TZNAME:CST
DTSTART:20251102T070000
END:STANDARD
END:VTIMEZONE
BEGIN:VEVENT
DTSTART;TZID=America/Chicago:20240218T080000
DTEND;TZID=America/Chicago:20240218T170000
DTSTAMP:20260424T190647
CREATED:20250127T214455Z
LAST-MODIFIED:20250127T214458Z
UID:10024040-1708243200-1708275600@www.pittks.org
SUMMARY:Travel the World Dad & Daughter Date Night
DESCRIPTION:Travel the world with us at this year’s Dad & Daughter Date Night! Fathers\, Grandfathers\, Uncles or family friends bring the young ladies in your life out to enjoy a preplanned evening of fun!\nPRE-REGISTRAITON IS REQUIRED DUE TO LIMITED SUPPLIES!\nLimited Registration & Space is filling up quickly!\nFebruary 18\, 2023\n3:00 PM OR 6:30 PM\nMemorial Auditorium\, 503 N. Pine\n$25 Per Couple | $10 Per Additional Attendee\nRSVP by February 3rd\nRegistration:\n620.231.8310\n710 W. 9th St.
URL:https://www.pittks.org/event/travel-the-world-dad-daughter-date-night-2/2024-02-18/1/
LOCATION:Memorial Auditorium\, 503 N. Pine St.\, Pittsburg\, KS\, 66762\, United States
CATEGORIES:Kids
ATTACH;FMTTYPE=image/png:https://www.pittks.org/wp-content/uploads/2023/01/2023-DDDN-Flyer.png
ORGANIZER;CN="Pittsburg Parks & Recreation Department":MAILTO:pprd@pittks.org
END:VEVENT
BEGIN:VEVENT
DTSTART;TZID=America/Chicago:20240218T183000
DTEND;TZID=America/Chicago:20240218T203000
DTSTAMP:20260424T190647
CREATED:20250127T214455Z
LAST-MODIFIED:20250127T214458Z
UID:10022299-1708281000-1708288200@www.pittks.org
SUMMARY:Travel the World Dad & Daughter Date Night
DESCRIPTION:Travel the world with us at this year’s Dad & Daughter Date Night! Fathers\, Grandfathers\, Uncles or family friends bring the young ladies in your life out to enjoy a preplanned evening of fun!\nPRE-REGISTRAITON IS REQUIRED DUE TO LIMITED SUPPLIES!\nLimited Registration & Space is filling up quickly!\nFebruary 18\, 2023\n3:00 PM OR 6:30 PM\nMemorial Auditorium\, 503 N. Pine\n$25 Per Couple | $10 Per Additional Attendee\nRSVP by February 3rd\nRegistration:\n620.231.8310\n710 W. 9th St.
URL:https://www.pittks.org/event/travel-the-world-dad-daughter-date-night-2/2024-02-18/2/
LOCATION:Memorial Auditorium\, 503 N. Pine St.\, Pittsburg\, KS\, 66762\, United States
CATEGORIES:Kids
ATTACH;FMTTYPE=image/png:https://www.pittks.org/wp-content/uploads/2023/01/2023-DDDN-Flyer.png
ORGANIZER;CN="Pittsburg Parks & Recreation Department":MAILTO:pprd@pittks.org
END:VEVENT
BEGIN:VEVENT
DTSTART;TZID=America/Chicago:20240227T143000
DTEND;TZID=America/Chicago:20240227T150000
DTSTAMP:20260424T190647
CREATED:20240226T163224Z
LAST-MODIFIED:20240226T163224Z
UID:10022725-1709044200-1709046000@www.pittks.org
SUMMARY:Four Oaks Mini Golf Ground Breaking
DESCRIPTION:On Tuesday\, February 27 at 2:30 pm the City of Pittsburg will break ground on a new mini golf facility at the Four Oaks Golf Course\, 910 Memorial Drive\, Pittsburg. The community is invited to attend the groundbreaking ceremony. \nCity officials\, key stakeholders\, and donors will be in attendance to help celebrate and share details about the project. The brand-new mini golf facility is made possible through private donations and grant funding from the Skubitz Foundation\, Pritchett Trust\, and the Kansas Department of Wildlife & Parks Land and Water Conservation Fund. \nThe new mini golf facility is expected to open by summer of 2024\, weather permitting.
URL:https://www.pittks.org/event/four-oaks-mini-golf-ground-breaking/
LOCATION:Four Oaks Sports Complex\, 910 Memorial Dr.\, Pittsburg\, KS\, 66762\, United States
CATEGORIES:Celebrations/Fundraisers,Outdoors
ATTACH;FMTTYPE=image/png:https://www.pittks.org/wp-content/uploads/2024/02/mini-golf-ground-breaking-1.png
END:VEVENT
BEGIN:VEVENT
DTSTART;TZID=America/Chicago:20240228T090000
DTEND;TZID=America/Chicago:20240228T130000
DTSTAMP:20260424T190647
CREATED:20240124T221810Z
LAST-MODIFIED:20240124T221810Z
UID:10022663-1709110800-1709125200@www.pittks.org
SUMMARY:Youth Entrepreneurship Challenge (YEC)
DESCRIPTION:We are looking for the next young entrepreneur! If you’re a HS student at Pittsburg\, St. Mary’s-Colgan\, Frontenac\, or Northeast keep reading.\n\nThe Goal: To expose students to entrepreneurship and build their interest in it\, leading students to see building their own business as a viable career path and a way to better their community.\n\nParticipants will be evaluated on: Executive summary\, Pitch\, & Posterboard presentation.\nThe public is encouraged to attend the posterboard session located in the Block22 Conference Room (inside the Co-Work Cafe) from 9 am – 1 pm.\n\nWhat: Youth Entrepreneurship Challenge (YEC)\nWhen: February 28th\nWhere: Block22- 4th and Broadway\nCash prizes provided by CBW Bank:\n1st Place- $1\,000\n2nd Place- $750\n3rd Place- $500\nJudge’s Choice- $250\nPeople’s Choice- $250\n\nYEC Sign up: https://goventuredash.com/competitions/469
URL:https://www.pittks.org/event/youth-entrepreneurship-challenge-yec/
LOCATION:Block 22\, 4th and Broadway\, Pittsburg\, KS\, 66762\, United States
CATEGORIES:Enrichment/Learning,Teens
ATTACH;FMTTYPE=image/jpeg:https://www.pittks.org/wp-content/uploads/2024/01/2024-Local-YEC-Flyer-1-1.jpg
END:VEVENT
END:VCALENDAR