BEGIN:VCALENDAR
VERSION:2.0
PRODID:-//City of Pittsburg - ECPv6.15.20//NONSGML v1.0//EN
CALSCALE:GREGORIAN
METHOD:PUBLISH
X-WR-CALNAME:City of Pittsburg
X-ORIGINAL-URL:https://www.pittks.org
X-WR-CALDESC:Events for City of Pittsburg
REFRESH-INTERVAL;VALUE=DURATION:PT1H
X-Robots-Tag:noindex
X-PUBLISHED-TTL:PT1H
BEGIN:VTIMEZONE
TZID:America/Chicago
BEGIN:DAYLIGHT
TZOFFSETFROM:-0600
TZOFFSETTO:-0500
TZNAME:CDT
DTSTART:20220313T080000
END:DAYLIGHT
BEGIN:STANDARD
TZOFFSETFROM:-0500
TZOFFSETTO:-0600
TZNAME:CST
DTSTART:20221106T070000
END:STANDARD
BEGIN:DAYLIGHT
TZOFFSETFROM:-0600
TZOFFSETTO:-0500
TZNAME:CDT
DTSTART:20230312T080000
END:DAYLIGHT
BEGIN:STANDARD
TZOFFSETFROM:-0500
TZOFFSETTO:-0600
TZNAME:CST
DTSTART:20231105T070000
END:STANDARD
BEGIN:DAYLIGHT
TZOFFSETFROM:-0600
TZOFFSETTO:-0500
TZNAME:CDT
DTSTART:20240310T080000
END:DAYLIGHT
BEGIN:STANDARD
TZOFFSETFROM:-0500
TZOFFSETTO:-0600
TZNAME:CST
DTSTART:20241103T070000
END:STANDARD
END:VTIMEZONE
BEGIN:VEVENT
DTSTART;TZID=America/Chicago:20231202T090000
DTEND;TZID=America/Chicago:20231202T120000
DTSTAMP:20260419T094329
CREATED:20231127T210633Z
LAST-MODIFIED:20231127T210633Z
UID:10022370-1701507600-1701518400@www.pittks.org
SUMMARY:Holiday Craft Fair
DESCRIPTION:It’s a holiday extravaganza! Celebrating our 15th year! Come shop for some homemade gifts and goodies! \n9:00AM – 12:00PM \nDecember 2nd\, 2023 \nMemorial Auditorium\, 503 N Pine | Lower Level \nAdmission: 1 Non-Perishable & Unexpired Food Donation \nTons of vendors with handmade items that are a perfect gift for that special someone! \nTo be vendor at this event\, please contact Pittsburg Parks and Recreation department for vendor packet/registration information. \nFor more information\, Contact Pittsburg Parks and Recreation at 620-231-8310.
URL:https://www.pittks.org/event/holiday-craft-fair-3/
LOCATION:Memorial Auditorium\, 503 N. Pine St.\, Pittsburg\, KS\, 66762\, United States
CATEGORIES:Adults,Children,Civic Engagement,Crafts & Traditional Arts,Holiday,Kids,Memorial Auditorium
ATTACH;FMTTYPE=image/jpeg:https://www.pittks.org/wp-content/uploads/2023/11/Craft-Fair1.jpg
END:VEVENT
BEGIN:VEVENT
DTSTART;TZID=America/Chicago:20231202T093000
DTEND;TZID=America/Chicago:20231202T113000
DTSTAMP:20260419T094329
CREATED:20231127T211252Z
LAST-MODIFIED:20231127T211252Z
UID:10022372-1701509400-1701516600@www.pittks.org
SUMMARY:Holiday Zumbathon
DESCRIPTION:Join us for our annual Holiday Zumbathon to benefit SparkWheel (formerly Communities in Schools)! \n100 percent of products donated will go directly to USD250 School District students in need. \nSaturday\, December 2 from 9:30 – 11:30 am at Lincoln Center\, 710 W. 9th St. \nAdmission is one item from the list below (in youth sizes): \n\nSocks\nUnderwear\nGloves\nHats\nScarves
URL:https://www.pittks.org/event/holiday-zumbathon-2/
LOCATION:Lincoln Center
CATEGORIES:Adults,Celebrations/Fundraisers,Holiday,Wellness
ATTACH;FMTTYPE=image/jpeg:https://www.pittks.org/wp-content/uploads/2023/11/Zumbathon.jpg
ORGANIZER;CN="Pittsburg Parks & Recreation Department":MAILTO:pprd@pittks.org
END:VEVENT
END:VCALENDAR