BEGIN:VCALENDAR
VERSION:2.0
PRODID:-//City of Pittsburg - ECPv6.15.20//NONSGML v1.0//EN
CALSCALE:GREGORIAN
METHOD:PUBLISH
X-WR-CALNAME:City of Pittsburg
X-ORIGINAL-URL:https://www.pittks.org
X-WR-CALDESC:Events for City of Pittsburg
REFRESH-INTERVAL;VALUE=DURATION:PT1H
X-Robots-Tag:noindex
X-PUBLISHED-TTL:PT1H
BEGIN:VTIMEZONE
TZID:America/Chicago
BEGIN:DAYLIGHT
TZOFFSETFROM:-0600
TZOFFSETTO:-0500
TZNAME:CDT
DTSTART:20220313T080000
END:DAYLIGHT
BEGIN:STANDARD
TZOFFSETFROM:-0500
TZOFFSETTO:-0600
TZNAME:CST
DTSTART:20221106T070000
END:STANDARD
BEGIN:DAYLIGHT
TZOFFSETFROM:-0600
TZOFFSETTO:-0500
TZNAME:CDT
DTSTART:20230312T080000
END:DAYLIGHT
BEGIN:STANDARD
TZOFFSETFROM:-0500
TZOFFSETTO:-0600
TZNAME:CST
DTSTART:20231105T070000
END:STANDARD
BEGIN:DAYLIGHT
TZOFFSETFROM:-0600
TZOFFSETTO:-0500
TZNAME:CDT
DTSTART:20240310T080000
END:DAYLIGHT
BEGIN:STANDARD
TZOFFSETFROM:-0500
TZOFFSETTO:-0600
TZNAME:CST
DTSTART:20241103T070000
END:STANDARD
END:VTIMEZONE
BEGIN:VEVENT
DTSTART;VALUE=DATE:20230806
DTEND;VALUE=DATE:20230811
DTSTAMP:20260425T103048
CREATED:20230503T194012Z
LAST-MODIFIED:20230706T211008Z
UID:10021697-1691280000-1691711999@www.pittks.org
SUMMARY:Corporate Challenge
DESCRIPTION:Healthy & fun competition! \nEvents for all levels of physical abilities. \nEvents include trivia\, logical puzzles\, minute to win it\, scavenger hunt\, billiard games\, bowling\, archery\, golf\, tailgate games\, pickleball\, disc golf\, axe throwing\, pool\, volleyball\, bocce ball\, dodgeball\, 3 on 3\, kickball\, tug o war\, walk/run 2 miles\, cook-off & bake-off\, music/talent battle\, mystery challenge! \nRegister at 620-231-8310 or at pittks.org
URL:https://www.pittks.org/event/corporate-challenge-2/
CATEGORIES:Adults
ATTACH;FMTTYPE=image/png:https://www.pittks.org/wp-content/uploads/2023/05/Corporate-Challenge.png
ORGANIZER;CN="Pittsburg Parks & Recreation Department":MAILTO:pprd@pittks.org
END:VEVENT
BEGIN:VEVENT
DTSTART;TZID=America/Chicago:20230809T160000
DTEND;TZID=America/Chicago:20230809T160000
DTSTAMP:20260425T103048
CREATED:20200708T162119Z
LAST-MODIFIED:20250916T192120Z
UID:10021368-1691596800-1691596800@www.pittks.org
SUMMARY:Memorial Auditorium Advisory Board Meeting
DESCRIPTION:The Memorial Auditorium Advisory Board will hold its regular meeting at Memorial Auditorium. This board meets every other month on the second Wednesday at 4:00 pm. Contact Darcie Shultz at (620) 231-7827.
URL:https://www.pittks.org/event/memorial-auditorium-advisory-board-meeting/2023-08-09/
LOCATION:Memorial Auditorium\, 503 N. Pine St.\, Pittsburg\, KS\, 66762\, United States
CATEGORIES:Government
ATTACH;FMTTYPE=image/jpeg:https://www.pittks.org/wp-content/uploads/2017/10/20170913_171312-1-e1509052266963.jpg
END:VEVENT
BEGIN:VEVENT
DTSTART;TZID=America/Chicago:20230809T163000
DTEND;TZID=America/Chicago:20230809T163000
DTSTAMP:20260425T103048
CREATED:20200706T202539Z
LAST-MODIFIED:20250611T165603Z
UID:10020978-1691598600-1691598600@www.pittks.org
SUMMARY:Library Board of Trustees Meeting
DESCRIPTION:The Library Board of Trustees will hold its monthly meeting in-person in the library meeting room. Meetings are typically held on the second Wednesday of each month at 4:30 pm. For more information\, contact Bev Clarkson at (620) 231-8100.
URL:https://www.pittks.org/event/library-board-of-trustees-meeting/2023-08-09/
LOCATION:Pittsburg Public Library\, 308 N Walnut St\, Pittsburg\, 66762\, United States
CATEGORIES:Government
ATTACH;FMTTYPE=image/jpeg:https://www.pittks.org/wp-content/uploads/2020/07/library_small.jpg
END:VEVENT
BEGIN:VEVENT
DTSTART;TZID=America/Chicago:20230809T173000
DTEND;TZID=America/Chicago:20230809T173000
DTSTAMP:20260425T103048
CREATED:20200706T202939Z
LAST-MODIFIED:20250611T165603Z
UID:10021023-1691602200-1691602200@www.pittks.org
SUMMARY:Sustainability Advisory Committee Meeting
DESCRIPTION:The Sustainability Advisory Committee will hold its regularly-scheduled monthly meeting at City Hall. The committee typically meets every second Wednesday of the month at 5:30 pm. Contact Jay Byers at (620) 230-5685.
URL:https://www.pittks.org/event/sustainability-advisory-committee-meeting/2023-08-09/
LOCATION:City Hall\, 201 W. 4th St\, Pittsburg\, Kansas\, 66762
CATEGORIES:Government
ATTACH;FMTTYPE=image/jpeg:https://www.pittks.org/wp-content/uploads/2020/07/SAC_Group_SM.jpg
END:VEVENT
END:VCALENDAR