BEGIN:VCALENDAR
VERSION:2.0
PRODID:-//City of Pittsburg - ECPv6.15.20//NONSGML v1.0//EN
CALSCALE:GREGORIAN
METHOD:PUBLISH
X-WR-CALNAME:City of Pittsburg
X-ORIGINAL-URL:https://www.pittks.org
X-WR-CALDESC:Events for City of Pittsburg
REFRESH-INTERVAL;VALUE=DURATION:PT1H
X-Robots-Tag:noindex
X-PUBLISHED-TTL:PT1H
BEGIN:VTIMEZONE
TZID:America/Chicago
BEGIN:DAYLIGHT
TZOFFSETFROM:-0600
TZOFFSETTO:-0500
TZNAME:CDT
DTSTART:20230312T080000
END:DAYLIGHT
BEGIN:STANDARD
TZOFFSETFROM:-0500
TZOFFSETTO:-0600
TZNAME:CST
DTSTART:20231105T070000
END:STANDARD
BEGIN:DAYLIGHT
TZOFFSETFROM:-0600
TZOFFSETTO:-0500
TZNAME:CDT
DTSTART:20240310T080000
END:DAYLIGHT
BEGIN:STANDARD
TZOFFSETFROM:-0500
TZOFFSETTO:-0600
TZNAME:CST
DTSTART:20241103T070000
END:STANDARD
BEGIN:DAYLIGHT
TZOFFSETFROM:-0600
TZOFFSETTO:-0500
TZNAME:CDT
DTSTART:20250309T080000
END:DAYLIGHT
BEGIN:STANDARD
TZOFFSETFROM:-0500
TZOFFSETTO:-0600
TZNAME:CST
DTSTART:20251102T070000
END:STANDARD
END:VTIMEZONE
BEGIN:VEVENT
DTSTART;TZID=America/Chicago:20240301T193000
DTEND;TZID=America/Chicago:20240301T220000
DTSTAMP:20260424T093418
CREATED:20240205T200622Z
LAST-MODIFIED:20240205T201005Z
UID:10022692-1709321400-1709330400@www.pittks.org
SUMMARY:50th Annual PSU Jazz Festival Concert
DESCRIPTION:Tickets are on sale for a milestone moment in Pitt State history: the 50th Annual PSU Jazz Festival Concert featuring the Matt Catingub Big Band. Planned for 7:30 p.m. March 1 at Memorial Auditorium\, it will wrap up a day-long festival aimed at student musicians.\nThe concert will kick off with the PSU Jazz Ensemble\, directed by Professor Todd Hastings\, before the headliner takes the stage. \nMatt Catingub is considered one of the pioneers of the modern Big Band. The son of the great jazz vocalist and “Polynesia’s First Lady of Song\,” Mavis Rivers\, he is a proud Pacific Islander. In his early years\, he performed with her around the world\, including a 1983 performance for Queen Elizabeth and Prince Philip. \nAt age 17\, he performed and presented his original big band compositions at the Monterey Jazz Festival\, with that success catapulting him to a tour of Japan playing with jazz legends Dizzy Gillespie\, Thad Jones\, and Ruth Brown. \nRight out of high school\, Catingub joined the big bands of Louie Bellson\, who performed at Pitt State in the mid-1980s. \nHe was only 21 when he formed his first big band in Los Angeles and released his first recording\, “My Mommy and Me\,” which is recognized as one of the great break-out jazz recordings. It featured many of his hits that still resonate today\, including “Blues and the Abscessed Tooth” and “Bopopularity\,” and featured his mother. \nHe then released “Hi Tech Big Band\,” one of the most innovative recordings of the genre\, on which he performed all of the instruments\, electronically recreating the sound of a big band while also introducing more big band classics like “The Umpire Strikes Back” and “Indian Riffs.” \nHis credits also include touring the world with the legendary Rosemary Clooney\, and creating the music for the film “Goodnight and Good Luck\,” which won a Grammy and allowed him the chance to work with jazz great Diane Reeves and writer-director George Clooney. \nHe has conducted\, created\, and performed with symphonic pop orchestras\, including the Hawaii & Honolulu Symphony Pops\, the Glendale Pops in L.A.\, and the Macon Pops near Atlanta\, Georgia. With these entities he has conducted\, performed\, and orchestrated for artists like Al Jarreau\, Diana Krall\, Michael McDonald\, and Kenny Loggins. \nLast year marked the rebirth of the Matt Catingub Big Band\, and the release “From Samoa to Sinatra\,” celebrating the music of Frank Sinatra and Catingub’s mother\, the first female artist Sinatra signed to his Reprise Records label in 1961. \nPerforming brand new arrangements and revisiting many of his hit originals\, his band presents an exciting mix of old and new\, including using technology to perform with “mom from the past” using tracks recorded while his mother was pregnant with him! \nThe concert will feature his longtime superstar drummer Steve Moretti and vocalist Michelle Amato. \nTickets\nTickets for the evening concert are $16 for adults and $10 for children\, seniors\, and military. Pitt State students are admitted free\, and discounted tickets for PSU faculty and staff are available with valid Pitt State ID.\nThey may be purchased or picked up at the PSU Ticket Office in 137 Garfield Weede Building. They also may be purchased at 620-235-4796 or at pittstate.edu/tickets. \nPurchase Tickets \nLearn more about the PSU Music Department at pittstate.edu/music \nAbout the Festival\nThe festival itself\, meanwhile\, has reached capacity\, with more than 70 high school and middle school bands on tap to come to Pittsburg to perform and be judged.\nBeginning at 8 a.m. and continuing throughout the day\, student bands will take turns playing for a group of judges who are experienced educators and musicians. \nThose performances will take place at the Bicknell Family Center for the Arts\, 1711 S. Homer\, and at Memorial Auditorium\, 503 N. Pine. They are open to the public at no charge. \nThe festival was started in 1974 by Professor of Music Russell Jones with just 14 bands. In 1978\, he passed the baton to Professor Robert Kehle\, who continued to grow it until his retirement in 2023. It’s now coordinated by a committee of music faculty with Kehle as a consultant. \n“I’ve had the privilege of being part of the festival for 27 years and it’s a landmark cultural event for our area\, the university\, and the state of Kansas\,” Hastings said. “Bob Kehle has done a wonderful job of turning the festival into a must-see event\, inspiring countless students\, educators\, and professional musicians. It’s an incredibly exciting event that the students and the community look forward to each year.”
URL:https://www.pittks.org/event/50th-annual-psu-jazz-festival-concert/
LOCATION:Memorial Auditorium\, 503 N. Pine St.\, Pittsburg\, KS\, 66762\, United States
CATEGORIES:Adults,Children,Enrichment/Learning,Fine & Performing Arts,Memorial Auditorium,Nightlife
ATTACH;FMTTYPE=image/jpeg:https://www.pittks.org/wp-content/uploads/2024/02/jazz-matt-catingub-420x252-1.jpg
END:VEVENT
END:VCALENDAR