BEGIN:VCALENDAR
VERSION:2.0
PRODID:-//City of Pittsburg - ECPv6.15.20//NONSGML v1.0//EN
CALSCALE:GREGORIAN
METHOD:PUBLISH
X-WR-CALNAME:City of Pittsburg
X-ORIGINAL-URL:https://www.pittks.org
X-WR-CALDESC:Events for City of Pittsburg
REFRESH-INTERVAL;VALUE=DURATION:PT1H
X-Robots-Tag:noindex
X-PUBLISHED-TTL:PT1H
BEGIN:VTIMEZONE
TZID:America/Chicago
BEGIN:DAYLIGHT
TZOFFSETFROM:-0600
TZOFFSETTO:-0500
TZNAME:CDT
DTSTART:20240310T080000
END:DAYLIGHT
BEGIN:STANDARD
TZOFFSETFROM:-0500
TZOFFSETTO:-0600
TZNAME:CST
DTSTART:20241103T070000
END:STANDARD
BEGIN:DAYLIGHT
TZOFFSETFROM:-0600
TZOFFSETTO:-0500
TZNAME:CDT
DTSTART:20250309T080000
END:DAYLIGHT
BEGIN:STANDARD
TZOFFSETFROM:-0500
TZOFFSETTO:-0600
TZNAME:CST
DTSTART:20251102T070000
END:STANDARD
BEGIN:DAYLIGHT
TZOFFSETFROM:-0600
TZOFFSETTO:-0500
TZNAME:CDT
DTSTART:20260308T080000
END:DAYLIGHT
BEGIN:STANDARD
TZOFFSETFROM:-0500
TZOFFSETTO:-0600
TZNAME:CST
DTSTART:20261101T070000
END:STANDARD
END:VTIMEZONE
BEGIN:VEVENT
DTSTART;TZID=America/Chicago:20251002T120000
DTEND;TZID=America/Chicago:20251002T140000
DTSTAMP:20260421T170605
CREATED:20250923T152908Z
LAST-MODIFIED:20250923T152908Z
UID:10024507-1759406400-1759413600@www.pittks.org
SUMMARY:2025 State of the City - Mayor's Lunch
DESCRIPTION:RSVP FOR THE 2025 STATE OF THE CITY!  Pittsburg Mayor\, Dawn McNay\, will deliver the 2025 State of the City Address on Thursday\, Oct 2 at Noon in the lower level of Memorial Auditorium. We invite you to join us for a networking lunch and short program. Deadline to RSVP is September 28! \nRSVP HERE
URL:https://www.pittks.org/event/2025-state-of-the-city-mayors-lunch/
LOCATION:Memorial Auditorium\, 503 N. Pine St.\, Pittsburg\, KS\, 66762\, United States
CATEGORIES:Memorial Auditorium
ATTACH;FMTTYPE=image/png:https://www.pittks.org/wp-content/uploads/2025/09/Ludus-Event-Photo_SOTC-RSVP-.png
END:VEVENT
END:VCALENDAR