BEGIN:VCALENDAR
VERSION:2.0
PRODID:-//City of Pittsburg - ECPv6.15.20//NONSGML v1.0//EN
CALSCALE:GREGORIAN
METHOD:PUBLISH
X-WR-CALNAME:City of Pittsburg
X-ORIGINAL-URL:https://www.pittks.org
X-WR-CALDESC:Events for City of Pittsburg
REFRESH-INTERVAL;VALUE=DURATION:PT1H
X-Robots-Tag:noindex
X-PUBLISHED-TTL:PT1H
BEGIN:VTIMEZONE
TZID:America/Chicago
BEGIN:DAYLIGHT
TZOFFSETFROM:-0600
TZOFFSETTO:-0500
TZNAME:CDT
DTSTART:20250309T080000
END:DAYLIGHT
BEGIN:STANDARD
TZOFFSETFROM:-0500
TZOFFSETTO:-0600
TZNAME:CST
DTSTART:20251102T070000
END:STANDARD
BEGIN:DAYLIGHT
TZOFFSETFROM:-0600
TZOFFSETTO:-0500
TZNAME:CDT
DTSTART:20260308T080000
END:DAYLIGHT
BEGIN:STANDARD
TZOFFSETFROM:-0500
TZOFFSETTO:-0600
TZNAME:CST
DTSTART:20261101T070000
END:STANDARD
BEGIN:DAYLIGHT
TZOFFSETFROM:-0600
TZOFFSETTO:-0500
TZNAME:CDT
DTSTART:20270314T080000
END:DAYLIGHT
BEGIN:STANDARD
TZOFFSETFROM:-0500
TZOFFSETTO:-0600
TZNAME:CST
DTSTART:20271107T070000
END:STANDARD
END:VTIMEZONE
BEGIN:VEVENT
DTSTART;TZID=America/Chicago:20260430T190000
DTEND;TZID=America/Chicago:20260430T210000
DTSTAMP:20260423T165921
CREATED:20260401T140309Z
LAST-MODIFIED:20260409T151154Z
UID:10025863-1777575600-1777582800@www.pittks.org
SUMMARY:Midwest Regional Ballet Presents: OZ
DESCRIPTION:Follow the Yellow Brick Road to Memorial Auditorium!\n\n\n\n\n\n\n\n\n\n\n\n \n\n\n\n\n\n\n\n\n\n\n\n\n\n\n\n\n\n\n\n\n\n\n\n\n\nMidwest Regional Ballet Performing Arts Company and School presents OZ\, a magical journey inspired by the beloved classic. Experience stunning choreography\, vibrant costumes\, and the classical story of OZ!\n\n\n\nShow Times:\nApril 30 – May 2 ~ 7:00 PM\nMay 3 ~ 2:00 PM\n\nA magical ballet full of adventure\, heart\, and unforgettable moments.\n\n\n\n\n\n\n\n\n\n\n\n\n\n\n\nPURCHASE TICKETS HERE
URL:https://www.pittks.org/event/midwest-regional-ballet-presents-oz/2026-04-30/
LOCATION:KS
CATEGORIES:Fine & Performing Arts,Memorial Auditorium
ATTACH;FMTTYPE=image/png:https://www.pittks.org/wp-content/uploads/2026/04/MRB-OZ-Ludus-Event.png
END:VEVENT
BEGIN:VEVENT
DTSTART;TZID=America/Chicago:20260501T190000
DTEND;TZID=America/Chicago:20260501T210000
DTSTAMP:20260423T165921
CREATED:20260401T140309Z
LAST-MODIFIED:20260409T151154Z
UID:10025864-1777662000-1777669200@www.pittks.org
SUMMARY:Midwest Regional Ballet Presents: OZ
DESCRIPTION:Follow the Yellow Brick Road to Memorial Auditorium!\n\n\n\n\n\n\n\n\n\n\n\n \n\n\n\n\n\n\n\n\n\n\n\n\n\n\n\n\n\n\n\n\n\n\n\n\n\nMidwest Regional Ballet Performing Arts Company and School presents OZ\, a magical journey inspired by the beloved classic. Experience stunning choreography\, vibrant costumes\, and the classical story of OZ!\n\n\n\nShow Times:\nApril 30 – May 2 ~ 7:00 PM\nMay 3 ~ 2:00 PM\n\nA magical ballet full of adventure\, heart\, and unforgettable moments.\n\n\n\n\n\n\n\n\n\n\n\n\n\n\n\nPURCHASE TICKETS HERE
URL:https://www.pittks.org/event/midwest-regional-ballet-presents-oz/2026-05-01/
LOCATION:KS
CATEGORIES:Fine & Performing Arts,Memorial Auditorium
ATTACH;FMTTYPE=image/png:https://www.pittks.org/wp-content/uploads/2026/04/MRB-OZ-Ludus-Event.png
END:VEVENT
BEGIN:VEVENT
DTSTART;TZID=America/Chicago:20260502T190000
DTEND;TZID=America/Chicago:20260502T210000
DTSTAMP:20260423T165921
CREATED:20260401T140309Z
LAST-MODIFIED:20260409T151154Z
UID:10025865-1777748400-1777755600@www.pittks.org
SUMMARY:Midwest Regional Ballet Presents: OZ
DESCRIPTION:Follow the Yellow Brick Road to Memorial Auditorium!\n\n\n\n\n\n\n\n\n\n\n\n \n\n\n\n\n\n\n\n\n\n\n\n\n\n\n\n\n\n\n\n\n\n\n\n\n\nMidwest Regional Ballet Performing Arts Company and School presents OZ\, a magical journey inspired by the beloved classic. Experience stunning choreography\, vibrant costumes\, and the classical story of OZ!\n\n\n\nShow Times:\nApril 30 – May 2 ~ 7:00 PM\nMay 3 ~ 2:00 PM\n\nA magical ballet full of adventure\, heart\, and unforgettable moments.\n\n\n\n\n\n\n\n\n\n\n\n\n\n\n\nPURCHASE TICKETS HERE
URL:https://www.pittks.org/event/midwest-regional-ballet-presents-oz/2026-05-02/
LOCATION:KS
CATEGORIES:Fine & Performing Arts,Memorial Auditorium
ATTACH;FMTTYPE=image/png:https://www.pittks.org/wp-content/uploads/2026/04/MRB-OZ-Ludus-Event.png
END:VEVENT
BEGIN:VEVENT
DTSTART;TZID=America/Chicago:20260503T140000
DTEND;TZID=America/Chicago:20260503T160000
DTSTAMP:20260423T165921
CREATED:20260401T140309Z
LAST-MODIFIED:20260409T151154Z
UID:10025866-1777816800-1777824000@www.pittks.org
SUMMARY:Midwest Regional Ballet Presents: OZ
DESCRIPTION:Follow the Yellow Brick Road to Memorial Auditorium!\n\n\n\n\n\n\n\n\n\n\n\n \n\n\n\n\n\n\n\n\n\n\n\n\n\n\n\n\n\n\n\n\n\n\n\n\n\nMidwest Regional Ballet Performing Arts Company and School presents OZ\, a magical journey inspired by the beloved classic. Experience stunning choreography\, vibrant costumes\, and the classical story of OZ!\n\n\n\nShow Times:\nApril 30 – May 2 ~ 7:00 PM\nMay 3 ~ 2:00 PM\n\nA magical ballet full of adventure\, heart\, and unforgettable moments.\n\n\n\n\n\n\n\n\n\n\n\n\n\n\n\nPURCHASE TICKETS HERE
URL:https://www.pittks.org/event/midwest-regional-ballet-presents-oz/2026-05-03/
LOCATION:KS
CATEGORIES:Fine & Performing Arts,Memorial Auditorium
ATTACH;FMTTYPE=image/png:https://www.pittks.org/wp-content/uploads/2026/04/MRB-OZ-Ludus-Event.png
END:VEVENT
BEGIN:VEVENT
DTSTART;TZID=America/Chicago:20260509T100000
DTEND;TZID=America/Chicago:20260509T120000
DTSTAMP:20260423T165921
CREATED:20260420T132151Z
LAST-MODIFIED:20260420T132151Z
UID:10025869-1778320800-1778328000@www.pittks.org
SUMMARY:BTC Athletics & Dance Presents: Hometown
DESCRIPTION:BTC Athletics & Dance will be performing their annual spring recital at Memorial Auditorium – May 9\, 2026 \n  \n10:00 AM – Stars of Tomorrow \n7:00 PM Studio Recital (6:30 PM Competitive Pre-Show) \n  \nPURCHASE TICKETS HERE
URL:https://www.pittks.org/event/btc-athletics-dance-presents-hometown/2026-05-09/1/
LOCATION:KS
CATEGORIES:Fine & Performing Arts,Kids,Memorial Auditorium
ATTACH;FMTTYPE=image/jpeg:https://www.pittks.org/wp-content/uploads/2026/04/BTC-1.jpg
END:VEVENT
BEGIN:VEVENT
DTSTART;TZID=America/Chicago:20260509T190000
DTEND;TZID=America/Chicago:20260509T210000
DTSTAMP:20260423T165921
CREATED:20260420T132151Z
LAST-MODIFIED:20260420T132151Z
UID:10025870-1778353200-1778360400@www.pittks.org
SUMMARY:BTC Athletics & Dance Presents: Hometown
DESCRIPTION:BTC Athletics & Dance will be performing their annual spring recital at Memorial Auditorium – May 9\, 2026 \n  \n10:00 AM – Stars of Tomorrow \n7:00 PM Studio Recital (6:30 PM Competitive Pre-Show) \n  \nPURCHASE TICKETS HERE
URL:https://www.pittks.org/event/btc-athletics-dance-presents-hometown/2026-05-09/2/
LOCATION:KS
CATEGORIES:Fine & Performing Arts,Kids,Memorial Auditorium
ATTACH;FMTTYPE=image/jpeg:https://www.pittks.org/wp-content/uploads/2026/04/BTC-1.jpg
END:VEVENT
BEGIN:VEVENT
DTSTART;TZID=America/Chicago:20260510T130000
DTEND;TZID=America/Chicago:20260510T150000
DTSTAMP:20260423T165921
CREATED:20260423T134316Z
LAST-MODIFIED:20260423T134316Z
UID:10025873-1778418000-1778425200@www.pittks.org
SUMMARY:Karen's Dance Studio Presents: Among the Stars
DESCRIPTION:Performance Times:\nMay 10\, 2026 @ 1PM and 5PM \nTicket Prices:\nAll Seats are Reserved\nFloor – $15\nBalcony – $12 \n*Pre-Sale tickets live 5/1/26 – General Sale opens 5/4/26 \nPurchase Tickets
URL:https://www.pittks.org/event/karens-dance-studio-presents-among-the-stars/2026-05-10/1/
LOCATION:Memorial Auditorium\, 503 N. Pine St.\, Pittsburg\, KS\, 66762\, United States
CATEGORIES:Memorial Auditorium
ATTACH;FMTTYPE=image/png:https://www.pittks.org/wp-content/uploads/2026/04/An-interactive-two-act-murder-mystery-show-performed-between-dinner-drinks-29.png
END:VEVENT
BEGIN:VEVENT
DTSTART;TZID=America/Chicago:20260510T170000
DTEND;TZID=America/Chicago:20260510T190000
DTSTAMP:20260423T165921
CREATED:20260423T134316Z
LAST-MODIFIED:20260423T134316Z
UID:10025874-1778432400-1778439600@www.pittks.org
SUMMARY:Karen's Dance Studio Presents: Among the Stars
DESCRIPTION:Performance Times:\nMay 10\, 2026 @ 1PM and 5PM \nTicket Prices:\nAll Seats are Reserved\nFloor – $15\nBalcony – $12 \n*Pre-Sale tickets live 5/1/26 – General Sale opens 5/4/26 \nPurchase Tickets
URL:https://www.pittks.org/event/karens-dance-studio-presents-among-the-stars/2026-05-10/2/
LOCATION:Memorial Auditorium\, 503 N. Pine St.\, Pittsburg\, KS\, 66762\, United States
CATEGORIES:Memorial Auditorium
ATTACH;FMTTYPE=image/png:https://www.pittks.org/wp-content/uploads/2026/04/An-interactive-two-act-murder-mystery-show-performed-between-dinner-drinks-29.png
END:VEVENT
BEGIN:VEVENT
DTSTART;TZID=America/Chicago:20260530T140000
DTEND;TZID=America/Chicago:20260530T153000
DTSTAMP:20260423T165921
CREATED:20260423T133425Z
LAST-MODIFIED:20260423T133425Z
UID:10025871-1780149600-1780155000@www.pittks.org
SUMMARY:The Alignment Dance Company Presents: The Orchestra
DESCRIPTION:The Alignment Project Dance Company will have their Spring Show “The Orchestra” at Memorial Auditorium on Saturday\, May 30 at 2:00 & 7:00PM. There will be a pre-show one hour prior to both show times (1:00 & 6:00PM.) \nFloor Reserve Seating – $18 \nBalcony General Admission – $13 \nPURCHASE TICKETS HERE
URL:https://www.pittks.org/event/the-alignment-dance-company-presents-the-orchestra/2026-05-30/1/
LOCATION:KS
CATEGORIES:Memorial Auditorium
ATTACH;FMTTYPE=image/png:https://www.pittks.org/wp-content/uploads/2026/04/An-interactive-two-act-murder-mystery-show-performed-between-dinner-drinks-28.png
END:VEVENT
BEGIN:VEVENT
DTSTART;TZID=America/Chicago:20260530T190000
DTEND;TZID=America/Chicago:20260530T203000
DTSTAMP:20260423T165921
CREATED:20260423T133425Z
LAST-MODIFIED:20260423T133425Z
UID:10025872-1780167600-1780173000@www.pittks.org
SUMMARY:The Alignment Dance Company Presents: The Orchestra
DESCRIPTION:The Alignment Project Dance Company will have their Spring Show “The Orchestra” at Memorial Auditorium on Saturday\, May 30 at 2:00 & 7:00PM. There will be a pre-show one hour prior to both show times (1:00 & 6:00PM.) \nFloor Reserve Seating – $18 \nBalcony General Admission – $13 \nPURCHASE TICKETS HERE
URL:https://www.pittks.org/event/the-alignment-dance-company-presents-the-orchestra/2026-05-30/2/
LOCATION:KS
CATEGORIES:Memorial Auditorium
ATTACH;FMTTYPE=image/png:https://www.pittks.org/wp-content/uploads/2026/04/An-interactive-two-act-murder-mystery-show-performed-between-dinner-drinks-28.png
END:VEVENT
END:VCALENDAR