BEGIN:VCALENDAR
VERSION:2.0
PRODID:-//City of Pittsburg - ECPv6.15.20//NONSGML v1.0//EN
CALSCALE:GREGORIAN
METHOD:PUBLISH
X-WR-CALNAME:City of Pittsburg
X-ORIGINAL-URL:https://www.pittks.org
X-WR-CALDESC:Events for City of Pittsburg
REFRESH-INTERVAL;VALUE=DURATION:PT1H
X-Robots-Tag:noindex
X-PUBLISHED-TTL:PT1H
BEGIN:VTIMEZONE
TZID:America/Chicago
BEGIN:DAYLIGHT
TZOFFSETFROM:-0600
TZOFFSETTO:-0500
TZNAME:CDT
DTSTART:20240310T080000
END:DAYLIGHT
BEGIN:STANDARD
TZOFFSETFROM:-0500
TZOFFSETTO:-0600
TZNAME:CST
DTSTART:20241103T070000
END:STANDARD
BEGIN:DAYLIGHT
TZOFFSETFROM:-0600
TZOFFSETTO:-0500
TZNAME:CDT
DTSTART:20250309T080000
END:DAYLIGHT
BEGIN:STANDARD
TZOFFSETFROM:-0500
TZOFFSETTO:-0600
TZNAME:CST
DTSTART:20251102T070000
END:STANDARD
BEGIN:DAYLIGHT
TZOFFSETFROM:-0600
TZOFFSETTO:-0500
TZNAME:CDT
DTSTART:20260308T080000
END:DAYLIGHT
BEGIN:STANDARD
TZOFFSETFROM:-0500
TZOFFSETTO:-0600
TZNAME:CST
DTSTART:20261101T070000
END:STANDARD
END:VTIMEZONE
BEGIN:VEVENT
DTSTART;TZID=America/Chicago:20250209T110000
DTEND;TZID=America/Chicago:20250209T150000
DTSTAMP:20260422T034327
CREATED:20250124T171345Z
LAST-MODIFIED:20250124T171429Z
UID:10023905-1739098800-1739113200@www.pittks.org
SUMMARY:SEK Humane Society 48th Annual Chili Dinner
DESCRIPTION:SEK Humane Society will be hosting their annual chili feed on Sunday\, February 9th from 11:00 am – 3:00 pm. \nThey will have indoor dining meals that include chili\, a drink\, crackers and a dessert for $8.00 and will also be selling quarts of chili through the “drive thru” outside for $15.00! \nVegetarian chili will be available while supplies last! \n  \nAlong with the feed they there will also be “Comeau Jewelry’s Blingo” starting at 1:00 pm – $10 for 10 Rounds \nPlay to win some gorgeous prizes from Comeau Jewelry while raisin funds for your local animal shelter! \n  \nNo tickets are required for this event\, cash\, check\, or card will be accepted. 100% of profits will go towards animals at the SEK Humane Society.
URL:https://www.pittks.org/event/sek-humane-society-48th-annual-chili-dinner/
LOCATION:Memorial Auditorium\, 503 N. Pine St.\, Pittsburg\, KS\, 66762\, United States
CATEGORIES:Adults,Children,Memorial Auditorium
ATTACH;FMTTYPE=image/jpeg:https://www.pittks.org/wp-content/uploads/2025/01/SEK-HS-Chili-25.jpg
END:VEVENT
BEGIN:VEVENT
DTSTART;TZID=America/Chicago:20250210T173000
DTEND;TZID=America/Chicago:20250210T190000
DTSTAMP:20260422T034327
CREATED:20250124T171847Z
LAST-MODIFIED:20250204T162216Z
UID:10023906-1739208600-1739214000@www.pittks.org
SUMMARY:Girard Middle & High School Art Reception
DESCRIPTION:Girard Middle School and High School will be hosting their Art Reception at Memorial Auditorium on February 10th from 5:30pm-7:00pm. \nThis is a free event open to the public.
URL:https://www.pittks.org/event/girard-middle-high-school-art-reception/
LOCATION:Memorial Auditorium\, 503 N. Pine St.\, Pittsburg\, KS\, 66762\, United States
CATEGORIES:Adults,Children,Fine & Performing Arts,Memorial Auditorium
ATTACH;FMTTYPE=image/png:https://www.pittks.org/wp-content/uploads/2025/01/girard-reception-poster.png
END:VEVENT
BEGIN:VEVENT
DTSTART;TZID=America/Chicago:20250226T183000
DTEND;TZID=America/Chicago:20250226T193000
DTSTAMP:20260422T034327
CREATED:20250122T194818Z
LAST-MODIFIED:20250122T194818Z
UID:10023904-1740594600-1740598200@www.pittks.org
SUMMARY:George Nettels Spring Program "Rumble in the Jungle"
DESCRIPTION:George Nettels Elementary will be performing their Spring Music Program “Rumble in the Jungle” at Memorial Auditorium \nFebruary 26\, 2025 @ 6:30 pm. \n  \nFree admission\, open to the public.
URL:https://www.pittks.org/event/george-nettels-spring-program-rumble-in-the-jungle/
LOCATION:KS
CATEGORIES:Memorial Auditorium
END:VEVENT
END:VCALENDAR