BEGIN:VCALENDAR
VERSION:2.0
PRODID:-//City of Pittsburg - ECPv6.15.20//NONSGML v1.0//EN
CALSCALE:GREGORIAN
METHOD:PUBLISH
X-WR-CALNAME:City of Pittsburg
X-ORIGINAL-URL:https://www.pittks.org
X-WR-CALDESC:Events for City of Pittsburg
REFRESH-INTERVAL;VALUE=DURATION:PT1H
X-Robots-Tag:noindex
X-PUBLISHED-TTL:PT1H
BEGIN:VTIMEZONE
TZID:America/Chicago
BEGIN:DAYLIGHT
TZOFFSETFROM:-0600
TZOFFSETTO:-0500
TZNAME:CDT
DTSTART:20220313T080000
END:DAYLIGHT
BEGIN:STANDARD
TZOFFSETFROM:-0500
TZOFFSETTO:-0600
TZNAME:CST
DTSTART:20221106T070000
END:STANDARD
BEGIN:DAYLIGHT
TZOFFSETFROM:-0600
TZOFFSETTO:-0500
TZNAME:CDT
DTSTART:20230312T080000
END:DAYLIGHT
BEGIN:STANDARD
TZOFFSETFROM:-0500
TZOFFSETTO:-0600
TZNAME:CST
DTSTART:20231105T070000
END:STANDARD
BEGIN:DAYLIGHT
TZOFFSETFROM:-0600
TZOFFSETTO:-0500
TZNAME:CDT
DTSTART:20240310T080000
END:DAYLIGHT
BEGIN:STANDARD
TZOFFSETFROM:-0500
TZOFFSETTO:-0600
TZNAME:CST
DTSTART:20241103T070000
END:STANDARD
END:VTIMEZONE
BEGIN:VEVENT
DTSTART;VALUE=DATE:20230829
DTEND;VALUE=DATE:20231005
DTSTAMP:20260422T105316
CREATED:20230315T192118Z
LAST-MODIFIED:20230315T192118Z
UID:10021618-1693267200-1696463999@www.pittks.org
SUMMARY:Adult Softball League
DESCRIPTION:TUESDAY 7/3 COED\nWEDNESDAY 5/5 COED \nSession 1: April 11 – May 17 | RSVP by April 4\nSession 2: May 30 – August 2 | RSVP by May 23\nSession 3: August 29 – October 4 | RSVP by August 22\nLast Week Will Be Tournament Play \n$250.00 Per Team For Session 1 & 3\n$325.00 Per Team For Session 2 \nDon Gutteridge Sports Complex \nRegister: 620.231.8310 | 710 W 9th St.
URL:https://www.pittks.org/event/adult-softball-league-4/
LOCATION:Don Gutteridge Sports Complex\, 702 Memorial Dr.\, Pittsburg\, KS\, 66762\, United States
CATEGORIES:Adults,Athletics
ATTACH;FMTTYPE=image/png:https://www.pittks.org/wp-content/uploads/2023/03/2023-Adult-Softball-League-Flyer.png
ORGANIZER;CN="Pittsburg Parks & Recreation Department":MAILTO:pprd@pittks.org
END:VEVENT
BEGIN:VEVENT
DTSTART;TZID=America/Chicago:20230918T073000
DTEND;TZID=America/Chicago:20230918T173000
DTSTAMP:20260422T105316
CREATED:20230801T170744Z
LAST-MODIFIED:20230801T170744Z
UID:10022604-1695022200-1695058200@www.pittks.org
SUMMARY:Camp Now & Then
DESCRIPTION:Camp Now & Then is a fun opportunity for kids to play games\, create crafts\, and make new friends for those sporadic days when kids are not in school during the year!\n7:30 am – 5:30 pm\nAges 5 – 12\nLincoln Center | 710 W 9th St.\n$20.00 Per Day Per Child\n2023 – 2024 Out-of-School Dates\nSeptember 18\nOctober 16 & 20\nNovember 20 -22\nDecember 21 -29\nNO CAMP ON DECEMBER 25 & 26 DUE TO THE HOLIDAY\nMore Information\n620-231-8310 | 710 W 9th St.
URL:https://www.pittks.org/event/camp-now-then-7/2023-09-18/
LOCATION:Lincoln Center
CATEGORIES:Children's Camps
ATTACH;FMTTYPE=image/jpeg:https://www.pittks.org/wp-content/uploads/2023/08/361954438_682740603882702_7376219392425548983_n.jpg
ORGANIZER;CN="Pittsburg Parks & Recreation Department":MAILTO:pprd@pittks.org
END:VEVENT
END:VCALENDAR