BEGIN:VCALENDAR
VERSION:2.0
PRODID:-//City of Pittsburg - ECPv6.15.20//NONSGML v1.0//EN
CALSCALE:GREGORIAN
METHOD:PUBLISH
X-WR-CALNAME:City of Pittsburg
X-ORIGINAL-URL:https://www.pittks.org
X-WR-CALDESC:Events for City of Pittsburg
REFRESH-INTERVAL;VALUE=DURATION:PT1H
X-Robots-Tag:noindex
X-PUBLISHED-TTL:PT1H
BEGIN:VTIMEZONE
TZID:America/Chicago
BEGIN:DAYLIGHT
TZOFFSETFROM:-0600
TZOFFSETTO:-0500
TZNAME:CDT
DTSTART:20250309T080000
END:DAYLIGHT
BEGIN:STANDARD
TZOFFSETFROM:-0500
TZOFFSETTO:-0600
TZNAME:CST
DTSTART:20251102T070000
END:STANDARD
BEGIN:DAYLIGHT
TZOFFSETFROM:-0600
TZOFFSETTO:-0500
TZNAME:CDT
DTSTART:20260308T080000
END:DAYLIGHT
BEGIN:STANDARD
TZOFFSETFROM:-0500
TZOFFSETTO:-0600
TZNAME:CST
DTSTART:20261101T070000
END:STANDARD
BEGIN:DAYLIGHT
TZOFFSETFROM:-0600
TZOFFSETTO:-0500
TZNAME:CDT
DTSTART:20270314T080000
END:DAYLIGHT
BEGIN:STANDARD
TZOFFSETFROM:-0500
TZOFFSETTO:-0600
TZNAME:CST
DTSTART:20271107T070000
END:STANDARD
END:VTIMEZONE
BEGIN:VEVENT
DTSTART;TZID=America/Chicago:20260510T130000
DTEND;TZID=America/Chicago:20260510T150000
DTSTAMP:20260424T180557
CREATED:20260423T134316Z
LAST-MODIFIED:20260423T134316Z
UID:10025873-1778418000-1778425200@www.pittks.org
SUMMARY:Karen's Dance Studio Presents: Among the Stars
DESCRIPTION:Performance Times:\nMay 10\, 2026 @ 1PM and 5PM \nTicket Prices:\nAll Seats are Reserved\nFloor – $15\nBalcony – $12 \n*Pre-Sale tickets live 5/1/26 – General Sale opens 5/4/26 \nPurchase Tickets
URL:https://www.pittks.org/event/karens-dance-studio-presents-among-the-stars/2026-05-10/1/
LOCATION:Memorial Auditorium\, 503 N. Pine St.\, Pittsburg\, KS\, 66762\, United States
CATEGORIES:Memorial Auditorium
ATTACH;FMTTYPE=image/png:https://www.pittks.org/wp-content/uploads/2026/04/An-interactive-two-act-murder-mystery-show-performed-between-dinner-drinks-29.png
END:VEVENT
BEGIN:VEVENT
DTSTART;TZID=America/Chicago:20260510T170000
DTEND;TZID=America/Chicago:20260510T190000
DTSTAMP:20260424T180557
CREATED:20260423T134316Z
LAST-MODIFIED:20260423T134316Z
UID:10025874-1778432400-1778439600@www.pittks.org
SUMMARY:Karen's Dance Studio Presents: Among the Stars
DESCRIPTION:Performance Times:\nMay 10\, 2026 @ 1PM and 5PM \nTicket Prices:\nAll Seats are Reserved\nFloor – $15\nBalcony – $12 \n*Pre-Sale tickets live 5/1/26 – General Sale opens 5/4/26 \nPurchase Tickets
URL:https://www.pittks.org/event/karens-dance-studio-presents-among-the-stars/2026-05-10/2/
LOCATION:Memorial Auditorium\, 503 N. Pine St.\, Pittsburg\, KS\, 66762\, United States
CATEGORIES:Memorial Auditorium
ATTACH;FMTTYPE=image/png:https://www.pittks.org/wp-content/uploads/2026/04/An-interactive-two-act-murder-mystery-show-performed-between-dinner-drinks-29.png
END:VEVENT
END:VCALENDAR