BEGIN:VCALENDAR
VERSION:2.0
PRODID:-//City of Pittsburg - ECPv6.15.20//NONSGML v1.0//EN
CALSCALE:GREGORIAN
METHOD:PUBLISH
X-WR-CALNAME:City of Pittsburg
X-ORIGINAL-URL:https://www.pittks.org
X-WR-CALDESC:Events for City of Pittsburg
REFRESH-INTERVAL;VALUE=DURATION:PT1H
X-Robots-Tag:noindex
X-PUBLISHED-TTL:PT1H
BEGIN:VTIMEZONE
TZID:America/Chicago
BEGIN:DAYLIGHT
TZOFFSETFROM:-0600
TZOFFSETTO:-0500
TZNAME:CDT
DTSTART:20250309T080000
END:DAYLIGHT
BEGIN:STANDARD
TZOFFSETFROM:-0500
TZOFFSETTO:-0600
TZNAME:CST
DTSTART:20251102T070000
END:STANDARD
BEGIN:DAYLIGHT
TZOFFSETFROM:-0600
TZOFFSETTO:-0500
TZNAME:CDT
DTSTART:20260308T080000
END:DAYLIGHT
BEGIN:STANDARD
TZOFFSETFROM:-0500
TZOFFSETTO:-0600
TZNAME:CST
DTSTART:20261101T070000
END:STANDARD
BEGIN:DAYLIGHT
TZOFFSETFROM:-0600
TZOFFSETTO:-0500
TZNAME:CDT
DTSTART:20270314T080000
END:DAYLIGHT
BEGIN:STANDARD
TZOFFSETFROM:-0500
TZOFFSETTO:-0600
TZNAME:CST
DTSTART:20271107T070000
END:STANDARD
END:VTIMEZONE
BEGIN:VEVENT
DTSTART;TZID=America/Chicago:20260102T073000
DTEND;TZID=America/Chicago:20260102T173000
DTSTAMP:20260424T020130
CREATED:20250925T185840Z
LAST-MODIFIED:20251110T161846Z
UID:10024526-1767339000-1767375000@www.pittks.org
SUMMARY:Camp Now & Then
DESCRIPTION:Camp Now & Then\nWhen school’s out\, the fun is in! Our Out-of-School Camp offers kids ages 5–12 a safe\, active\, and exciting place to spend the day. Campers will enjoy games\, crafts\, sports\, and themed activities that keep their minds and bodies moving. With friendly staff and plenty of opportunities to make new friends\, it’s the perfect mix of learning\, laughter\, and adventure—no matter the school break. \n🕒 Time: 7:30am – 5:30pm📍 Location: Lincoln Center\, 710 W 9th St.👧👦 Ages: 5 – 12💲 Cost: $25.00 Per Day Per Child  \n📅 Dates:  \nSeptember 15 \nOctober 10\, 16\, & 17 \nNovember 7 & 24 – 28 | No Camp November 27 & 28 \nDecember 29 – 31 | No Camp December 22 – 26 \nJanuary 2 & 23 | No Camp Jan. 1 & 19 \nFebruary 13\, 19\, & 20 \nMarch 16 – 20 \nApril 3 & 6 \nMay 1 \nIncludes: \nSupervised games\, sports\, and creative crafts \nThemed activities to match each break \nIndoor and outdoor play (weather permitting) \nFun group challenges and team-building activities \nTime to relax\, read\, or play board games \nTwo snacks provided each day \nA safe\, positive environment led by trained staff \n(Campers should bring a sack lunch\, water bottle\, and comfortable play clothes.) \nLed by trained and enthusiastic staff\, this safe and supportive camp helps kids grow in confidence\, make new friends\, and try new things — all while having an absolute blast! Spaces are limited — Reserve your spot today! \n2025 Out-Of-School Camp Now & Then Reg. Packet \n2025 – 2026 Out-Of-School Parent Handbook
URL:https://www.pittks.org/event/camp-now-then-2/2026-01-02/
LOCATION:Lincoln Center
CATEGORIES:Children,Children's Camps,Crafts & Traditional Arts,Enrichment/Learning,Kids
ATTACH;FMTTYPE=image/png:https://www.pittks.org/wp-content/uploads/2025/09/2025-2026-Out-Of-School-Camp-Flyer-3.png
ORGANIZER;CN="Pittsburg Parks & Recreation Department":MAILTO:pprd@pittks.org
END:VEVENT
BEGIN:VEVENT
DTSTART;TZID=America/Chicago:20260113T173000
DTEND;TZID=America/Chicago:20260113T180000
DTSTAMP:20260424T020130
CREATED:20251016T201029Z
LAST-MODIFIED:20251016T201030Z
UID:10023426-1768325400-1768327200@www.pittks.org
SUMMARY:City Commission Meeting
DESCRIPTION:The Pittsburg City Commission meets on the second and fourth Tuesday of each month at 5:30 pm\, inside the Beard-Shanks Law Enforcement Center courtroom. For more information\, contact City Clerk Tammy Nagel at (620) 230-5532. \nCommission meetings are broadcast live on Cox channel 6\, Craw-Kan channel 406\, and on the city’s YouTube channel: www.pittks.org/YouTube. Members of the public are encouraged to watch remotely or attend in-person. \nFor meeting minutes and agendas\, visit pittks.org/city-government/city-commission.
URL:https://www.pittks.org/event/city-commission-meeting-2-2-2/2026-01-13/
LOCATION:Beard-Shanks Law Enforcement Center courtroom
CATEGORIES:Government
ATTACH;FMTTYPE=image/jpeg:https://www.pittks.org/wp-content/uploads/2018/11/CityHall.jpg
END:VEVENT
BEGIN:VEVENT
DTSTART;TZID=America/Chicago:20260114T163000
DTEND;TZID=America/Chicago:20260114T163000
DTSTAMP:20260424T020130
CREATED:20200706T202539Z
LAST-MODIFIED:20250611T165603Z
UID:10022786-1768408200-1768408200@www.pittks.org
SUMMARY:Library Board of Trustees Meeting
DESCRIPTION:The Library Board of Trustees will hold its monthly meeting in-person in the library meeting room. Meetings are typically held on the second Wednesday of each month at 4:30 pm. For more information\, contact Bev Clarkson at (620) 231-8100.
URL:https://www.pittks.org/event/library-board-of-trustees-meeting/2026-01-14/
LOCATION:Pittsburg Public Library\, 308 N Walnut St\, Pittsburg\, 66762\, United States
CATEGORIES:Government
ATTACH;FMTTYPE=image/jpeg:https://www.pittks.org/wp-content/uploads/2020/07/library_small.jpg
END:VEVENT
BEGIN:VEVENT
DTSTART;TZID=America/Chicago:20260114T173000
DTEND;TZID=America/Chicago:20260114T173000
DTSTAMP:20260424T020130
CREATED:20200706T202939Z
LAST-MODIFIED:20250611T165603Z
UID:10023146-1768411800-1768411800@www.pittks.org
SUMMARY:Sustainability Advisory Committee Meeting
DESCRIPTION:The Sustainability Advisory Committee will hold its regularly-scheduled monthly meeting at City Hall. The committee typically meets every second Wednesday of the month at 5:30 pm. Contact Jay Byers at (620) 230-5685.
URL:https://www.pittks.org/event/sustainability-advisory-committee-meeting/2026-01-14/
LOCATION:City Hall\, 201 W. 4th St\, Pittsburg\, Kansas\, 66762
CATEGORIES:Government
ATTACH;FMTTYPE=image/jpeg:https://www.pittks.org/wp-content/uploads/2020/07/SAC_Group_SM.jpg
END:VEVENT
BEGIN:VEVENT
DTSTART;TZID=America/Chicago:20260122T173000
DTEND;TZID=America/Chicago:20260122T180000
DTSTAMP:20260424T020130
CREATED:20260120T171339Z
LAST-MODIFIED:20260120T171339Z
UID:10024720-1769103000-1769104800@www.pittks.org
SUMMARY:City Commission Meeting (Special Meeting)
DESCRIPTION:The Pittsburg City Commission meets on the second and fourth Tuesday of each month at 5:30 pm\, inside the Beard-Shanks Law Enforcement Center courtroom. For more information\, contact City Clerk Tammy Nagel at (620) 230-5532. \nCommission meetings are broadcast live on Cox channel 6\, Craw-Kan channel 406\, and on the city’s YouTube channel: www.pittks.org/YouTube. Members of the public are encouraged to watch remotely or attend in-person. \nFor meeting minutes and agendas\, visit pittks.org/city-government/city-commission.
URL:https://www.pittks.org/event/city-commission-meeting-special-meeting/
LOCATION:Beard-Shanks Law Enforcement Center courtroom
CATEGORIES:Government
ATTACH;FMTTYPE=image/jpeg:https://www.pittks.org/wp-content/uploads/2018/11/CityHall.jpg
END:VEVENT
BEGIN:VEVENT
DTSTART;TZID=America/Chicago:20260123T073000
DTEND;TZID=America/Chicago:20260123T173000
DTSTAMP:20260424T020130
CREATED:20250925T185840Z
LAST-MODIFIED:20251110T161846Z
UID:10024527-1769153400-1769189400@www.pittks.org
SUMMARY:Camp Now & Then
DESCRIPTION:Camp Now & Then\nWhen school’s out\, the fun is in! Our Out-of-School Camp offers kids ages 5–12 a safe\, active\, and exciting place to spend the day. Campers will enjoy games\, crafts\, sports\, and themed activities that keep their minds and bodies moving. With friendly staff and plenty of opportunities to make new friends\, it’s the perfect mix of learning\, laughter\, and adventure—no matter the school break. \n🕒 Time: 7:30am – 5:30pm📍 Location: Lincoln Center\, 710 W 9th St.👧👦 Ages: 5 – 12💲 Cost: $25.00 Per Day Per Child  \n📅 Dates:  \nSeptember 15 \nOctober 10\, 16\, & 17 \nNovember 7 & 24 – 28 | No Camp November 27 & 28 \nDecember 29 – 31 | No Camp December 22 – 26 \nJanuary 2 & 23 | No Camp Jan. 1 & 19 \nFebruary 13\, 19\, & 20 \nMarch 16 – 20 \nApril 3 & 6 \nMay 1 \nIncludes: \nSupervised games\, sports\, and creative crafts \nThemed activities to match each break \nIndoor and outdoor play (weather permitting) \nFun group challenges and team-building activities \nTime to relax\, read\, or play board games \nTwo snacks provided each day \nA safe\, positive environment led by trained staff \n(Campers should bring a sack lunch\, water bottle\, and comfortable play clothes.) \nLed by trained and enthusiastic staff\, this safe and supportive camp helps kids grow in confidence\, make new friends\, and try new things — all while having an absolute blast! Spaces are limited — Reserve your spot today! \n2025 Out-Of-School Camp Now & Then Reg. Packet \n2025 – 2026 Out-Of-School Parent Handbook
URL:https://www.pittks.org/event/camp-now-then-2/2026-01-23/
LOCATION:Lincoln Center
CATEGORIES:Children,Children's Camps,Crafts & Traditional Arts,Enrichment/Learning,Kids
ATTACH;FMTTYPE=image/png:https://www.pittks.org/wp-content/uploads/2025/09/2025-2026-Out-Of-School-Camp-Flyer-3.png
ORGANIZER;CN="Pittsburg Parks & Recreation Department":MAILTO:pprd@pittks.org
END:VEVENT
BEGIN:VEVENT
DTSTART;TZID=America/Chicago:20260126T173000
DTEND;TZID=America/Chicago:20260126T173000
DTSTAMP:20260424T020130
CREATED:20200706T205400Z
LAST-MODIFIED:20251230T195629Z
UID:10021135-1769448600-1769448600@www.pittks.org
SUMMARY:Planning Commission/Board of Zoning Appeals Meeting
DESCRIPTION:The Planning Commission/Board of Zoning Appeals will hold its regularly-scheduled meeting inside the Beard-Shanks Law Enforcement Center\, 201 N. Pine St.\, Pittsburg. For additional information\, contact Zoning Administrator Dexter Neisler 620-230-5517.
URL:https://www.pittks.org/event/planning-commission-board-of-zoning-appeals-meeting/
LOCATION:Beard-Shanks Law Enforcement Center courtroom
CATEGORIES:Government
ATTACH;FMTTYPE=image/jpeg:https://www.pittks.org/wp-content/uploads/2020/07/architecture-plans-sm.jpg
END:VEVENT
BEGIN:VEVENT
DTSTART;TZID=America/Chicago:20260127T173000
DTEND;TZID=America/Chicago:20260127T173000
DTSTAMP:20260424T020130
CREATED:20240822T033018Z
LAST-MODIFIED:20240822T033018Z
UID:10023307-1769535000-1769535000@www.pittks.org
SUMMARY:City Commission Meeting
DESCRIPTION:The Pittsburg City Commission meets on the second and fourth Tuesday of each month at 5:30 pm\, inside the Beard-Shanks Law Enforcement Center courtroom. For more information\, contact City Clerk Tammy Nagel at (620) 230-5532. \nCommission meetings are broadcast live on Cox channel 6\, Craw-Kan channel 406\, and on the city’s YouTube channel: www.pittks.org/YouTube. Members of the public are encouraged to watch remotely or attend in-person. \nFor meeting minutes and agendas\, visit pittks.org/city-government/city-commission.
URL:https://www.pittks.org/event/city-commission-meeting/2026-01-27/
LOCATION:Beard-Shanks Law Enforcement Center courtroom
CATEGORIES:Government
ATTACH;FMTTYPE=image/jpeg:https://www.pittks.org/wp-content/uploads/2018/11/CityHall.jpg
END:VEVENT
END:VCALENDAR