BEGIN:VCALENDAR
VERSION:2.0
PRODID:-//City of Pittsburg - ECPv6.15.20//NONSGML v1.0//EN
CALSCALE:GREGORIAN
METHOD:PUBLISH
X-WR-CALNAME:City of Pittsburg
X-ORIGINAL-URL:https://www.pittks.org
X-WR-CALDESC:Events for City of Pittsburg
REFRESH-INTERVAL;VALUE=DURATION:PT1H
X-Robots-Tag:noindex
X-PUBLISHED-TTL:PT1H
BEGIN:VTIMEZONE
TZID:America/Chicago
BEGIN:DAYLIGHT
TZOFFSETFROM:-0600
TZOFFSETTO:-0500
TZNAME:CDT
DTSTART:20220313T080000
END:DAYLIGHT
BEGIN:STANDARD
TZOFFSETFROM:-0500
TZOFFSETTO:-0600
TZNAME:CST
DTSTART:20221106T070000
END:STANDARD
BEGIN:DAYLIGHT
TZOFFSETFROM:-0600
TZOFFSETTO:-0500
TZNAME:CDT
DTSTART:20230312T080000
END:DAYLIGHT
BEGIN:STANDARD
TZOFFSETFROM:-0500
TZOFFSETTO:-0600
TZNAME:CST
DTSTART:20231105T070000
END:STANDARD
BEGIN:DAYLIGHT
TZOFFSETFROM:-0600
TZOFFSETTO:-0500
TZNAME:CDT
DTSTART:20240310T080000
END:DAYLIGHT
BEGIN:STANDARD
TZOFFSETFROM:-0500
TZOFFSETTO:-0600
TZNAME:CST
DTSTART:20241103T070000
END:STANDARD
BEGIN:DAYLIGHT
TZOFFSETFROM:-0600
TZOFFSETTO:-0500
TZNAME:CDT
DTSTART:20250309T080000
END:DAYLIGHT
BEGIN:STANDARD
TZOFFSETFROM:-0500
TZOFFSETTO:-0600
TZNAME:CST
DTSTART:20251102T070000
END:STANDARD
END:VTIMEZONE
BEGIN:VEVENT
DTSTART;TZID=America/Chicago:20240504T160000
DTEND;TZID=America/Chicago:20240504T180000
DTSTAMP:20260424T023349
CREATED:20240421T033738Z
LAST-MODIFIED:20240421T033738Z
UID:10022418-1714838400-1714845600@www.pittks.org
SUMMARY:BTC Presents "Got You Covered"
DESCRIPTION:Break The Ceiling Athletics proudly presents “Got You Covered” at Memorial Auditorium. \nPerformances:\nSaturday\, May 4th – 10:00 AM\nSaturday\, May 4th – 4:00 PM \nPURCHASE TICKETS
URL:https://www.pittks.org/event/btc-presents-got-you-covered-2/
LOCATION:Memorial Auditorium\, 503 N. Pine St.\, Pittsburg\, KS\, 66762\, United States
CATEGORIES:Adults,Athletics,Children,Fine & Performing Arts,Kids,Memorial Auditorium,Teens
ATTACH;FMTTYPE=image/jpeg:https://www.pittks.org/wp-content/uploads/2024/03/2024-Spring-Recital-Poster-8.5x11-jpg-scaled.jpg
END:VEVENT
BEGIN:VEVENT
DTSTART;TZID=America/Chicago:20240504T100000
DTEND;TZID=America/Chicago:20240504T233000
DTSTAMP:20260424T023349
CREATED:20240326T195648Z
LAST-MODIFIED:20240421T033622Z
UID:10022748-1714816800-1714865400@www.pittks.org
SUMMARY:BTC Presents "Got You Covered"
DESCRIPTION:Break The Ceiling Athletics proudly presents “Got You Covered” at Memorial Auditorium. \nPerformances:\nSaturday\, May 4th – 10:00 AM\nSaturday\, May 4th – 4:00 PM \nPURCHASE TICKETS
URL:https://www.pittks.org/event/btc-presents-got-you-covered/
LOCATION:Memorial Auditorium\, 503 N. Pine St.\, Pittsburg\, KS\, 66762\, United States
CATEGORIES:Adults,Athletics,Children,Fine & Performing Arts,Kids,Memorial Auditorium,Teens
ATTACH;FMTTYPE=image/jpeg:https://www.pittks.org/wp-content/uploads/2024/03/2024-Spring-Recital-Poster-8.5x11-jpg-scaled.jpg
END:VEVENT
BEGIN:VEVENT
DTSTART;TZID=America/Chicago:20240421T140000
DTEND;TZID=America/Chicago:20240421T160000
DTSTAMP:20260424T023349
CREATED:20240326T182637Z
LAST-MODIFIED:20240326T192827Z
UID:10022734-1713708000-1713715200@www.pittks.org
SUMMARY:Midwest Regional Ballet Presents "Beauty and the Beast"
DESCRIPTION:Midwest Regional Ballet artistically combines classical ballet and aerial dance to bring the original 1740 story of “Beauty and the Beast” by Gabriell-Suzanne Barbot de Villeneuve to life.\n\nAvailable Performance Dates/Times:\nThursday\, April 18 – 7:30PM\nFriday\, April 19 – 7:30PM\nSaturday\, April 20 – 7:30PM\nSunday\, April 21 – 2:00PM\n\nDirected by: Kaye Lewis \nPurchase Tickets
URL:https://www.pittks.org/event/midwest-regional-ballet-presents-beauty-and-the-beast/2024-04-21/
LOCATION:Memorial Auditorium\, 503 N. Pine St.\, Pittsburg\, KS\, 66762\, United States
CATEGORIES:Adults,Children,Fine & Performing Arts,Memorial Auditorium,Nightlife,Teens
ATTACH;FMTTYPE=image/jpeg:https://www.pittks.org/wp-content/uploads/2024/03/BeautyBeastPoster2024-1.jpg
ORGANIZER;CN="Midwest Regional Ballet":MAILTO:kayelewis_mrb@hotmail.com
END:VEVENT
BEGIN:VEVENT
DTSTART;TZID=America/Chicago:20240420T193000
DTEND;TZID=America/Chicago:20240420T213000
DTSTAMP:20260424T023349
CREATED:20240326T182637Z
LAST-MODIFIED:20240326T192827Z
UID:10022733-1713641400-1713648600@www.pittks.org
SUMMARY:Midwest Regional Ballet Presents "Beauty and the Beast"
DESCRIPTION:Midwest Regional Ballet artistically combines classical ballet and aerial dance to bring the original 1740 story of “Beauty and the Beast” by Gabriell-Suzanne Barbot de Villeneuve to life.\n\nAvailable Performance Dates/Times:\nThursday\, April 18 – 7:30PM\nFriday\, April 19 – 7:30PM\nSaturday\, April 20 – 7:30PM\nSunday\, April 21 – 2:00PM\n\nDirected by: Kaye Lewis \nPurchase Tickets
URL:https://www.pittks.org/event/midwest-regional-ballet-presents-beauty-and-the-beast/2024-04-20/
LOCATION:Memorial Auditorium\, 503 N. Pine St.\, Pittsburg\, KS\, 66762\, United States
CATEGORIES:Adults,Children,Fine & Performing Arts,Memorial Auditorium,Nightlife,Teens
ATTACH;FMTTYPE=image/jpeg:https://www.pittks.org/wp-content/uploads/2024/03/BeautyBeastPoster2024-1.jpg
ORGANIZER;CN="Midwest Regional Ballet":MAILTO:kayelewis_mrb@hotmail.com
END:VEVENT
BEGIN:VEVENT
DTSTART;TZID=America/Chicago:20240420T110000
DTEND;TZID=America/Chicago:20240420T150000
DTSTAMP:20260424T023349
CREATED:20240229T201338Z
LAST-MODIFIED:20240412T214040Z
UID:10022726-1713610800-1713625200@www.pittks.org
SUMMARY:Earth Day Celebration
DESCRIPTION:The Pittsburg community is invited to celebrate Earth Day with a FREE\, family-friendly event in downtown Pittsburg. \nJoin us Saturday\, April 20 from 11 am – 3 pm for the Pittsburg Earth Day Celebration at the Pritchett Pavilion in Immigrant Park (2nd & Broadway). Enjoy good food\, live music\, kid-friendly activities\, and more as you learn about how each of us can make a difference in the future of our planet. \nEARTH DAY 2024 – Our theme\, “Planet vs. Plastics\,” calls to advocate for widespread awareness on the health risk of plastics\, rapidly phase out all single use plastics\, urgently push for a strong UN Treaty on Plastic Pollution\, and demand an end to fast fashion. Join us as we build a plastic-free planet for generations to come! \nFood/Drink Vendors: \n\nJolly Trolley\nGhetto Tacos\n\nExhibitors & Community Orgs: \n\nCommunity Health Center of SEK\nCrawford County Democrats\nFirst United Methodist Church\nHeartland Beekeepers Association\nK-State Extension Master Gardeners\nNeighborhood Advisory Committee\nParents As Teachers\nPittsburg Area Young Professionals\nPittsburg Beautiful\nPittsburg Parks and Recreation Dept.\nPittsburg Police Department\nPittsburg Public Library\nPittsburg Storm Water Dept.\nPSU Axe Library\nPSU Nature Reach\nPSU Plastics Engineering Technology Program\nPSU Students for Sustainability\nRiggs Chiropractic\nSEK Animal Advocates\nSEK Recycling Center\nSouthwind Cycle and Outdoor\nSperry-Galligar Audubon Society\nSustainability Advisory Committee\nThe Literary Cat Bookstore\nWal-Mart Vision Center\nZone 6 Garden Club\n\nREGISTRATION FOR VENDORS AND EXHIBITORS IS NOW CLOSED! JOIN US NEXT YEAR! \nFor more details\, contact Denise Fitzpatrick at 620-249-3205 or email bdfitz@sbcglobal.net.
URL:https://www.pittks.org/event/earth-day-celebration-3/
LOCATION:Pritchett Pavilion – 2nd & Broadway\, 106 2nd St\, Pittsburg\, KS\, 66762\, United States
CATEGORIES:Adults,Celebrations/Fundraisers,Children,Civic Engagement,Enrichment/Learning,Food,Kids,Outdoors,Teens,Trade Show/Expo,Wellness
ATTACH;FMTTYPE=image/png:https://www.pittks.org/wp-content/uploads/2024/02/EARTH-DAY.png
END:VEVENT
BEGIN:VEVENT
DTSTART;TZID=America/Chicago:20240419T193000
DTEND;TZID=America/Chicago:20240419T213000
DTSTAMP:20260424T023349
CREATED:20240326T182637Z
LAST-MODIFIED:20240326T192827Z
UID:10022732-1713555000-1713562200@www.pittks.org
SUMMARY:Midwest Regional Ballet Presents "Beauty and the Beast"
DESCRIPTION:Midwest Regional Ballet artistically combines classical ballet and aerial dance to bring the original 1740 story of “Beauty and the Beast” by Gabriell-Suzanne Barbot de Villeneuve to life.\n\nAvailable Performance Dates/Times:\nThursday\, April 18 – 7:30PM\nFriday\, April 19 – 7:30PM\nSaturday\, April 20 – 7:30PM\nSunday\, April 21 – 2:00PM\n\nDirected by: Kaye Lewis \nPurchase Tickets
URL:https://www.pittks.org/event/midwest-regional-ballet-presents-beauty-and-the-beast/2024-04-19/
LOCATION:Memorial Auditorium\, 503 N. Pine St.\, Pittsburg\, KS\, 66762\, United States
CATEGORIES:Adults,Children,Fine & Performing Arts,Memorial Auditorium,Nightlife,Teens
ATTACH;FMTTYPE=image/jpeg:https://www.pittks.org/wp-content/uploads/2024/03/BeautyBeastPoster2024-1.jpg
ORGANIZER;CN="Midwest Regional Ballet":MAILTO:kayelewis_mrb@hotmail.com
END:VEVENT
BEGIN:VEVENT
DTSTART;TZID=America/Chicago:20240418T193000
DTEND;TZID=America/Chicago:20240418T213000
DTSTAMP:20260424T023349
CREATED:20240326T182637Z
LAST-MODIFIED:20240326T192827Z
UID:10022731-1713468600-1713475800@www.pittks.org
SUMMARY:Midwest Regional Ballet Presents "Beauty and the Beast"
DESCRIPTION:Midwest Regional Ballet artistically combines classical ballet and aerial dance to bring the original 1740 story of “Beauty and the Beast” by Gabriell-Suzanne Barbot de Villeneuve to life.\n\nAvailable Performance Dates/Times:\nThursday\, April 18 – 7:30PM\nFriday\, April 19 – 7:30PM\nSaturday\, April 20 – 7:30PM\nSunday\, April 21 – 2:00PM\n\nDirected by: Kaye Lewis \nPurchase Tickets
URL:https://www.pittks.org/event/midwest-regional-ballet-presents-beauty-and-the-beast/2024-04-18/
LOCATION:Memorial Auditorium\, 503 N. Pine St.\, Pittsburg\, KS\, 66762\, United States
CATEGORIES:Adults,Children,Fine & Performing Arts,Memorial Auditorium,Nightlife,Teens
ATTACH;FMTTYPE=image/jpeg:https://www.pittks.org/wp-content/uploads/2024/03/BeautyBeastPoster2024-1.jpg
ORGANIZER;CN="Midwest Regional Ballet":MAILTO:kayelewis_mrb@hotmail.com
END:VEVENT
BEGIN:VEVENT
DTSTART;TZID=America/Chicago:20240406T190000
DTEND;TZID=America/Chicago:20240406T210000
DTSTAMP:20260424T023349
CREATED:20240321T212459Z
LAST-MODIFIED:20240321T212459Z
UID:10022730-1712430000-1712437200@www.pittks.org
SUMMARY:Triple Threat Threeactrics Presents "Ride The Cyclone"
DESCRIPTION:Triple Threat Threeatrics will present “Ride the Cyclone” April 4-6 at 7:00PM at Memorial Auditorium. This thrilling musical comedy about 6 teenagers whose lives are cut short in a freak accident takes audiences on a roller coaster. For mature teen and adult audiences. \nPurchase Tickets
URL:https://www.pittks.org/event/triple-threat-threeactrics-presents-ride-the-cyclone/2024-04-06/
LOCATION:Memorial Auditorium\, 503 N. Pine St.\, Pittsburg\, KS\, 66762\, United States
CATEGORIES:Adults,Fine & Performing Arts,Kids,Memorial Auditorium,Nightlife,Teens
ATTACH;FMTTYPE=image/jpeg:https://www.pittks.org/wp-content/uploads/2024/03/Ride-the-Cyclone-Poster.jpg
ORGANIZER;CN="Triple Threat Threeatrics":MAILTO:ThreeatricsLLC@gmail.com
END:VEVENT
BEGIN:VEVENT
DTSTART;TZID=America/Chicago:20240405T190000
DTEND;TZID=America/Chicago:20240405T210000
DTSTAMP:20260424T023349
CREATED:20240321T212459Z
LAST-MODIFIED:20240321T212459Z
UID:10022729-1712343600-1712350800@www.pittks.org
SUMMARY:Triple Threat Threeactrics Presents "Ride The Cyclone"
DESCRIPTION:Triple Threat Threeatrics will present “Ride the Cyclone” April 4-6 at 7:00PM at Memorial Auditorium. This thrilling musical comedy about 6 teenagers whose lives are cut short in a freak accident takes audiences on a roller coaster. For mature teen and adult audiences. \nPurchase Tickets
URL:https://www.pittks.org/event/triple-threat-threeactrics-presents-ride-the-cyclone/2024-04-05/
LOCATION:Memorial Auditorium\, 503 N. Pine St.\, Pittsburg\, KS\, 66762\, United States
CATEGORIES:Adults,Fine & Performing Arts,Kids,Memorial Auditorium,Nightlife,Teens
ATTACH;FMTTYPE=image/jpeg:https://www.pittks.org/wp-content/uploads/2024/03/Ride-the-Cyclone-Poster.jpg
ORGANIZER;CN="Triple Threat Threeatrics":MAILTO:ThreeatricsLLC@gmail.com
END:VEVENT
BEGIN:VEVENT
DTSTART;TZID=America/Chicago:20240404T190000
DTEND;TZID=America/Chicago:20240404T210000
DTSTAMP:20260424T023349
CREATED:20240321T212459Z
LAST-MODIFIED:20240321T212459Z
UID:10022728-1712257200-1712264400@www.pittks.org
SUMMARY:Triple Threat Threeactrics Presents "Ride The Cyclone"
DESCRIPTION:Triple Threat Threeatrics will present “Ride the Cyclone” April 4-6 at 7:00PM at Memorial Auditorium. This thrilling musical comedy about 6 teenagers whose lives are cut short in a freak accident takes audiences on a roller coaster. For mature teen and adult audiences. \nPurchase Tickets
URL:https://www.pittks.org/event/triple-threat-threeactrics-presents-ride-the-cyclone/2024-04-04/
LOCATION:Memorial Auditorium\, 503 N. Pine St.\, Pittsburg\, KS\, 66762\, United States
CATEGORIES:Adults,Fine & Performing Arts,Kids,Memorial Auditorium,Nightlife,Teens
ATTACH;FMTTYPE=image/jpeg:https://www.pittks.org/wp-content/uploads/2024/03/Ride-the-Cyclone-Poster.jpg
ORGANIZER;CN="Triple Threat Threeatrics":MAILTO:ThreeatricsLLC@gmail.com
END:VEVENT
BEGIN:VEVENT
DTSTART;TZID=America/Chicago:20240228T090000
DTEND;TZID=America/Chicago:20240228T130000
DTSTAMP:20260424T023349
CREATED:20240124T221810Z
LAST-MODIFIED:20240124T221810Z
UID:10022663-1709110800-1709125200@www.pittks.org
SUMMARY:Youth Entrepreneurship Challenge (YEC)
DESCRIPTION:We are looking for the next young entrepreneur! If you’re a HS student at Pittsburg\, St. Mary’s-Colgan\, Frontenac\, or Northeast keep reading.\n\nThe Goal: To expose students to entrepreneurship and build their interest in it\, leading students to see building their own business as a viable career path and a way to better their community.\n\nParticipants will be evaluated on: Executive summary\, Pitch\, & Posterboard presentation.\nThe public is encouraged to attend the posterboard session located in the Block22 Conference Room (inside the Co-Work Cafe) from 9 am – 1 pm.\n\nWhat: Youth Entrepreneurship Challenge (YEC)\nWhen: February 28th\nWhere: Block22- 4th and Broadway\nCash prizes provided by CBW Bank:\n1st Place- $1\,000\n2nd Place- $750\n3rd Place- $500\nJudge’s Choice- $250\nPeople’s Choice- $250\n\nYEC Sign up: https://goventuredash.com/competitions/469
URL:https://www.pittks.org/event/youth-entrepreneurship-challenge-yec/
LOCATION:Block 22\, 4th and Broadway\, Pittsburg\, KS\, 66762\, United States
CATEGORIES:Enrichment/Learning,Teens
ATTACH;FMTTYPE=image/jpeg:https://www.pittks.org/wp-content/uploads/2024/01/2024-Local-YEC-Flyer-1-1.jpg
END:VEVENT
BEGIN:VEVENT
DTSTART;TZID=America/Chicago:20230902T080000
DTEND;TZID=America/Chicago:20230902T120000
DTSTAMP:20260424T023349
CREATED:20230830T164315Z
LAST-MODIFIED:20230830T164317Z
UID:10022347-1693641600-1693656000@www.pittks.org
SUMMARY:Annual Book Sale
DESCRIPTION:The Annual Friends of the Library Book Sale will be held on Saturday\, September 2\, from 8:00 a.m. to 12:00 p.m. The sale is open to the public.\nThe Book Sale will be held outside in the Library’s courtyard and Bookmobile area. Rain cancels the sale.\nProceeds from the Book Sale benefit the Friends of the Library\, an organization that purchases library materials and sponsors programs and special events throughout the year\, including the Summer Reading Programs for all ages.\nThe Pittsburg Public Library is closed for regular business from Saturday\, September 2 through Monday\, September 4. Regular hours will resume at 9:00 a.m. on Tuesday\, September 5. Shop for a great cause!
URL:https://www.pittks.org/event/annual-book-sale/
LOCATION:Pittsburg Public Library\, 308 N Walnut\, Pittsburg\, KS\, 66762\, United States
CATEGORIES:Adults,Children,Teens
END:VEVENT
BEGIN:VEVENT
DTSTART;TZID=America/Chicago:20230823T160000
DTEND;TZID=America/Chicago:20230823T180000
DTSTAMP:20260424T023349
CREATED:20230801T151338Z
LAST-MODIFIED:20230801T151339Z
UID:10022597-1692806400-1692813600@www.pittks.org
SUMMARY:iCraft: Oil Pastels
DESCRIPTION:You’re invited to the iCraft Open House on Wednesday\, August 23\, from 4:00 to 6:00 p.m. This month\, we will be working with oil pastels.\nTraditional oil painting takes a bit of preparation and requires a variety of materials (and skills) to get started. Oil pastels are quick and easy! They do not require expensive brushes or solvents. Anyone can create a masterpiece with these easy to blend oil crayons. We provide the supplies—you provide the creativity.\niCraft is open to anyone in 6th grade through adult. No registration is required for this free program.
URL:https://www.pittks.org/event/icraft-oil-pastels/
LOCATION:Pittsburg Public Library\, 308 N Walnut\, Pittsburg\, KS\, 66762\, United States
CATEGORIES:Adults,Teens
ORGANIZER;CN="Pittsburg Public Library":MAILTO:info@pplonline.org
END:VEVENT
END:VCALENDAR