BEGIN:VCALENDAR
VERSION:2.0
PRODID:-//City of Pittsburg - ECPv6.15.20//NONSGML v1.0//EN
CALSCALE:GREGORIAN
METHOD:PUBLISH
X-WR-CALNAME:City of Pittsburg
X-ORIGINAL-URL:https://www.pittks.org
X-WR-CALDESC:Events for City of Pittsburg
REFRESH-INTERVAL;VALUE=DURATION:PT1H
X-Robots-Tag:noindex
X-PUBLISHED-TTL:PT1H
BEGIN:VTIMEZONE
TZID:America/Chicago
BEGIN:DAYLIGHT
TZOFFSETFROM:-0600
TZOFFSETTO:-0500
TZNAME:CDT
DTSTART:20220313T080000
END:DAYLIGHT
BEGIN:STANDARD
TZOFFSETFROM:-0500
TZOFFSETTO:-0600
TZNAME:CST
DTSTART:20221106T070000
END:STANDARD
BEGIN:DAYLIGHT
TZOFFSETFROM:-0600
TZOFFSETTO:-0500
TZNAME:CDT
DTSTART:20230312T080000
END:DAYLIGHT
BEGIN:STANDARD
TZOFFSETFROM:-0500
TZOFFSETTO:-0600
TZNAME:CST
DTSTART:20231105T070000
END:STANDARD
BEGIN:DAYLIGHT
TZOFFSETFROM:-0600
TZOFFSETTO:-0500
TZNAME:CDT
DTSTART:20240310T080000
END:DAYLIGHT
BEGIN:STANDARD
TZOFFSETFROM:-0500
TZOFFSETTO:-0600
TZNAME:CST
DTSTART:20241103T070000
END:STANDARD
BEGIN:DAYLIGHT
TZOFFSETFROM:-0600
TZOFFSETTO:-0500
TZNAME:CDT
DTSTART:20250309T080000
END:DAYLIGHT
BEGIN:STANDARD
TZOFFSETFROM:-0500
TZOFFSETTO:-0600
TZNAME:CST
DTSTART:20251102T070000
END:STANDARD
END:VTIMEZONE
BEGIN:VEVENT
DTSTART;TZID=America/Chicago:20240311T100000
DTEND;TZID=America/Chicago:20240312T190000
DTSTAMP:20260423T221957
CREATED:20240125T200058Z
LAST-MODIFIED:20240125T202151Z
UID:10022665-1710151200-1710270000@www.pittks.org
SUMMARY:Rhea Lana's of Pittsburg (March 10-16)
DESCRIPTION:Gently-used children’s clothes\, shoes\, toys\, books\, furniture\, baby gear\, and more! \nMarch 10 – 16 \nPre-Sale March 8 & 9
URL:https://www.pittks.org/event/rhea-lanas-of-pittsburg-march-10-16/2024-03-11/
LOCATION:Memorial Auditorium\, 503 N. Pine St.\, Pittsburg\, KS\, 66762\, United States
CATEGORIES:Children,Kids,Memorial Auditorium,Retail Shopping,Trade Show/Expo
ATTACH;FMTTYPE=image/png:https://www.pittks.org/wp-content/uploads/2024/01/Flyer-2.png
END:VEVENT
BEGIN:VEVENT
DTSTART;TZID=America/Chicago:20240310T120000
DTEND;TZID=America/Chicago:20240310T180000
DTSTAMP:20260423T221957
CREATED:20240125T200058Z
LAST-MODIFIED:20240125T202151Z
UID:10022664-1710072000-1710093600@www.pittks.org
SUMMARY:Rhea Lana's of Pittsburg (March 10-16)
DESCRIPTION:Gently-used children’s clothes\, shoes\, toys\, books\, furniture\, baby gear\, and more! \nMarch 10 – 16 \nPre-Sale March 8 & 9
URL:https://www.pittks.org/event/rhea-lanas-of-pittsburg-march-10-16/2024-03-10/
LOCATION:Memorial Auditorium\, 503 N. Pine St.\, Pittsburg\, KS\, 66762\, United States
CATEGORIES:Children,Kids,Memorial Auditorium,Retail Shopping,Trade Show/Expo
ATTACH;FMTTYPE=image/png:https://www.pittks.org/wp-content/uploads/2024/01/Flyer-2.png
END:VEVENT
BEGIN:VEVENT
DTSTART;TZID=America/Chicago:20231125T100000
DTEND;TZID=America/Chicago:20231125T130000
DTSTAMP:20260423T221957
CREATED:20231113T151315Z
LAST-MODIFIED:20231113T151315Z
UID:10022651-1700906400-1700917200@www.pittks.org
SUMMARY:Small Business Saturday
DESCRIPTION:Join us for yet another Small Business Saturday!\nThe Saturday after Thanksgiving\, Small Business Saturday is an opportunity for holiday shoppers to support Small Businesses during the busy shopping weekend.\nParticipate by picking up a Small Business Saturday passport at Pittsburg Arts Council’s Holiday Art Market from 10:00 am – 1:00 pm at the Frisco Event Center. From there you can see all participating businesses – visit a business to receive a stamp. Get 10 stamps and be entered to win one of two baskets full of local goodies! \nYou can submit your passport one of two ways: \n\nReturn yours to the booth at the Holiday Art Market\nEmail a picture of your completed passport to visitdowntownpittsburg@gmail.com\n\nAny local business is welcome to sign up to participate in this year’s festivities. Businesses are not required to be in the downtown district or members of the chamber to join the event. All participating businesses will be put on the Small Business Saturday passport. There is no fee to participate. \nTo register your business to participate\, or to learn more\, visit http://www.pittks.org/small-business-saturday/.
URL:https://www.pittks.org/event/small-business-saturday-2/
LOCATION:Frisco Event Center\, 204 E. 4th\, Pittsburg\, KS\, 66762\, United States
CATEGORIES:Holiday,Retail Shopping
ATTACH;FMTTYPE=image/png:https://www.pittks.org/wp-content/uploads/2023/11/SBS-Flyer-PNG.png
ORGANIZER;CN="Downtown Advisory Board":MAILTO:visitdowntownpitt@gmail.com
END:VEVENT
BEGIN:VEVENT
DTSTART;TZID=America/Chicago:20230809T160000
DTEND;TZID=America/Chicago:20230809T180000
DTSTAMP:20260423T221957
CREATED:20230313T160544Z
LAST-MODIFIED:20230313T160544Z
UID:10021610-1691596800-1691604000@www.pittks.org
SUMMARY:Pittsburg Farmers' Market
DESCRIPTION:At the Pittsburg Area Farmers’ Market\, you’ll find fresh\, locally-grown produce and farm-processed foods. Our vendors offer seasonal fruits and vegetables\, meats\, baked goods\, jams and preserves\, nursery plants\, flowers and more. Local artisans also sell handmade crafts and home goods. As part of our commitment to providing fresh\, healthy foods for everyone in our community\, we accept EBT/Vision/SNAP cards. \n2023 Market Dates:\nSaturdays | 8:00 am – 12:00 pm (April 15 – Oct. 28)\nWednesdays | 4:00 pm – 6:00 pm (June 7 – Aug. 9) \n 
URL:https://www.pittks.org/event/pittsburg-farmers-market-4/2023-08-09/
LOCATION:Pittsburg Farmers’ Market Pavilion\, 119 E. 11th St.\, Pittsburg\, KS\, 66762\, United States
CATEGORIES:Crafts & Traditional Arts,Food,Kids,Retail Shopping,Wellness
ATTACH;FMTTYPE=image/jpeg:https://www.pittks.org/wp-content/uploads/2019/03/Farm-vegetables-.jpg
ORGANIZER;CN="Pittsburg Parks & Recreation Department":MAILTO:pprd@pittks.org
END:VEVENT
END:VCALENDAR