BEGIN:VCALENDAR
VERSION:2.0
PRODID:-//City of Pittsburg - ECPv6.15.20//NONSGML v1.0//EN
CALSCALE:GREGORIAN
METHOD:PUBLISH
X-WR-CALNAME:City of Pittsburg
X-ORIGINAL-URL:https://www.pittks.org
X-WR-CALDESC:Events for City of Pittsburg
REFRESH-INTERVAL;VALUE=DURATION:PT1H
X-Robots-Tag:noindex
X-PUBLISHED-TTL:PT1H
BEGIN:VTIMEZONE
TZID:America/Chicago
BEGIN:DAYLIGHT
TZOFFSETFROM:-0600
TZOFFSETTO:-0500
TZNAME:CDT
DTSTART:20230312T080000
END:DAYLIGHT
BEGIN:STANDARD
TZOFFSETFROM:-0500
TZOFFSETTO:-0600
TZNAME:CST
DTSTART:20231105T070000
END:STANDARD
BEGIN:DAYLIGHT
TZOFFSETFROM:-0600
TZOFFSETTO:-0500
TZNAME:CDT
DTSTART:20240310T080000
END:DAYLIGHT
BEGIN:STANDARD
TZOFFSETFROM:-0500
TZOFFSETTO:-0600
TZNAME:CST
DTSTART:20241103T070000
END:STANDARD
BEGIN:DAYLIGHT
TZOFFSETFROM:-0600
TZOFFSETTO:-0500
TZNAME:CDT
DTSTART:20250309T080000
END:DAYLIGHT
BEGIN:STANDARD
TZOFFSETFROM:-0500
TZOFFSETTO:-0600
TZNAME:CST
DTSTART:20251102T070000
END:STANDARD
END:VTIMEZONE
BEGIN:VEVENT
DTSTART;TZID=America/Chicago:20240322T193000
DTEND;TZID=America/Chicago:20240322T213000
DTSTAMP:20260423T121959
CREATED:20240205T234341Z
LAST-MODIFIED:20240205T234515Z
UID:10022693-1711135800-1711143000@www.pittks.org
SUMMARY:Pittsburg Community Theatre Presents "Biloxi Blues"
DESCRIPTION:Biloxi Blues was the twenty-first play by Neil Simon to reach the Broadway stage in twenty-four years. In the 1980s\, the author\, already an established comedic playwright\, turned to his own life for inspiration and produced a trilogy of semi-autobiographical plays. He first introduced Eugene Morris Jerome\, the hero of Biloxi Blues\, in the widely acclaimed Brighton Beach Memoirs. That play depicted Eugene’s close-knit Brooklyn Jewish family\, as seen through Eugene’s diary entries. In Biloxi Blues Simon follows Eugene as he gets sent to army training camp in Biloxi\, Mississippi. There\, the naive Eugene\, who has never before left home\, is forced to confront difficult issues and his own reactions to them. These experiences inform his development as a writer. \nBiloxi Blues was a Broadway hit. Not only was it honored with a Tony Award for the best play of 1985\, but also audiences warmed to the humor that filled each scene\, indeed\, almost every line. Critics noted that Simon\, as he had done so many times previously\, was able to draw his audience together with his relatively simple words. Despite the strongly comedic bent\, the play also holds a more serious message as Eugene comes to learn about the wide world around him. More importantly\, for Eugene’s personal development and his development as a writer\, he comes to learn what his place in the world can\, and should\, be. \nDirected by: Faith Paoni \nPurchase Tickets
URL:https://www.pittks.org/event/pittsburg-community-theatre-presents-biloxi-blues/2024-03-22/
LOCATION:Memorial Auditorium\, 503 N. Pine St.\, Pittsburg\, KS\, 66762\, United States
CATEGORIES:Adults,Fine & Performing Arts,Memorial Auditorium,Nightlife
ATTACH;FMTTYPE=image/jpeg:https://www.pittks.org/wp-content/uploads/2024/02/BILOXI-BLUES-2022-600x600-1.jpg
ORGANIZER;CN="Pittsburg Community Theatre":MAILTO:pittcommtheatre@gmail.com
END:VEVENT
END:VCALENDAR