BEGIN:VCALENDAR
VERSION:2.0
PRODID:-//City of Pittsburg - ECPv6.15.20//NONSGML v1.0//EN
CALSCALE:GREGORIAN
METHOD:PUBLISH
X-WR-CALNAME:City of Pittsburg
X-ORIGINAL-URL:https://www.pittks.org
X-WR-CALDESC:Events for City of Pittsburg
REFRESH-INTERVAL;VALUE=DURATION:PT1H
X-Robots-Tag:noindex
X-PUBLISHED-TTL:PT1H
BEGIN:VTIMEZONE
TZID:America/Chicago
BEGIN:DAYLIGHT
TZOFFSETFROM:-0600
TZOFFSETTO:-0500
TZNAME:CDT
DTSTART:20230312T080000
END:DAYLIGHT
BEGIN:STANDARD
TZOFFSETFROM:-0500
TZOFFSETTO:-0600
TZNAME:CST
DTSTART:20231105T070000
END:STANDARD
BEGIN:DAYLIGHT
TZOFFSETFROM:-0600
TZOFFSETTO:-0500
TZNAME:CDT
DTSTART:20240310T080000
END:DAYLIGHT
BEGIN:STANDARD
TZOFFSETFROM:-0500
TZOFFSETTO:-0600
TZNAME:CST
DTSTART:20241103T070000
END:STANDARD
BEGIN:DAYLIGHT
TZOFFSETFROM:-0600
TZOFFSETTO:-0500
TZNAME:CDT
DTSTART:20250309T080000
END:DAYLIGHT
BEGIN:STANDARD
TZOFFSETFROM:-0500
TZOFFSETTO:-0600
TZNAME:CST
DTSTART:20251102T070000
END:STANDARD
END:VTIMEZONE
BEGIN:VEVENT
DTSTART;TZID=America/Chicago:20240801T190000
DTEND;TZID=America/Chicago:20240801T210000
DTSTAMP:20260425T153313
CREATED:20240206T212737Z
LAST-MODIFIED:20240607T141445Z
UID:10022697-1722538800-1722546000@www.pittks.org
SUMMARY:Triple Threat Threeatrics Presents "Into The Woods"
DESCRIPTION:Into the Woods is a 1987 musical with music and lyrics by Stephen Sondheim and book by James Lapine. \nThe musical intertwines the plots of several Brothers Grimm fairy tales\, exploring the consequences of the characters’ wishes and quests. The main characters are taken from “Little Red Riding Hood” (spelled “Ridinghood” in the published vocal score)\, “Jack and the Beanstalk”\, “Rapunzel”\, “Cinderella”\, and several others. The musical is tied together by a story involving a childless baker and his wife and their quest to begin a family (the original beginning of the Grimm Brothers’ “Rapunzel”)\, their interaction with a witch who has placed a curse on them\, and their interaction with other storybook characters during their journey. \nPurchase Tickets
URL:https://www.pittks.org/event/triple-threat-threeactrics-presents-into-the-woods/2024-08-01/
LOCATION:Memorial Auditorium\, 503 N. Pine St.\, Pittsburg\, KS\, 66762\, United States
CATEGORIES:Adults,Fine & Performing Arts,Kids,Memorial Auditorium,Nightlife,Teens
ATTACH;FMTTYPE=image/jpeg:https://www.pittks.org/wp-content/uploads/2024/02/Into-The-Woods-Simple.jpg
ORGANIZER;CN="Triple Threat Threeatrics":MAILTO:ThreeatricsLLC@gmail.com
END:VEVENT
BEGIN:VEVENT
DTSTART;TZID=America/Chicago:20240802T190000
DTEND;TZID=America/Chicago:20240802T210000
DTSTAMP:20260425T153313
CREATED:20240206T212737Z
LAST-MODIFIED:20240607T141445Z
UID:10022698-1722625200-1722632400@www.pittks.org
SUMMARY:Triple Threat Threeatrics Presents "Into The Woods"
DESCRIPTION:Into the Woods is a 1987 musical with music and lyrics by Stephen Sondheim and book by James Lapine. \nThe musical intertwines the plots of several Brothers Grimm fairy tales\, exploring the consequences of the characters’ wishes and quests. The main characters are taken from “Little Red Riding Hood” (spelled “Ridinghood” in the published vocal score)\, “Jack and the Beanstalk”\, “Rapunzel”\, “Cinderella”\, and several others. The musical is tied together by a story involving a childless baker and his wife and their quest to begin a family (the original beginning of the Grimm Brothers’ “Rapunzel”)\, their interaction with a witch who has placed a curse on them\, and their interaction with other storybook characters during their journey. \nPurchase Tickets
URL:https://www.pittks.org/event/triple-threat-threeactrics-presents-into-the-woods/2024-08-02/
LOCATION:Memorial Auditorium\, 503 N. Pine St.\, Pittsburg\, KS\, 66762\, United States
CATEGORIES:Adults,Fine & Performing Arts,Kids,Memorial Auditorium,Nightlife,Teens
ATTACH;FMTTYPE=image/jpeg:https://www.pittks.org/wp-content/uploads/2024/02/Into-The-Woods-Simple.jpg
ORGANIZER;CN="Triple Threat Threeatrics":MAILTO:ThreeatricsLLC@gmail.com
END:VEVENT
BEGIN:VEVENT
DTSTART;TZID=America/Chicago:20240803T190000
DTEND;TZID=America/Chicago:20240803T210000
DTSTAMP:20260425T153313
CREATED:20240206T212737Z
LAST-MODIFIED:20240607T141445Z
UID:10022699-1722711600-1722718800@www.pittks.org
SUMMARY:Triple Threat Threeatrics Presents "Into The Woods"
DESCRIPTION:Into the Woods is a 1987 musical with music and lyrics by Stephen Sondheim and book by James Lapine. \nThe musical intertwines the plots of several Brothers Grimm fairy tales\, exploring the consequences of the characters’ wishes and quests. The main characters are taken from “Little Red Riding Hood” (spelled “Ridinghood” in the published vocal score)\, “Jack and the Beanstalk”\, “Rapunzel”\, “Cinderella”\, and several others. The musical is tied together by a story involving a childless baker and his wife and their quest to begin a family (the original beginning of the Grimm Brothers’ “Rapunzel”)\, their interaction with a witch who has placed a curse on them\, and their interaction with other storybook characters during their journey. \nPurchase Tickets
URL:https://www.pittks.org/event/triple-threat-threeactrics-presents-into-the-woods/2024-08-03/
LOCATION:Memorial Auditorium\, 503 N. Pine St.\, Pittsburg\, KS\, 66762\, United States
CATEGORIES:Adults,Fine & Performing Arts,Kids,Memorial Auditorium,Nightlife,Teens
ATTACH;FMTTYPE=image/jpeg:https://www.pittks.org/wp-content/uploads/2024/02/Into-The-Woods-Simple.jpg
ORGANIZER;CN="Triple Threat Threeatrics":MAILTO:ThreeatricsLLC@gmail.com
END:VEVENT
BEGIN:VEVENT
DTSTART;TZID=America/Chicago:20240804T140000
DTEND;TZID=America/Chicago:20240804T160000
DTSTAMP:20260425T153313
CREATED:20240206T212737Z
LAST-MODIFIED:20240607T141445Z
UID:10022700-1722780000-1722787200@www.pittks.org
SUMMARY:Triple Threat Threeatrics Presents "Into The Woods"
DESCRIPTION:Into the Woods is a 1987 musical with music and lyrics by Stephen Sondheim and book by James Lapine. \nThe musical intertwines the plots of several Brothers Grimm fairy tales\, exploring the consequences of the characters’ wishes and quests. The main characters are taken from “Little Red Riding Hood” (spelled “Ridinghood” in the published vocal score)\, “Jack and the Beanstalk”\, “Rapunzel”\, “Cinderella”\, and several others. The musical is tied together by a story involving a childless baker and his wife and their quest to begin a family (the original beginning of the Grimm Brothers’ “Rapunzel”)\, their interaction with a witch who has placed a curse on them\, and their interaction with other storybook characters during their journey. \nPurchase Tickets
URL:https://www.pittks.org/event/triple-threat-threeactrics-presents-into-the-woods/2024-08-04/
LOCATION:Memorial Auditorium\, 503 N. Pine St.\, Pittsburg\, KS\, 66762\, United States
CATEGORIES:Adults,Fine & Performing Arts,Kids,Memorial Auditorium,Nightlife,Teens
ATTACH;FMTTYPE=image/jpeg:https://www.pittks.org/wp-content/uploads/2024/02/Into-The-Woods-Simple.jpg
ORGANIZER;CN="Triple Threat Threeatrics":MAILTO:ThreeatricsLLC@gmail.com
END:VEVENT
BEGIN:VEVENT
DTSTART;TZID=America/Chicago:20240817T090000
DTEND;TZID=America/Chicago:20240817T120000
DTSTAMP:20260425T153313
CREATED:20240812T153815Z
LAST-MODIFIED:20240812T153815Z
UID:10022762-1723885200-1723896000@www.pittks.org
SUMMARY:Kids' Garage Sale
DESCRIPTION:Get your back to school shopping done while supporting your local families!\nAugust 179am – 12pmLincoln Center\, 710 W 9th St.\nVendor InformationSetup: 8am – 9am$8 For 1st Table$5 Each Additional Table2 Table Max Per HouseholdItems for sale must be predominately be children items.\nFor More Information620-231-8310 | 710 W 9th St.
URL:https://www.pittks.org/event/kids-garage-sale-7/
LOCATION:Lincoln Center
CATEGORIES:Children,Kids
ATTACH;FMTTYPE=image/jpeg:https://www.pittks.org/wp-content/uploads/2024/08/452705652_899892705500823_6223935757959184597_n.jpg
ORGANIZER;CN="Pittsburg Parks & Recreation Department":MAILTO:pprd@pittks.org
END:VEVENT
END:VCALENDAR