BEGIN:VCALENDAR
VERSION:2.0
PRODID:-//City of Pittsburg - ECPv6.15.20//NONSGML v1.0//EN
CALSCALE:GREGORIAN
METHOD:PUBLISH
X-WR-CALNAME:City of Pittsburg
X-ORIGINAL-URL:https://www.pittks.org
X-WR-CALDESC:Events for City of Pittsburg
REFRESH-INTERVAL;VALUE=DURATION:PT1H
X-Robots-Tag:noindex
X-PUBLISHED-TTL:PT1H
BEGIN:VTIMEZONE
TZID:America/Chicago
BEGIN:DAYLIGHT
TZOFFSETFROM:-0600
TZOFFSETTO:-0500
TZNAME:CDT
DTSTART:20250309T080000
END:DAYLIGHT
BEGIN:STANDARD
TZOFFSETFROM:-0500
TZOFFSETTO:-0600
TZNAME:CST
DTSTART:20251102T070000
END:STANDARD
BEGIN:DAYLIGHT
TZOFFSETFROM:-0600
TZOFFSETTO:-0500
TZNAME:CDT
DTSTART:20260308T080000
END:DAYLIGHT
BEGIN:STANDARD
TZOFFSETFROM:-0500
TZOFFSETTO:-0600
TZNAME:CST
DTSTART:20261101T070000
END:STANDARD
BEGIN:DAYLIGHT
TZOFFSETFROM:-0600
TZOFFSETTO:-0500
TZNAME:CDT
DTSTART:20270314T080000
END:DAYLIGHT
BEGIN:STANDARD
TZOFFSETFROM:-0500
TZOFFSETTO:-0600
TZNAME:CST
DTSTART:20271107T070000
END:STANDARD
END:VTIMEZONE
BEGIN:VEVENT
DTSTART;TZID=America/Chicago:20260704T080000
DTEND;TZID=America/Chicago:20260704T090000
DTSTAMP:20260423T234734
CREATED:20260423T200508Z
LAST-MODIFIED:20260423T200508Z
UID:10025875-1783152000-1783155600@www.pittks.org
SUMMARY:Pittsburg Independence Day Parade
DESCRIPTION:Join us for a family-friendly celebration of USA’s 250th Birthday and Pittsburg’s 150th Anniversary in Downtown Pittsburg\, Kansas. The parade will be on Saturday\, July 4th 8 a.m. Parade starts at 1st and Broadway and heads north\, ending at 7th and Broadway. \n\n\nRegister to have a float\, walk\, or ride in the parade at the link: https://form.jotform.com/260684559498073 
URL:https://www.pittks.org/event/pittsburg-independence-day-parade/
LOCATION:Downtown Pittsburg\, Downtown\, Pittsburg\, KS\, 66762\, United States
CATEGORIES:Adults,Celebrations/Fundraisers,Downtown,History,Holiday,Kids
ATTACH;FMTTYPE=image/jpeg:https://www.pittks.org/wp-content/uploads/2026/04/Independence-Day-Parade.jpg
END:VEVENT
END:VCALENDAR