BEGIN:VCALENDAR
VERSION:2.0
PRODID:-//City of Pittsburg - ECPv6.15.20//NONSGML v1.0//EN
CALSCALE:GREGORIAN
METHOD:PUBLISH
X-WR-CALNAME:City of Pittsburg
X-ORIGINAL-URL:https://www.pittks.org
X-WR-CALDESC:Events for City of Pittsburg
REFRESH-INTERVAL;VALUE=DURATION:PT1H
X-Robots-Tag:noindex
X-PUBLISHED-TTL:PT1H
BEGIN:VTIMEZONE
TZID:America/Chicago
BEGIN:DAYLIGHT
TZOFFSETFROM:-0600
TZOFFSETTO:-0500
TZNAME:CDT
DTSTART:20220313T080000
END:DAYLIGHT
BEGIN:STANDARD
TZOFFSETFROM:-0500
TZOFFSETTO:-0600
TZNAME:CST
DTSTART:20221106T070000
END:STANDARD
BEGIN:DAYLIGHT
TZOFFSETFROM:-0600
TZOFFSETTO:-0500
TZNAME:CDT
DTSTART:20230312T080000
END:DAYLIGHT
BEGIN:STANDARD
TZOFFSETFROM:-0500
TZOFFSETTO:-0600
TZNAME:CST
DTSTART:20231105T070000
END:STANDARD
BEGIN:DAYLIGHT
TZOFFSETFROM:-0600
TZOFFSETTO:-0500
TZNAME:CDT
DTSTART:20240310T080000
END:DAYLIGHT
BEGIN:STANDARD
TZOFFSETFROM:-0500
TZOFFSETTO:-0600
TZNAME:CST
DTSTART:20241103T070000
END:STANDARD
END:VTIMEZONE
BEGIN:VEVENT
DTSTART;TZID=America/Chicago:20231202T070000
DTEND;TZID=America/Chicago:20231202T130000
DTSTAMP:20260425T060723
CREATED:20231120T210312Z
LAST-MODIFIED:20231120T210312Z
UID:10022656-1701500400-1701522000@www.pittks.org
SUMMARY:73rd Annual Kiwanis Pancake Day
DESCRIPTION:From 7:00 AM to 1:00 PM on Saturday\, December 2\, 2023 at Pittsburg Memorial Auditorium.  \nProceeds benefit the children and youth of Pittsburg. \nFeaturing Entertainment by: \n\n8:00 JT Knoll (guitar)\n8:30 Phil Carter (piano)\n9:00 Jim Wilson (piano)\n9:30 Charles Cagle (piano)\n10:00 Romero Miranda (violin)\n10:30 Lem Sheppard (guitar)\n11:00 J3Band\n12:00 Pete Mayo (flute)\n\nEnjoy pancakes\, two sausages\, drink and optional morsels for pancakes. Additional sausage and milk available for purchase. COST: $7.00 per Adult\, $3.00 per child (12 & Under).
URL:https://www.pittks.org/event/73rd-annual-kiwanis-pancake-day/
LOCATION:Memorial Auditorium\, 503 N. Pine St.\, Pittsburg\, KS\, 66762\, United States
CATEGORIES:Adults,Celebrations/Fundraisers,Children,Food,Holiday,Kids,Memorial Auditorium
ATTACH;FMTTYPE=image/png:https://www.pittks.org/wp-content/uploads/2023/11/Kiwanis-Pancake-Day.png
END:VEVENT
BEGIN:VEVENT
DTSTART;TZID=America/Chicago:20231202T090000
DTEND;TZID=America/Chicago:20231202T120000
DTSTAMP:20260425T060723
CREATED:20231127T210633Z
LAST-MODIFIED:20231127T210633Z
UID:10022370-1701507600-1701518400@www.pittks.org
SUMMARY:Holiday Craft Fair
DESCRIPTION:It’s a holiday extravaganza! Celebrating our 15th year! Come shop for some homemade gifts and goodies! \n9:00AM – 12:00PM \nDecember 2nd\, 2023 \nMemorial Auditorium\, 503 N Pine | Lower Level \nAdmission: 1 Non-Perishable & Unexpired Food Donation \nTons of vendors with handmade items that are a perfect gift for that special someone! \nTo be vendor at this event\, please contact Pittsburg Parks and Recreation department for vendor packet/registration information. \nFor more information\, Contact Pittsburg Parks and Recreation at 620-231-8310.
URL:https://www.pittks.org/event/holiday-craft-fair-3/
LOCATION:Memorial Auditorium\, 503 N. Pine St.\, Pittsburg\, KS\, 66762\, United States
CATEGORIES:Adults,Children,Civic Engagement,Crafts & Traditional Arts,Holiday,Kids,Memorial Auditorium
ATTACH;FMTTYPE=image/jpeg:https://www.pittks.org/wp-content/uploads/2023/11/Craft-Fair1.jpg
END:VEVENT
BEGIN:VEVENT
DTSTART;TZID=America/Chicago:20231202T093000
DTEND;TZID=America/Chicago:20231202T113000
DTSTAMP:20260425T060723
CREATED:20231127T211252Z
LAST-MODIFIED:20231127T211252Z
UID:10022372-1701509400-1701516600@www.pittks.org
SUMMARY:Holiday Zumbathon
DESCRIPTION:Join us for our annual Holiday Zumbathon to benefit SparkWheel (formerly Communities in Schools)! \n100 percent of products donated will go directly to USD250 School District students in need. \nSaturday\, December 2 from 9:30 – 11:30 am at Lincoln Center\, 710 W. 9th St. \nAdmission is one item from the list below (in youth sizes): \n\nSocks\nUnderwear\nGloves\nHats\nScarves
URL:https://www.pittks.org/event/holiday-zumbathon-2/
LOCATION:Lincoln Center
CATEGORIES:Adults,Celebrations/Fundraisers,Holiday,Wellness
ATTACH;FMTTYPE=image/jpeg:https://www.pittks.org/wp-content/uploads/2023/11/Zumbathon.jpg
ORGANIZER;CN="Pittsburg Parks & Recreation Department":MAILTO:pprd@pittks.org
END:VEVENT
BEGIN:VEVENT
DTSTART;TZID=America/Chicago:20231202T100000
DTEND;TZID=America/Chicago:20231202T120000
DTSTAMP:20260425T060723
CREATED:20231127T210244Z
LAST-MODIFIED:20231127T210244Z
UID:10022660-1701511200-1701518400@www.pittks.org
SUMMARY:Santa's Workshop
DESCRIPTION:Come join us to celebrate the holidays with a special visit from Santa\, kids activities\, and hot cocoa. Don’t forget to stop by the Holiday Craft Fair! Saturday\, December 2 from 10:00 am – 12:00 pm at Memorial Auditorium\, 503 N Pine St\, Lower Level. Admission: 1 Non-Perishable & Unexpired Food Donation. \nToy drive for KOAM Toys at Santa’s Workshop not required to attend Holiday Craft Fair or Santa’s Workshop. No Registration required! \n  \n 
URL:https://www.pittks.org/event/santas-workshop-2/
LOCATION:Memorial Auditorium\, 503 N. Pine St.\, Pittsburg\, KS\, 66762\, United States
CATEGORIES:Children,Holiday,Kids,Memorial Auditorium
ATTACH;FMTTYPE=image/jpeg:https://www.pittks.org/wp-content/uploads/2023/11/Santas-workshop.jpg
END:VEVENT
BEGIN:VEVENT
DTSTART;TZID=America/Chicago:20231216T100000
DTEND;TZID=America/Chicago:20231216T100000
DTSTAMP:20260425T060723
CREATED:20231113T172219Z
LAST-MODIFIED:20231113T172746Z
UID:10022654-1702720800-1702720800@www.pittks.org
SUMMARY:'Twas the Night Before Christmas
DESCRIPTION:BTC Athletics proudly presents\, ‘Twas the Night Before Christmas at Memorial Auditorium! \nA Christmas celebration of dance and joy for the whole family. Join us on Saturday\, December 16 at one of two performances – 10:00 am OR 4:00 pm. \nTickets: $13 Adult  |  $10 Student  |  $10 Balcony \nPURCHASE TICKETS \n 
URL:https://www.pittks.org/event/twas-the-night-before-christmas/2023-12-16/1/
LOCATION:Memorial Auditorium\, 503 N. Pine St.\, Pittsburg\, KS\, 66762\, United States
CATEGORIES:Athletics,Children,Fine & Performing Arts,Holiday,Kids,Memorial Auditorium
ATTACH;FMTTYPE=image/jpeg:https://www.pittks.org/wp-content/uploads/2023/11/BTC-Flyer-Twas-the-Night-Before-Christmas-scaled.jpg
END:VEVENT
BEGIN:VEVENT
DTSTART;TZID=America/Chicago:20231216T160000
DTEND;TZID=America/Chicago:20231216T170000
DTSTAMP:20260425T060723
CREATED:20231113T172219Z
LAST-MODIFIED:20231113T172746Z
UID:10022655-1702742400-1702746000@www.pittks.org
SUMMARY:'Twas the Night Before Christmas
DESCRIPTION:BTC Athletics proudly presents\, ‘Twas the Night Before Christmas at Memorial Auditorium! \nA Christmas celebration of dance and joy for the whole family. Join us on Saturday\, December 16 at one of two performances – 10:00 am OR 4:00 pm. \nTickets: $13 Adult  |  $10 Student  |  $10 Balcony \nPURCHASE TICKETS \n 
URL:https://www.pittks.org/event/twas-the-night-before-christmas/2023-12-16/2/
LOCATION:Memorial Auditorium\, 503 N. Pine St.\, Pittsburg\, KS\, 66762\, United States
CATEGORIES:Athletics,Children,Fine & Performing Arts,Holiday,Kids,Memorial Auditorium
ATTACH;FMTTYPE=image/jpeg:https://www.pittks.org/wp-content/uploads/2023/11/BTC-Flyer-Twas-the-Night-Before-Christmas-scaled.jpg
END:VEVENT
BEGIN:VEVENT
DTSTART;TZID=America/Chicago:20231220T190000
DTEND;TZID=America/Chicago:20231220T190000
DTSTAMP:20260425T060723
CREATED:20231120T212436Z
LAST-MODIFIED:20231120T212630Z
UID:10022657-1703098800-1703098800@www.pittks.org
SUMMARY:Pittsburg Ballet - The Nutcracker
DESCRIPTION:Pittsburg Ballet presents “The Nutcracker” December 20\, 21 and 22 at Memorial Auditorium. \nTickets: \n$22 – Adult\n$16 – Senior/Child\n$16 – Balcony \nPURCHASE TICKETS HERE
URL:https://www.pittks.org/event/pittsburg-ballet-the-nutcracker/2023-12-20/
LOCATION:KS
CATEGORIES:Children,Fine & Performing Arts,Holiday,Kids,Memorial Auditorium
ATTACH;FMTTYPE=image/png:https://www.pittks.org/wp-content/uploads/2023/11/Nutcracker.png
END:VEVENT
BEGIN:VEVENT
DTSTART;TZID=America/Chicago:20231221T190000
DTEND;TZID=America/Chicago:20231221T190000
DTSTAMP:20260425T060723
CREATED:20231120T212436Z
LAST-MODIFIED:20231120T212630Z
UID:10022658-1703185200-1703185200@www.pittks.org
SUMMARY:Pittsburg Ballet - The Nutcracker
DESCRIPTION:Pittsburg Ballet presents “The Nutcracker” December 20\, 21 and 22 at Memorial Auditorium. \nTickets: \n$22 – Adult\n$16 – Senior/Child\n$16 – Balcony \nPURCHASE TICKETS HERE
URL:https://www.pittks.org/event/pittsburg-ballet-the-nutcracker/2023-12-21/
LOCATION:KS
CATEGORIES:Children,Fine & Performing Arts,Holiday,Kids,Memorial Auditorium
ATTACH;FMTTYPE=image/png:https://www.pittks.org/wp-content/uploads/2023/11/Nutcracker.png
END:VEVENT
BEGIN:VEVENT
DTSTART;TZID=America/Chicago:20231222T140000
DTEND;TZID=America/Chicago:20231222T140000
DTSTAMP:20260425T060723
CREATED:20231120T212436Z
LAST-MODIFIED:20231120T213050Z
UID:10022659-1703253600-1703253600@www.pittks.org
SUMMARY:Pittsburg Ballet - The Nutcracker
DESCRIPTION:Pittsburg Ballet presents “The Nutcracker” December 20\, 21 and 22 at Memorial Auditorium. \nTickets: \n$22 – Adult\n$16 – Senior/Child\n$16 – Balcony \nPURCHASE TICKETS HERE
URL:https://www.pittks.org/event/pittsburg-ballet-the-nutcracker-2023-12-22/
LOCATION:Memorial Auditorium\, 503 N. Pine St.\, Pittsburg\, KS\, 66762\, United States
CATEGORIES:Children,Fine & Performing Arts,Holiday,Kids,Memorial Auditorium
ATTACH;FMTTYPE=image/png:https://www.pittks.org/wp-content/uploads/2023/11/Nutcracker.png
END:VEVENT
END:VCALENDAR