BEGIN:VCALENDAR
VERSION:2.0
PRODID:-//City of Pittsburg - ECPv6.15.20//NONSGML v1.0//EN
CALSCALE:GREGORIAN
METHOD:PUBLISH
X-WR-CALNAME:City of Pittsburg
X-ORIGINAL-URL:https://www.pittks.org
X-WR-CALDESC:Events for City of Pittsburg
REFRESH-INTERVAL;VALUE=DURATION:PT1H
X-Robots-Tag:noindex
X-PUBLISHED-TTL:PT1H
BEGIN:VTIMEZONE
TZID:America/Chicago
BEGIN:DAYLIGHT
TZOFFSETFROM:-0600
TZOFFSETTO:-0500
TZNAME:CDT
DTSTART:20230312T080000
END:DAYLIGHT
BEGIN:STANDARD
TZOFFSETFROM:-0500
TZOFFSETTO:-0600
TZNAME:CST
DTSTART:20231105T070000
END:STANDARD
BEGIN:DAYLIGHT
TZOFFSETFROM:-0600
TZOFFSETTO:-0500
TZNAME:CDT
DTSTART:20240310T080000
END:DAYLIGHT
BEGIN:STANDARD
TZOFFSETFROM:-0500
TZOFFSETTO:-0600
TZNAME:CST
DTSTART:20241103T070000
END:STANDARD
BEGIN:DAYLIGHT
TZOFFSETFROM:-0600
TZOFFSETTO:-0500
TZNAME:CDT
DTSTART:20250309T080000
END:DAYLIGHT
BEGIN:STANDARD
TZOFFSETFROM:-0500
TZOFFSETTO:-0600
TZNAME:CST
DTSTART:20251102T070000
END:STANDARD
END:VTIMEZONE
BEGIN:VEVENT
DTSTART;TZID=America/Chicago:20240110T163000
DTEND;TZID=America/Chicago:20240110T163000
DTSTAMP:20260419T121728
CREATED:20200706T202539Z
LAST-MODIFIED:20250611T165603Z
UID:10020983-1704904200-1704904200@www.pittks.org
SUMMARY:Library Board of Trustees Meeting
DESCRIPTION:The Library Board of Trustees will hold its monthly meeting in-person in the library meeting room. Meetings are typically held on the second Wednesday of each month at 4:30 pm. For more information\, contact Bev Clarkson at (620) 231-8100.
URL:https://www.pittks.org/event/library-board-of-trustees-meeting/2024-01-10/
LOCATION:Pittsburg Public Library\, 308 N Walnut St\, Pittsburg\, 66762\, United States
CATEGORIES:Government
ATTACH;FMTTYPE=image/jpeg:https://www.pittks.org/wp-content/uploads/2020/07/library_small.jpg
END:VEVENT
BEGIN:VEVENT
DTSTART;TZID=America/Chicago:20240110T173000
DTEND;TZID=America/Chicago:20240110T173000
DTSTAMP:20260419T121728
CREATED:20200706T202939Z
LAST-MODIFIED:20250611T165603Z
UID:10021028-1704907800-1704907800@www.pittks.org
SUMMARY:Sustainability Advisory Committee Meeting
DESCRIPTION:The Sustainability Advisory Committee will hold its regularly-scheduled monthly meeting at City Hall. The committee typically meets every second Wednesday of the month at 5:30 pm. Contact Jay Byers at (620) 230-5685.
URL:https://www.pittks.org/event/sustainability-advisory-committee-meeting/2024-01-10/
LOCATION:City Hall\, 201 W. 4th St\, Pittsburg\, Kansas\, 66762
CATEGORIES:Government
ATTACH;FMTTYPE=image/jpeg:https://www.pittks.org/wp-content/uploads/2020/07/SAC_Group_SM.jpg
END:VEVENT
BEGIN:VEVENT
DTSTART;TZID=America/Chicago:20240111T130000
DTEND;TZID=America/Chicago:20240111T130000
DTSTAMP:20260419T121728
CREATED:20200312T180351Z
LAST-MODIFIED:20250611T165603Z
UID:10020811-1704978000-1704978000@www.pittks.org
SUMMARY:Parks & Recreation Advisory Board Meeting
DESCRIPTION:The Parks & Recreation Advisory Board meets on the second Thursday of each month at 1:00 pm inside Lincoln Center. For more information\, contact Toby Book at (620) 231-8310.
URL:https://www.pittks.org/event/parks-recreation-advisory-board-meeting-31/2024-01-11/
LOCATION:Lincoln Center
CATEGORIES:Government
ATTACH;FMTTYPE=image/jpeg:https://www.pittks.org/wp-content/uploads/2017/10/Parks-photo-e1507752925757.jpg
ORGANIZER;CN="Pittsburg Parks & Recreation Department":MAILTO:pprd@pittks.org
END:VEVENT
BEGIN:VEVENT
DTSTART;TZID=America/Chicago:20240112T140000
DTEND;TZID=America/Chicago:20240112T140000
DTSTAMP:20260419T121728
CREATED:20210108T232324Z
LAST-MODIFIED:20221010T143637Z
UID:10021413-1705068000-1705068000@www.pittks.org
SUMMARY:Farmers Market Advisory Board Meeting
DESCRIPTION:The Farmers Market Advisory Board meets at 2:00 pm on the second Friday of each month. Meetings are held remotely via online conference call. Contact Josie Maples at (620) 231-8310 for meeting information.
URL:https://www.pittks.org/event/farmers-market-advisory-board-meeting/2024-01-12/
CATEGORIES:Government
END:VEVENT
BEGIN:VEVENT
DTSTART;TZID=America/Chicago:20240115T080000
DTEND;TZID=America/Chicago:20240115T170000
DTSTAMP:20260419T121728
CREATED:20231227T202139Z
LAST-MODIFIED:20231227T202139Z
UID:10022404-1705305600-1705338000@www.pittks.org
SUMMARY:Martin Luther King Jr. Day
DESCRIPTION:City offices will be closed on January 15th in observance of Martin Luther King Jr. Day. Normal hours will resume on January 16th.
URL:https://www.pittks.org/event/martin-luther-king-jr-day/
CATEGORIES:Government,Holiday
ATTACH;FMTTYPE=image/png:https://www.pittks.org/wp-content/uploads/2023/12/Martin-Luther-King-Jr.-Day.png
END:VEVENT
BEGIN:VEVENT
DTSTART;TZID=America/Chicago:20240129T180000
DTEND;TZID=America/Chicago:20240129T193000
DTSTAMP:20260419T121728
CREATED:20200706T210430Z
LAST-MODIFIED:20240129T145541Z
UID:10021343-1706551200-1706556600@www.pittks.org
SUMMARY:Downtown Advisory Board Meeting
DESCRIPTION:The Downtown Advisory Board will have their regularly-scheduled monthly meeting at City Hall. For more information\, contact Sarah Runyon at 620-230-5637.
URL:https://www.pittks.org/event/downtown-advisory-board-meeting-2024-01-15/
LOCATION:City Hall\, 201 W. 4th St\, Pittsburg\, Kansas\, 66762
CATEGORIES:Government
ATTACH;FMTTYPE=image/jpeg:https://www.pittks.org/wp-content/uploads/2017/03/city-of-pittsburg-downtown-development-banner.jpg
END:VEVENT
END:VCALENDAR