BEGIN:VCALENDAR
VERSION:2.0
PRODID:-//City of Pittsburg - ECPv6.15.20//NONSGML v1.0//EN
CALSCALE:GREGORIAN
METHOD:PUBLISH
X-WR-CALNAME:City of Pittsburg
X-ORIGINAL-URL:https://www.pittks.org
X-WR-CALDESC:Events for City of Pittsburg
REFRESH-INTERVAL;VALUE=DURATION:PT1H
X-Robots-Tag:noindex
X-PUBLISHED-TTL:PT1H
BEGIN:VTIMEZONE
TZID:America/Chicago
BEGIN:DAYLIGHT
TZOFFSETFROM:-0600
TZOFFSETTO:-0500
TZNAME:CDT
DTSTART:20220313T080000
END:DAYLIGHT
BEGIN:STANDARD
TZOFFSETFROM:-0500
TZOFFSETTO:-0600
TZNAME:CST
DTSTART:20221106T070000
END:STANDARD
BEGIN:DAYLIGHT
TZOFFSETFROM:-0600
TZOFFSETTO:-0500
TZNAME:CDT
DTSTART:20230312T080000
END:DAYLIGHT
BEGIN:STANDARD
TZOFFSETFROM:-0500
TZOFFSETTO:-0600
TZNAME:CST
DTSTART:20231105T070000
END:STANDARD
BEGIN:DAYLIGHT
TZOFFSETFROM:-0600
TZOFFSETTO:-0500
TZNAME:CDT
DTSTART:20240310T080000
END:DAYLIGHT
BEGIN:STANDARD
TZOFFSETFROM:-0500
TZOFFSETTO:-0600
TZNAME:CST
DTSTART:20241103T070000
END:STANDARD
END:VTIMEZONE
BEGIN:VEVENT
DTSTART;TZID=America/Chicago:20231208T140000
DTEND;TZID=America/Chicago:20231208T140000
DTSTAMP:20260422T085848
CREATED:20210108T232324Z
LAST-MODIFIED:20221010T143637Z
UID:10021412-1702044000-1702044000@www.pittks.org
SUMMARY:Farmers Market Advisory Board Meeting
DESCRIPTION:The Farmers Market Advisory Board meets at 2:00 pm on the second Friday of each month. Meetings are held remotely via online conference call. Contact Josie Maples at (620) 231-8310 for meeting information.
URL:https://www.pittks.org/event/farmers-market-advisory-board-meeting/2023-12-08/
CATEGORIES:Government
END:VEVENT
BEGIN:VEVENT
DTSTART;TZID=America/Chicago:20231213T160000
DTEND;TZID=America/Chicago:20231213T160000
DTSTAMP:20260422T085848
CREATED:20200708T162119Z
LAST-MODIFIED:20250916T192120Z
UID:10021370-1702483200-1702483200@www.pittks.org
SUMMARY:Memorial Auditorium Advisory Board Meeting
DESCRIPTION:The Memorial Auditorium Advisory Board will hold its regular meeting at Memorial Auditorium. This board meets every other month on the second Wednesday at 4:00 pm. Contact Darcie Shultz at (620) 231-7827.
URL:https://www.pittks.org/event/memorial-auditorium-advisory-board-meeting/2023-12-13/
LOCATION:Memorial Auditorium\, 503 N. Pine St.\, Pittsburg\, KS\, 66762\, United States
CATEGORIES:Government
ATTACH;FMTTYPE=image/jpeg:https://www.pittks.org/wp-content/uploads/2017/10/20170913_171312-1-e1509052266963.jpg
END:VEVENT
BEGIN:VEVENT
DTSTART;TZID=America/Chicago:20231213T163000
DTEND;TZID=America/Chicago:20231213T163000
DTSTAMP:20260422T085848
CREATED:20200706T202539Z
LAST-MODIFIED:20250611T165603Z
UID:10020982-1702485000-1702485000@www.pittks.org
SUMMARY:Library Board of Trustees Meeting
DESCRIPTION:The Library Board of Trustees will hold its monthly meeting in-person in the library meeting room. Meetings are typically held on the second Wednesday of each month at 4:30 pm. For more information\, contact Bev Clarkson at (620) 231-8100.
URL:https://www.pittks.org/event/library-board-of-trustees-meeting/2023-12-13/
LOCATION:Pittsburg Public Library\, 308 N Walnut St\, Pittsburg\, 66762\, United States
CATEGORIES:Government
ATTACH;FMTTYPE=image/jpeg:https://www.pittks.org/wp-content/uploads/2020/07/library_small.jpg
END:VEVENT
BEGIN:VEVENT
DTSTART;TZID=America/Chicago:20231213T173000
DTEND;TZID=America/Chicago:20231213T173000
DTSTAMP:20260422T085848
CREATED:20200706T202939Z
LAST-MODIFIED:20250611T165603Z
UID:10021027-1702488600-1702488600@www.pittks.org
SUMMARY:Sustainability Advisory Committee Meeting
DESCRIPTION:The Sustainability Advisory Committee will hold its regularly-scheduled monthly meeting at City Hall. The committee typically meets every second Wednesday of the month at 5:30 pm. Contact Jay Byers at (620) 230-5685.
URL:https://www.pittks.org/event/sustainability-advisory-committee-meeting/2023-12-13/
LOCATION:City Hall\, 201 W. 4th St\, Pittsburg\, Kansas\, 66762
CATEGORIES:Government
ATTACH;FMTTYPE=image/jpeg:https://www.pittks.org/wp-content/uploads/2020/07/SAC_Group_SM.jpg
END:VEVENT
BEGIN:VEVENT
DTSTART;TZID=America/Chicago:20231214T130000
DTEND;TZID=America/Chicago:20231214T130000
DTSTAMP:20260422T085848
CREATED:20200312T180351Z
LAST-MODIFIED:20250611T165603Z
UID:10020810-1702558800-1702558800@www.pittks.org
SUMMARY:Parks & Recreation Advisory Board Meeting
DESCRIPTION:The Parks & Recreation Advisory Board meets on the second Thursday of each month at 1:00 pm inside Lincoln Center. For more information\, contact Toby Book at (620) 231-8310.
URL:https://www.pittks.org/event/parks-recreation-advisory-board-meeting-31/2023-12-14/
LOCATION:Lincoln Center
CATEGORIES:Government
ATTACH;FMTTYPE=image/jpeg:https://www.pittks.org/wp-content/uploads/2017/10/Parks-photo-e1507752925757.jpg
ORGANIZER;CN="Pittsburg Parks & Recreation Department":MAILTO:pprd@pittks.org
END:VEVENT
BEGIN:VEVENT
DTSTART;TZID=America/Chicago:20231218T120000
DTEND;TZID=America/Chicago:20231218T130000
DTSTAMP:20260422T085848
CREATED:20200706T210430Z
LAST-MODIFIED:20231218T162312Z
UID:10021342-1702900800-1702904400@www.pittks.org
SUMMARY:Downtown Advisory Board Meeting
DESCRIPTION:The Downtown Advisory Board will have their regularly-scheduled monthly meeting at City Hall. For more information\, contact Christi Yockey at (620) 240-5190.
URL:https://www.pittks.org/event/downtown-advisory-board-meeting-2023-12-18/
LOCATION:City Hall\, 201 W. 4th St\, Pittsburg\, Kansas\, 66762
CATEGORIES:Government
ATTACH;FMTTYPE=image/jpeg:https://www.pittks.org/wp-content/uploads/2017/03/city-of-pittsburg-downtown-development-banner.jpg
END:VEVENT
BEGIN:VEVENT
DTSTART;TZID=America/Chicago:20231219T173000
DTEND;TZID=America/Chicago:20231219T173000
DTSTAMP:20260422T085848
CREATED:20200406T213946Z
LAST-MODIFIED:20231214T165619Z
UID:10020872-1703007000-1703007000@www.pittks.org
SUMMARY:City Commission Meeting
DESCRIPTION:The Pittsburg City Commission typically meets on the second and fourth Tuesday of each month at 5:30 pm\, inside the Beard-Shanks Law Enforcement Center courtroom. For more information\, contact City Clerk Tammy Nagel at (620) 230-5532. \nCommission meetings are broadcast live on Cox channel 6\, Craw-Kan channel 406\, and on the city’s YouTube channel: www.pittks.org/YouTube. Members of the public are encouraged to watch remotely or attend in-person. \nFor meeting minutes and agendas\, visit pittks.org/city-government/city-commission.
URL:https://www.pittks.org/event/city-commission-meeting-2023-12-26/
LOCATION:Beard-Shanks Law Enforcement Center courtroom
CATEGORIES:Government
ATTACH;FMTTYPE=image/jpeg:https://www.pittks.org/wp-content/uploads/2018/11/CityHall.jpg
END:VEVENT
END:VCALENDAR