BEGIN:VCALENDAR
VERSION:2.0
PRODID:-//City of Pittsburg - ECPv6.15.20//NONSGML v1.0//EN
CALSCALE:GREGORIAN
METHOD:PUBLISH
X-WR-CALNAME:City of Pittsburg
X-ORIGINAL-URL:https://www.pittks.org
X-WR-CALDESC:Events for City of Pittsburg
REFRESH-INTERVAL;VALUE=DURATION:PT1H
X-Robots-Tag:noindex
X-PUBLISHED-TTL:PT1H
BEGIN:VTIMEZONE
TZID:America/Chicago
BEGIN:DAYLIGHT
TZOFFSETFROM:-0600
TZOFFSETTO:-0500
TZNAME:CDT
DTSTART:20230312T080000
END:DAYLIGHT
BEGIN:STANDARD
TZOFFSETFROM:-0500
TZOFFSETTO:-0600
TZNAME:CST
DTSTART:20231105T070000
END:STANDARD
BEGIN:DAYLIGHT
TZOFFSETFROM:-0600
TZOFFSETTO:-0500
TZNAME:CDT
DTSTART:20240310T080000
END:DAYLIGHT
BEGIN:STANDARD
TZOFFSETFROM:-0500
TZOFFSETTO:-0600
TZNAME:CST
DTSTART:20241103T070000
END:STANDARD
BEGIN:DAYLIGHT
TZOFFSETFROM:-0600
TZOFFSETTO:-0500
TZNAME:CDT
DTSTART:20250309T080000
END:DAYLIGHT
BEGIN:STANDARD
TZOFFSETFROM:-0500
TZOFFSETTO:-0600
TZNAME:CST
DTSTART:20251102T070000
END:STANDARD
END:VTIMEZONE
BEGIN:VEVENT
DTSTART;TZID=America/Chicago:20240615T100000
DTEND;TZID=America/Chicago:20240615T160000
DTSTAMP:20260425T070158
CREATED:20240528T154454Z
LAST-MODIFIED:20240528T154454Z
UID:10022753-1718445600-1718467200@www.pittks.org
SUMMARY:2nd Annual Kite Festival
DESCRIPTION:Join us for a day filled with endless fun and excitement as colorful kites paint the sky. Brig your family and friends for a day of unforgettable memories at our vibrant kite festival!\n\nJune 15\, 202410:00am – 4:00pmFree For Everyone!Location: The Field Between Bicknell Center and Plaster Center.\nKites & Thread Provided!\n\nSponsored by Al Patel with Pitt Discount Liquor & Pitt Discount Smokes.
URL:https://www.pittks.org/event/2nd-annual-kite-festival/
LOCATION:Bicknell Family Center for the Arts\, 1711 S. Homer\, Pittsburg\, KS\, 66762\, United States
CATEGORIES:Food,Outdoors
ATTACH;FMTTYPE=image/jpeg:https://www.pittks.org/wp-content/uploads/2024/05/2024-Kite-Festival-Flyer.jpg
ORGANIZER;CN="Pittsburg Parks & Recreation Department":MAILTO:pprd@pittks.org
END:VEVENT
END:VCALENDAR