BEGIN:VCALENDAR
VERSION:2.0
PRODID:-//City of Pittsburg - ECPv6.15.20//NONSGML v1.0//EN
CALSCALE:GREGORIAN
METHOD:PUBLISH
X-WR-CALNAME:City of Pittsburg
X-ORIGINAL-URL:https://www.pittks.org
X-WR-CALDESC:Events for City of Pittsburg
REFRESH-INTERVAL;VALUE=DURATION:PT1H
X-Robots-Tag:noindex
X-PUBLISHED-TTL:PT1H
BEGIN:VTIMEZONE
TZID:America/Chicago
BEGIN:DAYLIGHT
TZOFFSETFROM:-0600
TZOFFSETTO:-0500
TZNAME:CDT
DTSTART:20240310T080000
END:DAYLIGHT
BEGIN:STANDARD
TZOFFSETFROM:-0500
TZOFFSETTO:-0600
TZNAME:CST
DTSTART:20241103T070000
END:STANDARD
BEGIN:DAYLIGHT
TZOFFSETFROM:-0600
TZOFFSETTO:-0500
TZNAME:CDT
DTSTART:20250309T080000
END:DAYLIGHT
BEGIN:STANDARD
TZOFFSETFROM:-0500
TZOFFSETTO:-0600
TZNAME:CST
DTSTART:20251102T070000
END:STANDARD
BEGIN:DAYLIGHT
TZOFFSETFROM:-0600
TZOFFSETTO:-0500
TZNAME:CDT
DTSTART:20260308T080000
END:DAYLIGHT
BEGIN:STANDARD
TZOFFSETFROM:-0500
TZOFFSETTO:-0600
TZNAME:CST
DTSTART:20261101T070000
END:STANDARD
BEGIN:DAYLIGHT
TZOFFSETFROM:-0600
TZOFFSETTO:-0500
TZNAME:CDT
DTSTART:20270314T080000
END:DAYLIGHT
BEGIN:STANDARD
TZOFFSETFROM:-0500
TZOFFSETTO:-0600
TZNAME:CST
DTSTART:20271107T070000
END:STANDARD
END:VTIMEZONE
BEGIN:VEVENT
DTSTART;TZID=America/Chicago:20260225T135000
DTEND;TZID=America/Chicago:20260225T145000
DTSTAMP:20260422T161859
CREATED:20260206T202510Z
LAST-MODIFIED:20260206T202510Z
UID:10024727-1772027400-1772031000@www.pittks.org
SUMMARY:Celebrate Pittsburg Committee Meeting
DESCRIPTION:The Pittsburg Celebration Committee (also known as Pitt 150) meets the last Wednesday of each month at 1:50 p.m. at the Pittsburg Area Chamber office. Email Celebratepittsburg@gmail.com for more information.
URL:https://www.pittks.org/event/celebrate-pittsburg-committee-meeting/
LOCATION:KS
CATEGORIES:Celebrations/Fundraisers,Civic Engagement,Downtown,Fine & Performing Arts,Memorial Auditorium,Seniors
ATTACH;FMTTYPE=image/png:https://www.pittks.org/wp-content/uploads/2026/01/150-Logo-Gold.png
END:VEVENT
BEGIN:VEVENT
DTSTART;TZID=America/Chicago:20251214T140000
DTEND;TZID=America/Chicago:20251214T160000
DTSTAMP:20260422T161859
CREATED:20250815T153557Z
LAST-MODIFIED:20251029T215502Z
UID:10024493-1765720800-1765728000@www.pittks.org
SUMMARY:Disney's Frozen: Sing-Along
DESCRIPTION:Bring the whole family for a magical afternoon of Disney’s Frozen on the big screen – complete with on-screen lyrics so you can sing your favorite songs out loud! \nSunday\, December 14 – 2PM \nPURCHASE TICKETS HERE
URL:https://www.pittks.org/event/disneys-frozen-sing-along/
LOCATION:Memorial Auditorium\, 503 N. Pine St.\, Pittsburg\, KS\, 66762\, United States
CATEGORIES:Downtown,Memorial Auditorium
ATTACH;FMTTYPE=image/png:https://www.pittks.org/wp-content/uploads/2025/08/4.png
END:VEVENT
BEGIN:VEVENT
DTSTART;TZID=America/Chicago:20251212T190000
DTEND;TZID=America/Chicago:20251212T210000
DTSTAMP:20260422T161859
CREATED:20251017T143222Z
LAST-MODIFIED:20251029T215538Z
UID:10024558-1765566000-1765573200@www.pittks.org
SUMMARY:The Nutcracker - Presented by Classical Arts Entertainment
DESCRIPTION:The Nutcracker by International Ballet Stars\nPresented by Classical Arts Entertainment\nFriday\, December 12th at 7:00 PM\n \nA holiday tradition – reinvented.\nCelebrate the season with The Nutcracker\, a ballet that brings joy\, wonder\, and imagination to life for audiences of all ages. \nThis dazzling production features all-new\, hand-painted sets and over 200 exquisite costumes. Tchaikovsky’s beloved score is performed alongside iconic choreography – including “Waltz of the Snowflakes”\, “Dance of the Sugar Plum Fairy”\, and “Waltz of the Flowers”. With a cast of world-renowned ballet artists from 12 countries\, this Nutcracker is more than a performance – it’s a celebration of global talent and timeless holiday magic. With more than 10 years of experience presenting internationally acclaimed productions\, Classical Arts Entertainment is proud to share this artistic journey with communities across North America. \nBallet in Two Acts with one intermission\nFamily-friendly – suitable for ages 3 and up \n  \nPURCHASE TICKETS HERE
URL:https://www.pittks.org/event/the-nutcracker-presented-by-classical-arts-entertainment/
LOCATION:KS
CATEGORIES:Downtown,Memorial Auditorium
ATTACH;FMTTYPE=image/png:https://www.pittks.org/wp-content/uploads/2025/10/Nutcracker-11x17-with-date.png
END:VEVENT
BEGIN:VEVENT
DTSTART;TZID=America/Chicago:20251201T183000
DTEND;TZID=America/Chicago:20251201T203000
DTSTAMP:20260422T161859
CREATED:20250228T211715Z
LAST-MODIFIED:20251029T213426Z
UID:10024425-1764613800-1764621000@www.pittks.org
SUMMARY:Pittsburg Christmas Parade
DESCRIPTION:Join us for the 46th annual Pittsburg Christmas Parade down Broadway Street!\nMonday\, December 1Downtown Broadway6:30 pmFree and fun for all ages!\n\nWant to enter the parade? Call 620-231-8310.
URL:https://www.pittks.org/event/pittsburg-christmas-parade/
LOCATION:Downtown Pittsburg\, Downtown\, Pittsburg\, KS\, 66762\, United States
CATEGORIES:Adults,Celebrations/Fundraisers,Children,Downtown,Holiday,Kids,Nightlife,Outdoors
ATTACH;FMTTYPE=image/jpeg:https://www.pittks.org/wp-content/uploads/2025/02/parade.jpg
ORGANIZER;CN="Pittsburg Parks & Recreation Department":MAILTO:pprd@pittks.org
END:VEVENT
BEGIN:VEVENT
DTSTART;TZID=America/Chicago:20251129T183000
DTEND;TZID=America/Chicago:20251129T200000
DTSTAMP:20260422T161859
CREATED:20250228T211629Z
LAST-MODIFIED:20250818T152102Z
UID:10024424-1764441000-1764446400@www.pittks.org
SUMMARY:Pittsburg Christmas Tree Lighting Ceremony
DESCRIPTION:Join us on Small Business Saturday in for the City of Pittsburg’s annual tree lighting ceremony at Pritchett Pavilion\, 106 2nd Street\,  (2nd & Broadway) in Downtown Pittsburg. \nThis magical holiday event includes dessert vendors\, spiked apple cider\, hot cocoa and cookies\, and community caroling around a dazzling 20-foot Christmas Tree! \nBring the whole family and take photos with Santa Claus\, Mickey & Minnie Mouse\, and the Christmas Elves. \nThis annual Downtown Pittsburg tradition is free to attend and open to everyone. \n 
URL:https://www.pittks.org/event/pittsburg-christmas-tree-lighting/
LOCATION:Pritchett Pavilion – 2nd & Broadway\, 106 2nd St\, Pittsburg\, KS\, 66762\, United States
CATEGORIES:Adults,Celebrations/Fundraisers,Children,Civic Engagement,Downtown,Food,Holiday,Kids
ATTACH;FMTTYPE=image/jpeg:https://www.pittks.org/wp-content/uploads/2025/02/TreeLighting2023-06-scaled-e1754425415973.jpg
END:VEVENT
BEGIN:VEVENT
DTSTART;TZID=America/Chicago:20251129T170000
DTEND;TZID=America/Chicago:20251129T210000
DTSTAMP:20260422T161859
CREATED:20251029T220504Z
LAST-MODIFIED:20251029T220846Z
UID:10024562-1764435600-1764450000@www.pittks.org
SUMMARY:VenueDays at Harlen’s
DESCRIPTION:Join us for shopping\, snacks\, and socializing at Harlen’s VenueDays!  \n206 N. Locust\, Pittsburg\, KS \n5:00 pm – 9:00 pm \nContact Harlen’s Venue: harlensvenue@gmail.com
URL:https://www.pittks.org/event/venuedays-at-harlens/
LOCATION:Harlen’s Venue\, 206 N. Locust\, Pittsburg\, KS\, 66762\, United States
CATEGORIES:Downtown,Holiday,Retail Shopping
ATTACH;FMTTYPE=image/jpeg:https://www.pittks.org/wp-content/uploads/2025/10/Venue-Days.jpg
ORGANIZER;CN="Harlen's Venue":MAILTO:harlensvenue@gmail.com
END:VEVENT
BEGIN:VEVENT
DTSTART;TZID=America/Chicago:20251129T150000
DTEND;TZID=America/Chicago:20251129T200000
DTSTAMP:20260422T161859
CREATED:20251029T220822Z
LAST-MODIFIED:20251107T215647Z
UID:10024563-1764428400-1764446400@www.pittks.org
SUMMARY:Mistletoe Market
DESCRIPTION:Organized by the Pittsburg Farmers’ Market  \nSaturday\, Nov. 29 from 3:00 pm – 8:00 pm  \nPritchett Pavilion\, 106 W 2nd Street \nGet in the holiday spirit with us! The Pittsburg Farmers’ Market is hosting our Mistletoe Market on Small Business Saturday! \nShop local makers and bakers\, enjoy live music\, and bring the kids for some fun holiday crafts. After the market\, stick around for the official Christmas Tree Lighting Ceremony! It’s a day of community\, shopping\, and holiday cheer. \nContact the Farmers’ Market: pprd@pittks.org | 620-231-8310 
URL:https://www.pittks.org/event/mistletoe-market/
LOCATION:Pritchett Pavilion – 2nd & Broadway\, 106 2nd St\, Pittsburg\, KS\, 66762\, United States
CATEGORIES:Downtown,Holiday,Retail Shopping
ATTACH;FMTTYPE=image/jpeg:https://www.pittks.org/wp-content/uploads/2025/10/Mistletoe.jpg
ORGANIZER;CN="Pittsburg Parks & Recreation Department":MAILTO:pprd@pittks.org
END:VEVENT
BEGIN:VEVENT
DTSTART;TZID=America/Chicago:20251129T100000
DTEND;TZID=America/Chicago:20251129T130000
DTSTAMP:20260422T161859
CREATED:20250228T211355Z
LAST-MODIFIED:20251029T220110Z
UID:10024423-1764410400-1764421200@www.pittks.org
SUMMARY:Holiday Art Market
DESCRIPTION:Join us on Small Business Saturday for the Holiday Art Market with local artists in the beautiful Frisco Event Center Downtown Pittsburg\, Kansas.  \nContact Pittsburg Arts Council: pittsburgartscouncil@gmail.com  \nInstagram: @PittsburgArtsCouncil\nFacebook: @PittsburgArtsCouncil \nFor more details about Small Business Saturday\, visit www.pittks.org/small-business-saturday/! \n  \n 
URL:https://www.pittks.org/event/holiday-art-market/
LOCATION:Frisco Event Center\, 204 E. 4th\, Pittsburg\, KS\, 66762\, United States
CATEGORIES:Crafts & Traditional Arts,Downtown,Food,Holiday
ATTACH;FMTTYPE=image/jpeg:https://www.pittks.org/wp-content/uploads/2024/11/Art-Market-Image.jpg
ORGANIZER;CN="Pittsburg ArtWalk":MAILTO:pittsburgartwalk@gmail.com
END:VEVENT
BEGIN:VEVENT
DTSTART;VALUE=DATE:20251129
DTEND;VALUE=DATE:20251130
DTSTAMP:20260422T161859
CREATED:20251029T214211Z
LAST-MODIFIED:20251029T214313Z
UID:10024561-1764374400-1764460799@www.pittks.org
SUMMARY:Small Business Saturday Passport Event
DESCRIPTION:Join us on Saturday\, Nov. 29 – ALL DAY at Participating Businesses! \n\nIt’s that time of year again to register for our Small Business Saturday! All area businesses are welcome to participate.\n\nSign up here to let us know what your hours will be\, what events you’re planning\, and other details so we can help you promote your small business: https://docs.google.com/…/1FAIpQLSc7fHCKEB69h5…/viewform\n\nFor more information\, visit https://www.pittks.org/small-business-saturday/
URL:https://www.pittks.org/event/small-business-saturday-passport-event/
LOCATION:City of Pittsburg\, Pittsburg\, KS\, 66762\, United States
CATEGORIES:Downtown,Retail Shopping
ATTACH;FMTTYPE=image/png:https://www.pittks.org/wp-content/uploads/2025/10/Small-Biz-Saturday-2025-Event-Cover-Image.png
ORGANIZER;CN="Downtown Advisory Board":MAILTO:visitdowntownpitt@gmail.com
END:VEVENT
BEGIN:VEVENT
DTSTART;TZID=America/Chicago:20251127T080000
DTEND;TZID=America/Chicago:20251127T100000
DTSTAMP:20260422T161859
CREATED:20251029T221603Z
LAST-MODIFIED:20251029T221603Z
UID:10024564-1764230400-1764237600@www.pittks.org
SUMMARY:4th Annual Pittsburg Turkey Trot 5K
DESCRIPTION:Organized by the Running Collective \nJoin us for the 4th Annual Pittsburg Turkey Trot! \nAll proceeds from the Pittsburg Turkey Trot will be donated to charity. Every year\, we’ll have a different charity partner that we’ll raise funds for. The 2025 Charity Partner is the Children’s Advocacy Center. \nParticipants can start registering for the event on August 1st. Your registration includes your chip-timed race bib\, quality long sleeve shirt\, finisher medal\, awards\, post-race water & snacks\, and race day photography. \nT-SHIRT GUARANTEE DEADLINE IS NOVEMBER 9TH. \nThe start/finish of the race will be at 4th & Broadway in Downtown Pittsburg. \nMORE INFO / REGISTER 
URL:https://www.pittks.org/event/4th-annual-pittsburg-turkey-trot-5k/
LOCATION:KS
CATEGORIES:Adults,Athletics,Celebrations/Fundraisers,Civic Engagement,Downtown,Holiday,Kids,Outdoors,Wellness
ATTACH;FMTTYPE=image/jpeg:https://www.pittks.org/wp-content/uploads/2025/10/turkeys.jpg
ORGANIZER;CN="The Running Collective":MAILTO:renato@runningcollectiveks.com
END:VEVENT
BEGIN:VEVENT
DTSTART;TZID=America/Chicago:20251122T140000
DTEND;TZID=America/Chicago:20251122T160000
DTSTAMP:20260422T161859
CREATED:20250912T143139Z
LAST-MODIFIED:20251029T215614Z
UID:10024502-1763820000-1763827200@www.pittks.org
SUMMARY:PHS Present: Hadestown Teen Edition
DESCRIPTION:Pittsburg Highschool Theatre presents – Hadestown Teen Edition \nThis full-length Teen Edition of Anaïs Mitchell’s haunting\, jazz-inflected folk opera follows Orpheus’ mythical quest to overcome Hades and regain the favor of his one true love\, Eurydice. This intriguing and beautiful folk opera delivers a deeply resonant and defiantly hopeful theatrical experience.  \nFollowing two intertwining love stories – that of young dreamers Orpheus and Eurydice\, and that of immortal King Hades and lady Persephone – Hadestown invites audiences on a hell-raising journey to the underworld and back. Inspired by traditions of classic American folk music and vintage New Orleans jazz\, Mitchell’s beguiling sung-through musical pits industry against nature\, doubt against faith\, and fear against love. \nShow Times: \nNovember 20th – 7:00PM \nNovember 21st – 7:00PM \nNovember 22nd – 2:00PM \nPURCHASE TICKETS HERE
URL:https://www.pittks.org/event/phs-present-hadestown-teen-edition/2025-11-22/
LOCATION:Memorial Auditorium\, 503 N. Pine St.\, Pittsburg\, KS\, 66762\, United States
CATEGORIES:Downtown,Memorial Auditorium
ATTACH;FMTTYPE=image/png:https://www.pittks.org/wp-content/uploads/2025/09/Hadestown-Ludus.png
END:VEVENT
BEGIN:VEVENT
DTSTART;TZID=America/Chicago:20251121T190000
DTEND;TZID=America/Chicago:20251121T210000
DTSTAMP:20260422T161859
CREATED:20250912T143139Z
LAST-MODIFIED:20251029T215614Z
UID:10024501-1763751600-1763758800@www.pittks.org
SUMMARY:PHS Present: Hadestown Teen Edition
DESCRIPTION:Pittsburg Highschool Theatre presents – Hadestown Teen Edition \nThis full-length Teen Edition of Anaïs Mitchell’s haunting\, jazz-inflected folk opera follows Orpheus’ mythical quest to overcome Hades and regain the favor of his one true love\, Eurydice. This intriguing and beautiful folk opera delivers a deeply resonant and defiantly hopeful theatrical experience.  \nFollowing two intertwining love stories – that of young dreamers Orpheus and Eurydice\, and that of immortal King Hades and lady Persephone – Hadestown invites audiences on a hell-raising journey to the underworld and back. Inspired by traditions of classic American folk music and vintage New Orleans jazz\, Mitchell’s beguiling sung-through musical pits industry against nature\, doubt against faith\, and fear against love. \nShow Times: \nNovember 20th – 7:00PM \nNovember 21st – 7:00PM \nNovember 22nd – 2:00PM \nPURCHASE TICKETS HERE
URL:https://www.pittks.org/event/phs-present-hadestown-teen-edition/2025-11-21/
LOCATION:Memorial Auditorium\, 503 N. Pine St.\, Pittsburg\, KS\, 66762\, United States
CATEGORIES:Downtown,Memorial Auditorium
ATTACH;FMTTYPE=image/png:https://www.pittks.org/wp-content/uploads/2025/09/Hadestown-Ludus.png
END:VEVENT
BEGIN:VEVENT
DTSTART;TZID=America/Chicago:20251120T190000
DTEND;TZID=America/Chicago:20251120T210000
DTSTAMP:20260422T161859
CREATED:20250912T143139Z
LAST-MODIFIED:20251029T215614Z
UID:10024500-1763665200-1763672400@www.pittks.org
SUMMARY:PHS Present: Hadestown Teen Edition
DESCRIPTION:Pittsburg Highschool Theatre presents – Hadestown Teen Edition \nThis full-length Teen Edition of Anaïs Mitchell’s haunting\, jazz-inflected folk opera follows Orpheus’ mythical quest to overcome Hades and regain the favor of his one true love\, Eurydice. This intriguing and beautiful folk opera delivers a deeply resonant and defiantly hopeful theatrical experience.  \nFollowing two intertwining love stories – that of young dreamers Orpheus and Eurydice\, and that of immortal King Hades and lady Persephone – Hadestown invites audiences on a hell-raising journey to the underworld and back. Inspired by traditions of classic American folk music and vintage New Orleans jazz\, Mitchell’s beguiling sung-through musical pits industry against nature\, doubt against faith\, and fear against love. \nShow Times: \nNovember 20th – 7:00PM \nNovember 21st – 7:00PM \nNovember 22nd – 2:00PM \nPURCHASE TICKETS HERE
URL:https://www.pittks.org/event/phs-present-hadestown-teen-edition/2025-11-20/
LOCATION:Memorial Auditorium\, 503 N. Pine St.\, Pittsburg\, KS\, 66762\, United States
CATEGORIES:Downtown,Memorial Auditorium
ATTACH;FMTTYPE=image/png:https://www.pittks.org/wp-content/uploads/2025/09/Hadestown-Ludus.png
END:VEVENT
BEGIN:VEVENT
DTSTART;TZID=America/Chicago:20251120T173000
DTEND;TZID=America/Chicago:20251120T200000
DTSTAMP:20260422T161859
CREATED:20251103T152453Z
LAST-MODIFIED:20251118T180234Z
UID:10024565-1763659800-1763668800@www.pittks.org
SUMMARY:A Night with Teddy Roosevelt
DESCRIPTION:Join the Stilwell Heritage & Education Foundation for a Night with Teddy Roosevelt. Doors will open at 5:30 p.m. The Silent Auction will also begin at 5:30 p.m.  A VIP Meet & Greet with Teddy Roosevelt will begin at 5:30 p.m.  Tickets to the VIP event may be purchased separately. \nDinner will be served at 6:30 p.m.  Remarks by Teddy Roosevelt and Dessert will follow. \nTickets are $45.00 per person and include two tickets for adult beverages. \nAll funds\, thanks to our sponsors and supporters\, shall support the Stilwell Heritage & Education Foundation capital campaign. \nThe Stilwell Heritage & Education Foundation is a 501(c)(3).
URL:https://www.pittks.org/event/a-night-with-teddy-roosevelt/
LOCATION:Stilwell Hotel\, 707 N Broadway St.\, Pittsburg\, KS\, 66762\, United States
CATEGORIES:Celebrations/Fundraisers,Downtown,History
ATTACH;FMTTYPE=image/jpeg:https://www.pittks.org/wp-content/uploads/2025/11/Night-With-Teddy.jpg
END:VEVENT
BEGIN:VEVENT
DTSTART;TZID=America/Chicago:20251106T183000
DTEND;TZID=America/Chicago:20251106T200000
DTSTAMP:20260422T161859
CREATED:20250815T152937Z
LAST-MODIFIED:20251003T165735Z
UID:10024492-1762453800-1762459200@www.pittks.org
SUMMARY:Doktor Kaboom: Look Out! Science Is Coming!
DESCRIPTION:Join the hilarious explosive Doktor Kaboom for an evening of science\, comedy\, and interactive fun! Perfect for audiences of all ages\, this high-energy show blends entertainment with education\, making science accessible and exciting for everyone. \nNovember 6\, 2025 – 6:30PM \nPURCHASE TICKETS HERE \n  \n 
URL:https://www.pittks.org/event/doktor-kaboom-look-out-science-is-coming/
LOCATION:Memorial Auditorium\, 503 N. Pine St.\, Pittsburg\, KS\, 66762\, United States
CATEGORIES:Downtown,Memorial Auditorium
ATTACH;FMTTYPE=image/png:https://www.pittks.org/wp-content/uploads/2025/08/3.png
END:VEVENT
BEGIN:VEVENT
DTSTART;TZID=America/Chicago:20251102T140000
DTEND;TZID=America/Chicago:20251102T160000
DTSTAMP:20260422T161859
CREATED:20250909T183255Z
LAST-MODIFIED:20251029T215635Z
UID:10024499-1762092000-1762099200@www.pittks.org
SUMMARY:MRB Presents: This is Halloween
DESCRIPTION:Midwest Regional Ballet Presents: This is Halloween \nOctober 30th – 7:00PM \nOctober 31st – 7:00PM \nNovember 1st – 7:00PM \nNovember 2nd – 2:00PM \nPURCHASE TICKETS HERE
URL:https://www.pittks.org/event/mrb-presents-this-is-halloween/2025-11-02/
LOCATION:Memorial Auditorium\, 503 N. Pine St.\, Pittsburg\, KS\, 66762\, United States
CATEGORIES:Adults,Children,Downtown,Fine & Performing Arts,Memorial Auditorium
ATTACH;FMTTYPE=image/png:https://www.pittks.org/wp-content/uploads/2025/09/MRB-halloween-graphic-1.png
END:VEVENT
BEGIN:VEVENT
DTSTART;TZID=America/Chicago:20251101T190000
DTEND;TZID=America/Chicago:20251101T210000
DTSTAMP:20260422T161859
CREATED:20250909T183255Z
LAST-MODIFIED:20251029T215635Z
UID:10024498-1762023600-1762030800@www.pittks.org
SUMMARY:MRB Presents: This is Halloween
DESCRIPTION:Midwest Regional Ballet Presents: This is Halloween \nOctober 30th – 7:00PM \nOctober 31st – 7:00PM \nNovember 1st – 7:00PM \nNovember 2nd – 2:00PM \nPURCHASE TICKETS HERE
URL:https://www.pittks.org/event/mrb-presents-this-is-halloween/2025-11-01/
LOCATION:Memorial Auditorium\, 503 N. Pine St.\, Pittsburg\, KS\, 66762\, United States
CATEGORIES:Adults,Children,Downtown,Fine & Performing Arts,Memorial Auditorium
ATTACH;FMTTYPE=image/png:https://www.pittks.org/wp-content/uploads/2025/09/MRB-halloween-graphic-1.png
END:VEVENT
BEGIN:VEVENT
DTSTART;TZID=America/Chicago:20251031T190000
DTEND;TZID=America/Chicago:20251031T210000
DTSTAMP:20260422T161859
CREATED:20250909T183255Z
LAST-MODIFIED:20251029T215635Z
UID:10024497-1761937200-1761944400@www.pittks.org
SUMMARY:MRB Presents: This is Halloween
DESCRIPTION:Midwest Regional Ballet Presents: This is Halloween \nOctober 30th – 7:00PM \nOctober 31st – 7:00PM \nNovember 1st – 7:00PM \nNovember 2nd – 2:00PM \nPURCHASE TICKETS HERE
URL:https://www.pittks.org/event/mrb-presents-this-is-halloween/2025-10-31/
LOCATION:Memorial Auditorium\, 503 N. Pine St.\, Pittsburg\, KS\, 66762\, United States
CATEGORIES:Adults,Children,Downtown,Fine & Performing Arts,Memorial Auditorium
ATTACH;FMTTYPE=image/png:https://www.pittks.org/wp-content/uploads/2025/09/MRB-halloween-graphic-1.png
END:VEVENT
BEGIN:VEVENT
DTSTART;TZID=America/Chicago:20251030T190000
DTEND;TZID=America/Chicago:20251030T210000
DTSTAMP:20260422T161859
CREATED:20250909T183255Z
LAST-MODIFIED:20251029T215635Z
UID:10024496-1761850800-1761858000@www.pittks.org
SUMMARY:MRB Presents: This is Halloween
DESCRIPTION:Midwest Regional Ballet Presents: This is Halloween \nOctober 30th – 7:00PM \nOctober 31st – 7:00PM \nNovember 1st – 7:00PM \nNovember 2nd – 2:00PM \nPURCHASE TICKETS HERE
URL:https://www.pittks.org/event/mrb-presents-this-is-halloween/2025-10-30/
LOCATION:Memorial Auditorium\, 503 N. Pine St.\, Pittsburg\, KS\, 66762\, United States
CATEGORIES:Adults,Children,Downtown,Fine & Performing Arts,Memorial Auditorium
ATTACH;FMTTYPE=image/png:https://www.pittks.org/wp-content/uploads/2025/09/MRB-halloween-graphic-1.png
END:VEVENT
BEGIN:VEVENT
DTSTART;TZID=America/Chicago:20251027T170000
DTEND;TZID=America/Chicago:20251027T190000
DTSTAMP:20260422T161859
CREATED:20250915T195048Z
LAST-MODIFIED:20251021T213404Z
UID:10024506-1761584400-1761591600@www.pittks.org
SUMMARY:Farm to Fork: A Farm to Table Harvest Festival
DESCRIPTION:****SOLD OUT! **** \nThe inaugural Farm to Table Harvest Festival is an event to celebrate the local harvest\, promote sustainable practices\, and raise community awareness. All proceeds from ticket sales and donations will benefit The Wesley House\, a local charitable organization. \n  \nParticipating Restaurants: \n\nBiles Brothers\nBrick & Mortar\nDrop the H\nMall Deli\nThe Blue Spoon\nThe Corner Patio\nThe Meat Shed\nToast\n\nSustainability Commitment \n\nAll dishware will be compostable\, biodegradable\, or reusable.\nIngredients will be sourced locally to support small farmers and reduce their carbon footprint.\nGuests will receive a reusable handmade bowl as a keepsake.\n\n  \nQuestions? \nContact: Bailey Talkington – talkington.bailey@gmail.com.
URL:https://www.pittks.org/event/farm-to-fork-a-farm-to-table-harvest-festival/
LOCATION:The Greenway\, 211 N Broadway St\, Pittsburg\, KS\, 66762\, United States
CATEGORIES:Adults,Celebrations/Fundraisers,Civic Engagement,Downtown,Nightlife,Outdoors,Wellness
ATTACH;FMTTYPE=image/png:https://www.pittks.org/wp-content/uploads/2025/09/Farm-to-Fork-Harvest-Festival.png
END:VEVENT
BEGIN:VEVENT
DTSTART;TZID=America/Chicago:20251011T090000
DTEND;TZID=America/Chicago:20251011T100000
DTSTAMP:20260422T161859
CREATED:20250806T145436Z
LAST-MODIFIED:20250818T152210Z
UID:10024491-1760173200-1760176800@www.pittks.org
SUMMARY:PSU Homecoming Parade
DESCRIPTION:Students\, employees\, alumni\, and the Pittsburg community are invited to gather downtown to watch the annual Homecoming Parade. Comprised of floats\, bands\, dancers\, clubs and organizations\, decorated cars\, and more\, it’s a spirited display of Pittsburg and Gorilla pride!  \nThe parade route extends from 11th and Broadway to 2nd Street.  \n 
URL:https://www.pittks.org/event/psu-homecoming-parade/
LOCATION:Downtown Pittsburg\, Downtown\, Pittsburg\, KS\, 66762\, United States
CATEGORIES:Adults,Athletics,Celebrations/Fundraisers,Children,Civic Engagement,Downtown,Kids,Outdoors,Seniors,Teens
ATTACH;FMTTYPE=image/jpeg:https://www.pittks.org/wp-content/uploads/2025/08/PSU-Homecoming-Parade-Image.jpg
END:VEVENT
BEGIN:VEVENT
DTSTART;TZID=America/Chicago:20250920T170000
DTEND;TZID=America/Chicago:20250920T210000
DTSTAMP:20260422T161859
CREATED:20250228T210035Z
LAST-MODIFIED:20250812T144029Z
UID:10024422-1758387600-1758402000@www.pittks.org
SUMMARY:2025 Fall Pittsburg Artwalk
DESCRIPTION:The Pittsburg ArtWalk is celebrating 19 incredible years! This highly anticipated bi-annual event\, organized by the Pittsburg Arts Council\, brings together the finest local artists to showcase their exceptional talents across various forms of art. From stunning 2D and 3D artwork to captivating live performances\, there’s something for everyone to enjoy! \nWhat to Expect: \n\nAmazing Art Displays – Discover a diverse collection of works\, including paintings\, sculptures\, photography\, and more.\nLive Music & Entertainment – Experience performances from talented local musicians and performers.\nExciting Art Demonstrations – Watch artists in action and learn more about their creative processes.\nDelicious Local Food Vendors – Savor the flavors of Pittsburg with a variety of food and drink options.\nLively Festival Atmosphere – Engage in community activities and soak in the vibrant energy of the Arts District.\nArt for Purchase – Add unique and exceptional pieces to your collection while supporting local artists.\n\nMake it a weekend getaway! Stay at one of the cozy Airbnbs in the Arts District\, enjoy Pittsburg’s fantastic local restaurants\, and experience the nightlife all weekend long. \nEnjoy Responsibly with Common Consumption!\nAs always\, you can sip your favorite drinks while exploring the amazing art exhibits and attractions within the ArtWalk boundaries. We kindly remind everyone to drink responsibly and follow all guidelines to ensure a safe and enjoyable experience. Cheers to an unforgettable ArtWalk! \nLocation: 4th to 7th Street on Broadway\, Pittsburg Arts District\, Downtown Pittsburg\, KS\nMark your calendars and invite your friends! \nSign up today to participate or sponsor the event! https://pittsburgartscouncil.com/event-applications \nStay updated by following us on:\nInstagram: @PittsburgArtWalk\nFacebook: @PittsburgArtWalk \nFor vendor and sponsorship inquiries\, contact us at PittsburgArtWalk@gmail.com!
URL:https://www.pittks.org/event/fall-artwalk/
LOCATION:Downtown Pittsburg\, Downtown\, Pittsburg\, KS\, 66762\, United States
CATEGORIES:Adults,Celebrations/Fundraisers,Children,Civic Engagement,Crafts & Traditional Arts,Downtown,Enrichment/Learning,Fine & Performing Arts,Food,Kids,Nightlife
ATTACH;FMTTYPE=image/jpeg:https://www.pittks.org/wp-content/uploads/2022/09/IMG_7649-scaled-e1688749369627.jpg
ORGANIZER;CN="Pittsburg ArtWalk":MAILTO:pittsburgartwalk@gmail.com
END:VEVENT
END:VCALENDAR