BEGIN:VCALENDAR
VERSION:2.0
PRODID:-//City of Pittsburg - ECPv6.15.20//NONSGML v1.0//EN
CALSCALE:GREGORIAN
METHOD:PUBLISH
X-WR-CALNAME:City of Pittsburg
X-ORIGINAL-URL:https://www.pittks.org
X-WR-CALDESC:Events for City of Pittsburg
REFRESH-INTERVAL;VALUE=DURATION:PT1H
X-Robots-Tag:noindex
X-PUBLISHED-TTL:PT1H
BEGIN:VTIMEZONE
TZID:America/Chicago
BEGIN:DAYLIGHT
TZOFFSETFROM:-0600
TZOFFSETTO:-0500
TZNAME:CDT
DTSTART:20230312T080000
END:DAYLIGHT
BEGIN:STANDARD
TZOFFSETFROM:-0500
TZOFFSETTO:-0600
TZNAME:CST
DTSTART:20231105T070000
END:STANDARD
BEGIN:DAYLIGHT
TZOFFSETFROM:-0600
TZOFFSETTO:-0500
TZNAME:CDT
DTSTART:20240310T080000
END:DAYLIGHT
BEGIN:STANDARD
TZOFFSETFROM:-0500
TZOFFSETTO:-0600
TZNAME:CST
DTSTART:20241103T070000
END:STANDARD
BEGIN:DAYLIGHT
TZOFFSETFROM:-0600
TZOFFSETTO:-0500
TZNAME:CDT
DTSTART:20250309T080000
END:DAYLIGHT
BEGIN:STANDARD
TZOFFSETFROM:-0500
TZOFFSETTO:-0600
TZNAME:CST
DTSTART:20251102T070000
END:STANDARD
END:VTIMEZONE
BEGIN:VEVENT
DTSTART;TZID=America/Chicago:20240920T170000
DTEND;TZID=America/Chicago:20240920T210000
DTSTAMP:20260419T184429
CREATED:20240913T211632Z
LAST-MODIFIED:20240913T211632Z
UID:10023092-1726851600-1726866000@www.pittks.org
SUMMARY:Fall Pittsburg ArtWalk 2024
DESCRIPTION:Celebrating 18 years of highlighting artistic minds in the area!\n\nThe ArtWalk is a highly-anticipated bi-annual event organized by the Pittsburg Arts Counil\, which brings together the finest local artists who showcase their exceptional talent in various forms of art. From stunning 2D and 3D artworks to captivating performances\, this event has something for everyone.\n\nIn addition to the awe-inspiring art displays\, the ArtWalk also offers a lively festival atmosphere\, complete with live music\, exciting art demonstrations\, engaging community activities\, and delicious local food vendors.\nThis is the perfect opportunity to immerse yourself in the local arts scene\, interact with the artists\, and explore the vibrant culture of the community. If you are looking to add some unique and exceptional pieces to your art collection\, you can also purchase the artworks on display. Join us at the Pittsburg ArtWalk for a memorable and enriching experience.\n\nArtWalk is held between the 4th and 7th street on Broadway in the Pittsburg Arts District\, in Downtown Pittsburg\, KS.\n\nAs always you can enjoy your favorite drinks while exploring the amazing art exhibits and other attractions within the ArtWalk boundaries thanks to common consumption! We kindly remind you to drink responsibly and follow all guidelines to ensure everyone’s safety. Cheers to a fun and memorable ArtWalk experience!
URL:https://www.pittks.org/event/fall-pittsburg-artwalk-2024/
LOCATION:Downtown Pittsburg\, Downtown\, Pittsburg\, KS\, 66762\, United States
CATEGORIES:Crafts & Traditional Arts,Enrichment/Learning,Fine & Performing Arts
ATTACH;FMTTYPE=image/jpeg:https://www.pittks.org/wp-content/uploads/2024/09/442420570_825716269593704_206499422969896541_n.jpg
ORGANIZER;CN="Pittsburg ArtWalk":MAILTO:pittsburgartwalk@gmail.com
END:VEVENT
END:VCALENDAR