BEGIN:VCALENDAR
VERSION:2.0
PRODID:-//City of Pittsburg - ECPv6.15.20//NONSGML v1.0//EN
CALSCALE:GREGORIAN
METHOD:PUBLISH
X-WR-CALNAME:City of Pittsburg
X-ORIGINAL-URL:https://www.pittks.org
X-WR-CALDESC:Events for City of Pittsburg
REFRESH-INTERVAL;VALUE=DURATION:PT1H
X-Robots-Tag:noindex
X-PUBLISHED-TTL:PT1H
BEGIN:VTIMEZONE
TZID:America/Chicago
BEGIN:DAYLIGHT
TZOFFSETFROM:-0600
TZOFFSETTO:-0500
TZNAME:CDT
DTSTART:20240310T080000
END:DAYLIGHT
BEGIN:STANDARD
TZOFFSETFROM:-0500
TZOFFSETTO:-0600
TZNAME:CST
DTSTART:20241103T070000
END:STANDARD
BEGIN:DAYLIGHT
TZOFFSETFROM:-0600
TZOFFSETTO:-0500
TZNAME:CDT
DTSTART:20250309T080000
END:DAYLIGHT
BEGIN:STANDARD
TZOFFSETFROM:-0500
TZOFFSETTO:-0600
TZNAME:CST
DTSTART:20251102T070000
END:STANDARD
BEGIN:DAYLIGHT
TZOFFSETFROM:-0600
TZOFFSETTO:-0500
TZNAME:CDT
DTSTART:20260308T080000
END:DAYLIGHT
BEGIN:STANDARD
TZOFFSETFROM:-0500
TZOFFSETTO:-0600
TZNAME:CST
DTSTART:20261101T070000
END:STANDARD
END:VTIMEZONE
BEGIN:VEVENT
DTSTART;TZID=America/Chicago:20250310T153000
DTEND;TZID=America/Chicago:20250310T173000
DTSTAMP:20260423T185433
CREATED:20250113T172309Z
LAST-MODIFIED:20250113T172422Z
UID:10023496-1741620600-1741627800@www.pittks.org
SUMMARY:American Red Cross Babysitting Class
DESCRIPTION:The American Red Cross Babysitting class is perfect for young individuals who are trying to learn how to be competent and capable babysitters. \n  \nMarch 10 – 14 \n3:30 – 5:30 PM \n$45.00 per student \nAges 11+ \nRSVP by March 5 \nLincoln Center\, 710 W 9th St.
URL:https://www.pittks.org/event/american-red-cross-babysitting-class-2/2025-03-10/
LOCATION:Lincoln Center
CATEGORIES:Children,Children's Camps,Enrichment/Learning,Kids,Teens
ATTACH;FMTTYPE=image/png:https://www.pittks.org/wp-content/uploads/2025/01/2025-March-ARC-Babysitting-Class-Flyer.png
ORGANIZER;CN="Pittsburg Parks & Recreation Department":MAILTO:pprd@pittks.org
END:VEVENT
BEGIN:VEVENT
DTSTART;TZID=America/Chicago:20250311T153000
DTEND;TZID=America/Chicago:20250311T173000
DTSTAMP:20260423T185433
CREATED:20250113T172309Z
LAST-MODIFIED:20250113T172422Z
UID:10023497-1741707000-1741714200@www.pittks.org
SUMMARY:American Red Cross Babysitting Class
DESCRIPTION:The American Red Cross Babysitting class is perfect for young individuals who are trying to learn how to be competent and capable babysitters. \n  \nMarch 10 – 14 \n3:30 – 5:30 PM \n$45.00 per student \nAges 11+ \nRSVP by March 5 \nLincoln Center\, 710 W 9th St.
URL:https://www.pittks.org/event/american-red-cross-babysitting-class-2/2025-03-11/
LOCATION:Lincoln Center
CATEGORIES:Children,Children's Camps,Enrichment/Learning,Kids,Teens
ATTACH;FMTTYPE=image/png:https://www.pittks.org/wp-content/uploads/2025/01/2025-March-ARC-Babysitting-Class-Flyer.png
ORGANIZER;CN="Pittsburg Parks & Recreation Department":MAILTO:pprd@pittks.org
END:VEVENT
BEGIN:VEVENT
DTSTART;TZID=America/Chicago:20250312T153000
DTEND;TZID=America/Chicago:20250312T173000
DTSTAMP:20260423T185433
CREATED:20250113T172309Z
LAST-MODIFIED:20250113T172422Z
UID:10023498-1741793400-1741800600@www.pittks.org
SUMMARY:American Red Cross Babysitting Class
DESCRIPTION:The American Red Cross Babysitting class is perfect for young individuals who are trying to learn how to be competent and capable babysitters. \n  \nMarch 10 – 14 \n3:30 – 5:30 PM \n$45.00 per student \nAges 11+ \nRSVP by March 5 \nLincoln Center\, 710 W 9th St.
URL:https://www.pittks.org/event/american-red-cross-babysitting-class-2/2025-03-12/
LOCATION:Lincoln Center
CATEGORIES:Children,Children's Camps,Enrichment/Learning,Kids,Teens
ATTACH;FMTTYPE=image/png:https://www.pittks.org/wp-content/uploads/2025/01/2025-March-ARC-Babysitting-Class-Flyer.png
ORGANIZER;CN="Pittsburg Parks & Recreation Department":MAILTO:pprd@pittks.org
END:VEVENT
BEGIN:VEVENT
DTSTART;TZID=America/Chicago:20250313T153000
DTEND;TZID=America/Chicago:20250313T173000
DTSTAMP:20260423T185433
CREATED:20250113T172309Z
LAST-MODIFIED:20250113T172422Z
UID:10023499-1741879800-1741887000@www.pittks.org
SUMMARY:American Red Cross Babysitting Class
DESCRIPTION:The American Red Cross Babysitting class is perfect for young individuals who are trying to learn how to be competent and capable babysitters. \n  \nMarch 10 – 14 \n3:30 – 5:30 PM \n$45.00 per student \nAges 11+ \nRSVP by March 5 \nLincoln Center\, 710 W 9th St.
URL:https://www.pittks.org/event/american-red-cross-babysitting-class-2/2025-03-13/
LOCATION:Lincoln Center
CATEGORIES:Children,Children's Camps,Enrichment/Learning,Kids,Teens
ATTACH;FMTTYPE=image/png:https://www.pittks.org/wp-content/uploads/2025/01/2025-March-ARC-Babysitting-Class-Flyer.png
ORGANIZER;CN="Pittsburg Parks & Recreation Department":MAILTO:pprd@pittks.org
END:VEVENT
BEGIN:VEVENT
DTSTART;TZID=America/Chicago:20250314T153000
DTEND;TZID=America/Chicago:20250314T173000
DTSTAMP:20260423T185433
CREATED:20250113T172309Z
LAST-MODIFIED:20250113T172422Z
UID:10023500-1741966200-1741973400@www.pittks.org
SUMMARY:American Red Cross Babysitting Class
DESCRIPTION:The American Red Cross Babysitting class is perfect for young individuals who are trying to learn how to be competent and capable babysitters. \n  \nMarch 10 – 14 \n3:30 – 5:30 PM \n$45.00 per student \nAges 11+ \nRSVP by March 5 \nLincoln Center\, 710 W 9th St.
URL:https://www.pittks.org/event/american-red-cross-babysitting-class-2/2025-03-14/
LOCATION:Lincoln Center
CATEGORIES:Children,Children's Camps,Enrichment/Learning,Kids,Teens
ATTACH;FMTTYPE=image/png:https://www.pittks.org/wp-content/uploads/2025/01/2025-March-ARC-Babysitting-Class-Flyer.png
ORGANIZER;CN="Pittsburg Parks & Recreation Department":MAILTO:pprd@pittks.org
END:VEVENT
BEGIN:VEVENT
DTSTART;TZID=America/Chicago:20250317T073000
DTEND;TZID=America/Chicago:20250317T173000
DTSTAMP:20260423T185433
CREATED:20250108T214955Z
LAST-MODIFIED:20250108T221934Z
UID:10023480-1742196600-1742232600@www.pittks.org
SUMMARY:Camp Now & Then
DESCRIPTION:Camp Now & Then is a fun opportunity for kids to play games\, create crafts\, and make new friends for those sporadic days when kids are not in school during the year! \n2025 Out of School Dates \n\nJanuary 24th\nFebruary 14th\, 20th\, 21st\nMarch 17th-21st\nApril 18th & 21th\n\n$20 per day per child \n7:30 AM to 5:30 PM \nAges 5-12 at Lincoln Center \nFor more info\, call 620-231-8310\, visit 710 W 9th St\, and/or follow us on social media for updates.
URL:https://www.pittks.org/event/camp-now-then/2025-03-17/
LOCATION:Lincoln Center
CATEGORIES:Children's Camps
ATTACH;FMTTYPE=image/png:https://www.pittks.org/wp-content/uploads/2025/01/2024-2025-Out-Of-School-Camp-Flyer-Spring-2025.png
END:VEVENT
BEGIN:VEVENT
DTSTART;TZID=America/Chicago:20250318T073000
DTEND;TZID=America/Chicago:20250318T173000
DTSTAMP:20260423T185433
CREATED:20250108T214955Z
LAST-MODIFIED:20250108T221934Z
UID:10023481-1742283000-1742319000@www.pittks.org
SUMMARY:Camp Now & Then
DESCRIPTION:Camp Now & Then is a fun opportunity for kids to play games\, create crafts\, and make new friends for those sporadic days when kids are not in school during the year! \n2025 Out of School Dates \n\nJanuary 24th\nFebruary 14th\, 20th\, 21st\nMarch 17th-21st\nApril 18th & 21th\n\n$20 per day per child \n7:30 AM to 5:30 PM \nAges 5-12 at Lincoln Center \nFor more info\, call 620-231-8310\, visit 710 W 9th St\, and/or follow us on social media for updates.
URL:https://www.pittks.org/event/camp-now-then/2025-03-18/
LOCATION:Lincoln Center
CATEGORIES:Children's Camps
ATTACH;FMTTYPE=image/png:https://www.pittks.org/wp-content/uploads/2025/01/2024-2025-Out-Of-School-Camp-Flyer-Spring-2025.png
END:VEVENT
BEGIN:VEVENT
DTSTART;TZID=America/Chicago:20250319T073000
DTEND;TZID=America/Chicago:20250319T173000
DTSTAMP:20260423T185433
CREATED:20250108T214955Z
LAST-MODIFIED:20250108T221934Z
UID:10023482-1742369400-1742405400@www.pittks.org
SUMMARY:Camp Now & Then
DESCRIPTION:Camp Now & Then is a fun opportunity for kids to play games\, create crafts\, and make new friends for those sporadic days when kids are not in school during the year! \n2025 Out of School Dates \n\nJanuary 24th\nFebruary 14th\, 20th\, 21st\nMarch 17th-21st\nApril 18th & 21th\n\n$20 per day per child \n7:30 AM to 5:30 PM \nAges 5-12 at Lincoln Center \nFor more info\, call 620-231-8310\, visit 710 W 9th St\, and/or follow us on social media for updates.
URL:https://www.pittks.org/event/camp-now-then/2025-03-19/
LOCATION:Lincoln Center
CATEGORIES:Children's Camps
ATTACH;FMTTYPE=image/png:https://www.pittks.org/wp-content/uploads/2025/01/2024-2025-Out-Of-School-Camp-Flyer-Spring-2025.png
END:VEVENT
BEGIN:VEVENT
DTSTART;TZID=America/Chicago:20250320T073000
DTEND;TZID=America/Chicago:20250320T173000
DTSTAMP:20260423T185433
CREATED:20250108T214955Z
LAST-MODIFIED:20250108T221934Z
UID:10023483-1742455800-1742491800@www.pittks.org
SUMMARY:Camp Now & Then
DESCRIPTION:Camp Now & Then is a fun opportunity for kids to play games\, create crafts\, and make new friends for those sporadic days when kids are not in school during the year! \n2025 Out of School Dates \n\nJanuary 24th\nFebruary 14th\, 20th\, 21st\nMarch 17th-21st\nApril 18th & 21th\n\n$20 per day per child \n7:30 AM to 5:30 PM \nAges 5-12 at Lincoln Center \nFor more info\, call 620-231-8310\, visit 710 W 9th St\, and/or follow us on social media for updates.
URL:https://www.pittks.org/event/camp-now-then/2025-03-20/
LOCATION:Lincoln Center
CATEGORIES:Children's Camps
ATTACH;FMTTYPE=image/png:https://www.pittks.org/wp-content/uploads/2025/01/2024-2025-Out-Of-School-Camp-Flyer-Spring-2025.png
END:VEVENT
BEGIN:VEVENT
DTSTART;TZID=America/Chicago:20250321T073000
DTEND;TZID=America/Chicago:20250321T173000
DTSTAMP:20260423T185433
CREATED:20250108T214955Z
LAST-MODIFIED:20250108T221934Z
UID:10023484-1742542200-1742578200@www.pittks.org
SUMMARY:Camp Now & Then
DESCRIPTION:Camp Now & Then is a fun opportunity for kids to play games\, create crafts\, and make new friends for those sporadic days when kids are not in school during the year! \n2025 Out of School Dates \n\nJanuary 24th\nFebruary 14th\, 20th\, 21st\nMarch 17th-21st\nApril 18th & 21th\n\n$20 per day per child \n7:30 AM to 5:30 PM \nAges 5-12 at Lincoln Center \nFor more info\, call 620-231-8310\, visit 710 W 9th St\, and/or follow us on social media for updates.
URL:https://www.pittks.org/event/camp-now-then/2025-03-21/
LOCATION:Lincoln Center
CATEGORIES:Children's Camps
ATTACH;FMTTYPE=image/png:https://www.pittks.org/wp-content/uploads/2025/01/2024-2025-Out-Of-School-Camp-Flyer-Spring-2025.png
END:VEVENT
END:VCALENDAR