BEGIN:VCALENDAR
VERSION:2.0
PRODID:-//City of Pittsburg - ECPv6.15.20//NONSGML v1.0//EN
CALSCALE:GREGORIAN
METHOD:PUBLISH
X-WR-CALNAME:City of Pittsburg
X-ORIGINAL-URL:https://www.pittks.org
X-WR-CALDESC:Events for City of Pittsburg
REFRESH-INTERVAL;VALUE=DURATION:PT1H
X-Robots-Tag:noindex
X-PUBLISHED-TTL:PT1H
BEGIN:VTIMEZONE
TZID:America/Chicago
BEGIN:DAYLIGHT
TZOFFSETFROM:-0600
TZOFFSETTO:-0500
TZNAME:CDT
DTSTART:20250309T080000
END:DAYLIGHT
BEGIN:STANDARD
TZOFFSETFROM:-0500
TZOFFSETTO:-0600
TZNAME:CST
DTSTART:20251102T070000
END:STANDARD
BEGIN:DAYLIGHT
TZOFFSETFROM:-0600
TZOFFSETTO:-0500
TZNAME:CDT
DTSTART:20260308T080000
END:DAYLIGHT
BEGIN:STANDARD
TZOFFSETFROM:-0500
TZOFFSETTO:-0600
TZNAME:CST
DTSTART:20261101T070000
END:STANDARD
BEGIN:DAYLIGHT
TZOFFSETFROM:-0600
TZOFFSETTO:-0500
TZNAME:CDT
DTSTART:20270314T080000
END:DAYLIGHT
BEGIN:STANDARD
TZOFFSETFROM:-0500
TZOFFSETTO:-0600
TZNAME:CST
DTSTART:20271107T070000
END:STANDARD
END:VTIMEZONE
BEGIN:VEVENT
DTSTART;TZID=America/Chicago:20260327T090000
DTEND;TZID=America/Chicago:20260327T100000
DTSTAMP:20260421T164457
CREATED:20260209T211455Z
LAST-MODIFIED:20260209T211455Z
UID:10024918-1774602000-1774605600@www.pittks.org
SUMMARY:Pittsburg Public Library: Talking Heads Discussion Group
DESCRIPTION:The Talking Heads Discussion Group meets on Friday mornings at 9 a.m. at the Library. Using The Great Courses Series from The Teaching Company\, participants watch a 30-minute DVD lecture and then the floor opens for discussion. New participants are always welcome!
URL:https://www.pittks.org/event/pittsburg-public-library-talking-heads-discussion-group/2026-03-27/
LOCATION:Pittsburg Public Library\, 308 N Walnut St\, Pittsburg\, 66762\, United States
CATEGORIES:Adults,Pittsburg Public Library
ATTACH;FMTTYPE=image/jpeg:https://www.pittks.org/wp-content/uploads/2023/06/Library1-Bu5WYb.tmp_.jpg
END:VEVENT
BEGIN:VEVENT
DTSTART;TZID=America/Chicago:20260327T130000
DTEND;TZID=America/Chicago:20260327T140000
DTSTAMP:20260421T164457
CREATED:20260209T210707Z
LAST-MODIFIED:20260209T210707Z
UID:10024913-1774616400-1774620000@www.pittks.org
SUMMARY:Senior Bingo
DESCRIPTION:Join Pittsburg Parks and Recreation for bingo\, snacks\, and good company on March 5\, 6\, 12\, 13\, 26\, & 27. \nThe event starts at 1 p.m. at the Lincoln Center\, 710 W. 9th\, Pittsburg. Cost: 50 cents per meeting\, 25 cents per card. For more information contact PPRD at 620-231-8310.
URL:https://www.pittks.org/event/senior-bingo-3/2026-03-27/
LOCATION:Lincoln Center
CATEGORIES:Seniors
ATTACH;FMTTYPE=image/png:https://www.pittks.org/wp-content/uploads/2019/03/bingo-148903_960_720.png
END:VEVENT
BEGIN:VEVENT
DTSTART;TZID=America/Chicago:20260327T190000
DTEND;TZID=America/Chicago:20260327T220000
DTSTAMP:20260421T164457
CREATED:20260209T212944Z
LAST-MODIFIED:20260325T230048Z
UID:10024994-1774638000-1774648800@www.pittks.org
SUMMARY:Memorial Auditorium: PCT presents ‘Anne Frank’
DESCRIPTION:Pittsburg Community Theatre will present its rendition of the play “Anne Frank” on March 27 & 28 at 7 p.m. and March 29 at 2 p.m. at Memorial Auditorium. Tickets will be available in person or online at https://memorialauditorium.ludus.com/
URL:https://www.pittks.org/event/memorial-auditorium-pct-presents-anne-frank/2026-03-27/
CATEGORIES:Fine & Performing Arts,Memorial Auditorium
ATTACH;FMTTYPE=image/jpeg:https://www.pittks.org/wp-content/uploads/2026/02/Anne-Frank.jpg
END:VEVENT
END:VCALENDAR