BEGIN:VCALENDAR
VERSION:2.0
PRODID:-//City of Pittsburg - ECPv6.15.20//NONSGML v1.0//EN
CALSCALE:GREGORIAN
METHOD:PUBLISH
X-WR-CALNAME:City of Pittsburg
X-ORIGINAL-URL:https://www.pittks.org
X-WR-CALDESC:Events for City of Pittsburg
REFRESH-INTERVAL;VALUE=DURATION:PT1H
X-Robots-Tag:noindex
X-PUBLISHED-TTL:PT1H
BEGIN:VTIMEZONE
TZID:America/Chicago
BEGIN:DAYLIGHT
TZOFFSETFROM:-0600
TZOFFSETTO:-0500
TZNAME:CDT
DTSTART:20250309T080000
END:DAYLIGHT
BEGIN:STANDARD
TZOFFSETFROM:-0500
TZOFFSETTO:-0600
TZNAME:CST
DTSTART:20251102T070000
END:STANDARD
BEGIN:DAYLIGHT
TZOFFSETFROM:-0600
TZOFFSETTO:-0500
TZNAME:CDT
DTSTART:20260308T080000
END:DAYLIGHT
BEGIN:STANDARD
TZOFFSETFROM:-0500
TZOFFSETTO:-0600
TZNAME:CST
DTSTART:20261101T070000
END:STANDARD
BEGIN:DAYLIGHT
TZOFFSETFROM:-0600
TZOFFSETTO:-0500
TZNAME:CDT
DTSTART:20270314T080000
END:DAYLIGHT
BEGIN:STANDARD
TZOFFSETFROM:-0500
TZOFFSETTO:-0600
TZNAME:CST
DTSTART:20271107T070000
END:STANDARD
END:VTIMEZONE
BEGIN:VEVENT
DTSTART;TZID=America/Chicago:20260126T173000
DTEND;TZID=America/Chicago:20260126T173000
DTSTAMP:20260424T064329
CREATED:20200706T205400Z
LAST-MODIFIED:20251230T195629Z
UID:10021135-1769448600-1769448600@www.pittks.org
SUMMARY:Planning Commission/Board of Zoning Appeals Meeting
DESCRIPTION:The Planning Commission/Board of Zoning Appeals will hold its regularly-scheduled meeting inside the Beard-Shanks Law Enforcement Center\, 201 N. Pine St.\, Pittsburg. For additional information\, contact Zoning Administrator Dexter Neisler 620-230-5517.
URL:https://www.pittks.org/event/planning-commission-board-of-zoning-appeals-meeting/
LOCATION:Beard-Shanks Law Enforcement Center courtroom
CATEGORIES:Government
ATTACH;FMTTYPE=image/jpeg:https://www.pittks.org/wp-content/uploads/2020/07/architecture-plans-sm.jpg
END:VEVENT
END:VCALENDAR