BEGIN:VCALENDAR
VERSION:2.0
PRODID:-//City of Pittsburg - ECPv6.15.20//NONSGML v1.0//EN
CALSCALE:GREGORIAN
METHOD:PUBLISH
X-WR-CALNAME:City of Pittsburg
X-ORIGINAL-URL:https://www.pittks.org
X-WR-CALDESC:Events for City of Pittsburg
REFRESH-INTERVAL;VALUE=DURATION:PT1H
X-Robots-Tag:noindex
X-PUBLISHED-TTL:PT1H
BEGIN:VTIMEZONE
TZID:America/Chicago
BEGIN:DAYLIGHT
TZOFFSETFROM:-0600
TZOFFSETTO:-0500
TZNAME:CDT
DTSTART:20240310T080000
END:DAYLIGHT
BEGIN:STANDARD
TZOFFSETFROM:-0500
TZOFFSETTO:-0600
TZNAME:CST
DTSTART:20241103T070000
END:STANDARD
BEGIN:DAYLIGHT
TZOFFSETFROM:-0600
TZOFFSETTO:-0500
TZNAME:CDT
DTSTART:20250309T080000
END:DAYLIGHT
BEGIN:STANDARD
TZOFFSETFROM:-0500
TZOFFSETTO:-0600
TZNAME:CST
DTSTART:20251102T070000
END:STANDARD
BEGIN:DAYLIGHT
TZOFFSETFROM:-0600
TZOFFSETTO:-0500
TZNAME:CDT
DTSTART:20260308T080000
END:DAYLIGHT
BEGIN:STANDARD
TZOFFSETFROM:-0500
TZOFFSETTO:-0600
TZNAME:CST
DTSTART:20261101T070000
END:STANDARD
END:VTIMEZONE
BEGIN:VEVENT
DTSTART;TZID=America/Chicago:20250302T150000
DTEND;TZID=America/Chicago:20250302T163000
DTSTAMP:20260424T050023
CREATED:20250108T213155Z
LAST-MODIFIED:20250108T213252Z
UID:10023474-1740927600-1740933000@www.pittks.org
SUMMARY:Golden Age Gala
DESCRIPTION:Golden Age Gala – Senior Citizen Dance \nSunday March 2\, 2025 at Memorial Auditorium \nRSVP BY February 23rd \n$5 per person at the door \n\nDance\nPhoto Booth\nLight Refreshments\n\nFor more information\, call 620-231 8310 / or stop by 710 W 9th Street (Lincoln Center)
URL:https://www.pittks.org/event/golden-age-gala/
LOCATION:Memorial Auditorium\, 503 N. Pine St.\, Pittsburg\, KS\, 66762\, United States
CATEGORIES:Adults,Wellness
ATTACH;FMTTYPE=image/png:https://www.pittks.org/wp-content/uploads/2025/01/2025-Golden-Age-Gala-Flyer-2.png
END:VEVENT
END:VCALENDAR