BEGIN:VCALENDAR
VERSION:2.0
PRODID:-//City of Pittsburg - ECPv6.15.20//NONSGML v1.0//EN
CALSCALE:GREGORIAN
METHOD:PUBLISH
X-WR-CALNAME:City of Pittsburg
X-ORIGINAL-URL:https://www.pittks.org
X-WR-CALDESC:Events for City of Pittsburg
REFRESH-INTERVAL;VALUE=DURATION:PT1H
X-Robots-Tag:noindex
X-PUBLISHED-TTL:PT1H
BEGIN:VTIMEZONE
TZID:America/Chicago
BEGIN:DAYLIGHT
TZOFFSETFROM:-0600
TZOFFSETTO:-0500
TZNAME:CDT
DTSTART:20240310T080000
END:DAYLIGHT
BEGIN:STANDARD
TZOFFSETFROM:-0500
TZOFFSETTO:-0600
TZNAME:CST
DTSTART:20241103T070000
END:STANDARD
BEGIN:DAYLIGHT
TZOFFSETFROM:-0600
TZOFFSETTO:-0500
TZNAME:CDT
DTSTART:20250309T080000
END:DAYLIGHT
BEGIN:STANDARD
TZOFFSETFROM:-0500
TZOFFSETTO:-0600
TZNAME:CST
DTSTART:20251102T070000
END:STANDARD
BEGIN:DAYLIGHT
TZOFFSETFROM:-0600
TZOFFSETTO:-0500
TZNAME:CDT
DTSTART:20260308T080000
END:DAYLIGHT
BEGIN:STANDARD
TZOFFSETFROM:-0500
TZOFFSETTO:-0600
TZNAME:CST
DTSTART:20261101T070000
END:STANDARD
END:VTIMEZONE
BEGIN:VEVENT
DTSTART;TZID=America/Chicago:20250301T150000
DTEND;TZID=America/Chicago:20250301T163000
DTSTAMP:20260423T004801
CREATED:20250108T220357Z
LAST-MODIFIED:20250108T220357Z
UID:10023487-1740841200-1740846600@www.pittks.org
SUMMARY:Dad & Daughter Date Night
DESCRIPTION:Under the Stars – Dad and Daughter Date Night \n\nMarch 1st 3PM or 6:30 PM\nMemorial Auditorium – Lower Level\n$30 per couple\, $15 per each additional attendee\nRSVP by February 14th\nDANCE\, MEAL\, AND MORE!\n\nFor more information\, call 620-231-8310 or visit 710 W. 9th St (Lincoln Center) \nFollow us on social media for more updates.
URL:https://www.pittks.org/event/dad-daughter-date-night-2/2025-03-01/1/
LOCATION:Memorial Auditorium\, 503 N. Pine St.\, Pittsburg\, KS\, 66762\, United States
CATEGORIES:Children,Kids,Memorial Auditorium
ATTACH;FMTTYPE=image/png:https://www.pittks.org/wp-content/uploads/2025/01/2025-DDDN-Flyer-3.png
END:VEVENT
BEGIN:VEVENT
DTSTART;TZID=America/Chicago:20250301T183000
DTEND;TZID=America/Chicago:20250301T200000
DTSTAMP:20260423T004801
CREATED:20250108T220357Z
LAST-MODIFIED:20250108T220357Z
UID:10023488-1740853800-1740859200@www.pittks.org
SUMMARY:Dad & Daughter Date Night
DESCRIPTION:Under the Stars – Dad and Daughter Date Night \n\nMarch 1st 3PM or 6:30 PM\nMemorial Auditorium – Lower Level\n$30 per couple\, $15 per each additional attendee\nRSVP by February 14th\nDANCE\, MEAL\, AND MORE!\n\nFor more information\, call 620-231-8310 or visit 710 W. 9th St (Lincoln Center) \nFollow us on social media for more updates.
URL:https://www.pittks.org/event/dad-daughter-date-night-2/2025-03-01/2/
LOCATION:Memorial Auditorium\, 503 N. Pine St.\, Pittsburg\, KS\, 66762\, United States
CATEGORIES:Children,Kids,Memorial Auditorium
ATTACH;FMTTYPE=image/png:https://www.pittks.org/wp-content/uploads/2025/01/2025-DDDN-Flyer-3.png
END:VEVENT
END:VCALENDAR