BEGIN:VCALENDAR
VERSION:2.0
PRODID:-//City of Pittsburg - ECPv6.15.20//NONSGML v1.0//EN
CALSCALE:GREGORIAN
METHOD:PUBLISH
X-WR-CALNAME:City of Pittsburg
X-ORIGINAL-URL:https://www.pittks.org
X-WR-CALDESC:Events for City of Pittsburg
REFRESH-INTERVAL;VALUE=DURATION:PT1H
X-Robots-Tag:noindex
X-PUBLISHED-TTL:PT1H
BEGIN:VTIMEZONE
TZID:America/Chicago
BEGIN:DAYLIGHT
TZOFFSETFROM:-0600
TZOFFSETTO:-0500
TZNAME:CDT
DTSTART:20230312T080000
END:DAYLIGHT
BEGIN:STANDARD
TZOFFSETFROM:-0500
TZOFFSETTO:-0600
TZNAME:CST
DTSTART:20231105T070000
END:STANDARD
BEGIN:DAYLIGHT
TZOFFSETFROM:-0600
TZOFFSETTO:-0500
TZNAME:CDT
DTSTART:20240310T080000
END:DAYLIGHT
BEGIN:STANDARD
TZOFFSETFROM:-0500
TZOFFSETTO:-0600
TZNAME:CST
DTSTART:20241103T070000
END:STANDARD
BEGIN:DAYLIGHT
TZOFFSETFROM:-0600
TZOFFSETTO:-0500
TZNAME:CDT
DTSTART:20250309T080000
END:DAYLIGHT
BEGIN:STANDARD
TZOFFSETFROM:-0500
TZOFFSETTO:-0600
TZNAME:CST
DTSTART:20251102T070000
END:STANDARD
END:VTIMEZONE
BEGIN:VEVENT
DTSTART;VALUE=DATE:20240301
DTEND;VALUE=DATE:20240401
DTSTAMP:20260422T085203
CREATED:20240308T160704Z
LAST-MODIFIED:20240308T170209Z
UID:10022727-1709251200-1711929599@www.pittks.org
SUMMARY:USD 250 Elementary Art Show
DESCRIPTION:Art Gallery\nThe Beverly Corcoran Art Gallery\, located inside Memorial Auditorium & Convention Center\, features art exhibits from local artists and students. The art gallery is available for the public to enjoy\, free of charge\, whenever the Memorial Auditorium is open for evening and weekend meetings and performances. \n2024 Schedule:\nMarch: USD 250 Elementary Art Show \nAug:  Little Balkin Days Photo Contest
URL:https://www.pittks.org/event/usd-250-elementary-art-show/
LOCATION:Memorial Auditorium\, 503 N. Pine St.\, Pittsburg\, KS\, 66762\, United States
CATEGORIES:Memorial Auditorium
ATTACH;FMTTYPE=image/jpeg:https://www.pittks.org/wp-content/uploads/2024/03/art-scaled.jpg
END:VEVENT
BEGIN:VEVENT
DTSTART;TZID=America/Chicago:20240328T173000
DTEND;TZID=America/Chicago:20240328T190000
DTSTAMP:20260422T085203
CREATED:20240216T150344Z
LAST-MODIFIED:20240326T180134Z
UID:10022723-1711647000-1711652400@www.pittks.org
SUMMARY:Plan Pitt 150
DESCRIPTION:Join us on Thursday\, March 28 at 5:30 pm for “Plan Pitt 150” and dream with us as we plan for Pittsburg’s sesquicentennial (150th anniversary) happening in 2026. \nSponsored by the Celebrate Pittsburg Committee\, “Plan Pitt 150” is a community brainstorming event where Pittsburgians can share memories\, ideas\, inspiration\, and input into the year-long celebration of our city. \n\nPin sticky notes to our giant-size “Pinterest Board” and tell us how you would celebrate Pittsburg’s 150th Birthday through food\, music\, art\, history\, education\, and more!\nKids can grab Pittsburg 150 coloring pages and draw out their favorite things about Pittsburg.\nGet to know Celebrate Pittsburg volunteers and learn how you can get involved.\n\nThis is a come-and-go event! Drop in\, grab a snack\, say hello\, share your ideas\, meet cool people\, and find out more. \nLet’s party like its 2026. \n– – – – – – \nWho we are:\nCelebrate Pittsburg is a group of representatives from across the community\, in cooperation with the City of Pittsburg\, that is leading support for Pittsburg’s sesquicentennial celebration. \nWhy we’re here:\nIn 2026\, Pittsburg will celebrate its 150th birthday. This is a significant milestone for our city\, and\, importantly\, provides an opportunity for us to tell a story of resilience and progress. Though the faces and places change\, Pittsburg’s original spirit and values remain and will forever shape our path forward. We know our founding day is May 20\, though the vision for the sesquicentennial is a year-long celebration with broad community buy-in and participation. \nWhat we’re doing:\nWe are in the early stages of planning\, and beginning to outline what the year could look like. Celebrate Pittsburg will organize the anchor sesquicentennial celebration events\, and will also lead creation of a brand and infrastructure for involvement\, provide a hub of support of participating organizations\, and coordinate promotion and publicity for all activities and projects. \n 
URL:https://www.pittks.org/event/plan-pitt-150/
LOCATION:Root Coffeehouse\, 402 N. Broadway\, Pittsburg\, 66762
CATEGORIES:Celebrations/Fundraisers,Civic Engagement,Crafts & Traditional Arts,Enrichment/Learning,Fine & Performing Arts,Food,Government,History,Holiday,Kids,Nightlife,Outdoors,Retail Shopping,Trade Show/Expo,Wellness
ATTACH;FMTTYPE=image/png:https://www.pittks.org/wp-content/uploads/2024/02/Pittsburg-150-SQUARE-Instagram-Facebook-Post.png
END:VEVENT
BEGIN:VEVENT
DTSTART;TZID=America/Chicago:20240328T190000
DTEND;TZID=America/Chicago:20240328T190000
DTSTAMP:20260422T085203
CREATED:20240123T162256Z
LAST-MODIFIED:20240326T163832Z
UID:10022406-1711652400-1711652400@www.pittks.org
SUMMARY:An Evening with Casting Crowns
DESCRIPTION:CONCERT RESCHEDULED: \nWe are happy to inform you that a new date has been set for An Evening with Casting Crowns in Pittsburg\, KS.  The new date is Thursday\, March 28\, 2024. There is no need to do anything at this time. Please retain your current tickets as they will be honored at the new date. \nIf you cannot attend the newly scheduled date\, you may request a refund through Friday\, March 15\, 2024 at your original point of purchase. Please allow 30 days to receive the refund. \nThank you so much for your continued patience and understanding. We can’t wait to see you! \n__________________________________________________________________ \nMulti-platinum-selling Grammy winners Casting Crowns will be coming to Pittsburg for an “Evening with Casting Crowns” at Memorial Auditorium.  \nFeaturing hit songs from the band’s current chart-topping Healer album (“Scars In Heaven\,” “Crazy People”)\, concert goers will also experience a night of worship like no other with some of the group’s most beloved songs like “Only Jesus\,” “Nobody\,” “Praise You In This Storm\,” “East To West” and many more. With more than 12 million albums sold and multiple Grammy\, Dove\, and American Music Awards to their name\, Casting Crowns might be best known for their fan-favorite live concert events\, and this night promises to be no different. \nTickets go on sale Friday\, January 26\, 2024 at 9:00 am. \nGET TICKETS
URL:https://www.pittks.org/event/evening-with-casting-crowns/
LOCATION:Memorial Auditorium\, 503 N. Pine St.\, Pittsburg\, KS\, 66762\, United States
CATEGORIES:Fine & Performing Arts,Memorial Auditorium
ATTACH;FMTTYPE=image/jpeg:https://www.pittks.org/wp-content/uploads/2024/01/AnEveningWith_CC_24_WEB_poster_032824_SOLDOUT.jpg
END:VEVENT
END:VCALENDAR