BEGIN:VCALENDAR
VERSION:2.0
PRODID:-//City of Pittsburg - ECPv6.15.20//NONSGML v1.0//EN
CALSCALE:GREGORIAN
METHOD:PUBLISH
X-WR-CALNAME:City of Pittsburg
X-ORIGINAL-URL:https://www.pittks.org
X-WR-CALDESC:Events for City of Pittsburg
REFRESH-INTERVAL;VALUE=DURATION:PT1H
X-Robots-Tag:noindex
X-PUBLISHED-TTL:PT1H
BEGIN:VTIMEZONE
TZID:America/Chicago
BEGIN:DAYLIGHT
TZOFFSETFROM:-0600
TZOFFSETTO:-0500
TZNAME:CDT
DTSTART:20230312T080000
END:DAYLIGHT
BEGIN:STANDARD
TZOFFSETFROM:-0500
TZOFFSETTO:-0600
TZNAME:CST
DTSTART:20231105T070000
END:STANDARD
BEGIN:DAYLIGHT
TZOFFSETFROM:-0600
TZOFFSETTO:-0500
TZNAME:CDT
DTSTART:20240310T080000
END:DAYLIGHT
BEGIN:STANDARD
TZOFFSETFROM:-0500
TZOFFSETTO:-0600
TZNAME:CST
DTSTART:20241103T070000
END:STANDARD
BEGIN:DAYLIGHT
TZOFFSETFROM:-0600
TZOFFSETTO:-0500
TZNAME:CDT
DTSTART:20250309T080000
END:DAYLIGHT
BEGIN:STANDARD
TZOFFSETFROM:-0500
TZOFFSETTO:-0600
TZNAME:CST
DTSTART:20251102T070000
END:STANDARD
END:VTIMEZONE
BEGIN:VEVENT
DTSTART;VALUE=DATE:20240301
DTEND;VALUE=DATE:20240401
DTSTAMP:20260422T050450
CREATED:20240308T160704Z
LAST-MODIFIED:20240308T170209Z
UID:10022727-1709251200-1711929599@www.pittks.org
SUMMARY:USD 250 Elementary Art Show
DESCRIPTION:Art Gallery\nThe Beverly Corcoran Art Gallery\, located inside Memorial Auditorium & Convention Center\, features art exhibits from local artists and students. The art gallery is available for the public to enjoy\, free of charge\, whenever the Memorial Auditorium is open for evening and weekend meetings and performances. \n2024 Schedule:\nMarch: USD 250 Elementary Art Show \nAug:  Little Balkin Days Photo Contest
URL:https://www.pittks.org/event/usd-250-elementary-art-show/
LOCATION:Memorial Auditorium\, 503 N. Pine St.\, Pittsburg\, KS\, 66762\, United States
CATEGORIES:Memorial Auditorium
ATTACH;FMTTYPE=image/jpeg:https://www.pittks.org/wp-content/uploads/2024/03/art-scaled.jpg
END:VEVENT
BEGIN:VEVENT
DTSTART;TZID=America/Chicago:20240318T113000
DTEND;TZID=America/Chicago:20240318T130000
DTSTAMP:20260422T050450
CREATED:20200706T210430Z
LAST-MODIFIED:20240312T221244Z
UID:10021221-1710761400-1710766800@www.pittks.org
SUMMARY:Downtown Advisory Board Meeting
DESCRIPTION:The Downtown Advisory Board will have their regularly-scheduled monthly meeting on the third Monday of the month. Meeting locations listed below. For more information\, contact Community Development Specialist Sarah Runyon at 620-230-5637\, sarah.runyon@pittks.org. \nFebruary 19 | 11:30 am – 1:00 pm at TOAST\nMarch 18 | 11:30 am – 1:00 pm – Root Co-work Café\nApril 15 | 11:30 am – 1:00 pm – Main Street Axe Co.\nMay 20 | 11:30 am – 1:00 pm – White Elephant Emporium\nJune 17 | 11:30 am – 1:00 pm – DVLP Meeting Room\nJuly 15 | 11:30 am – 1:00 pm – Arck Construction\nAugust 19 | 11:30 am – 1:00 pm – Miners + Monroe\nSeptember 16 | 11:30 am – 1:00 pm – Drop the H\nOctober 21 | 11:30 am – 1:00 pm – Books & Burrow\nNovember 18 | 11:30 am – 1:00 pm – Fun Zone Depot\nDecember 16 | 11:30 am – 1:00 pm – Frisco Event Center
URL:https://www.pittks.org/event/downtown-advisory-board-meeting/2024-03-18/
CATEGORIES:Government
ATTACH;FMTTYPE=image/jpeg:https://www.pittks.org/wp-content/uploads/2017/03/city-of-pittsburg-downtown-development-banner.jpg
END:VEVENT
BEGIN:VEVENT
DTSTART;TZID=America/Chicago:20240318T153000
DTEND;TZID=America/Chicago:20240321T173000
DTSTAMP:20260422T050450
CREATED:20240213T215657Z
LAST-MODIFIED:20240213T215657Z
UID:10022712-1710775800-1711042200@www.pittks.org
SUMMARY:American Red Cross Babysitting Class
DESCRIPTION:March 18 – 21\n3:30pm – 5:30pm\n$40.00 Per Student | Ages 11 – 14\nMemorial Auditorium | 503 N Pine\nRSVP by March 14th\nClass Includes:\n– Leadership & Business Skills of Babysitting\n– Behavior Management\n– Emergency Readiness\n– Pediatric First Aid & CPR
URL:https://www.pittks.org/event/american-red-cross-babysitting-class/
LOCATION:Memorial Auditorium\, 503 N. Pine St.\, Pittsburg\, KS\, 66762\, United States
CATEGORIES:Wellness
ATTACH;FMTTYPE=image/jpeg:https://www.pittks.org/wp-content/uploads/2024/02/421532585_790007326489362_592754287442224923_n.jpg
END:VEVENT
END:VCALENDAR