BEGIN:VCALENDAR
VERSION:2.0
PRODID:-//City of Pittsburg - ECPv6.15.20//NONSGML v1.0//EN
CALSCALE:GREGORIAN
METHOD:PUBLISH
X-WR-CALNAME:City of Pittsburg
X-ORIGINAL-URL:https://www.pittks.org
X-WR-CALDESC:Events for City of Pittsburg
REFRESH-INTERVAL;VALUE=DURATION:PT1H
X-Robots-Tag:noindex
X-PUBLISHED-TTL:PT1H
BEGIN:VTIMEZONE
TZID:America/Chicago
BEGIN:DAYLIGHT
TZOFFSETFROM:-0600
TZOFFSETTO:-0500
TZNAME:CDT
DTSTART:20230312T080000
END:DAYLIGHT
BEGIN:STANDARD
TZOFFSETFROM:-0500
TZOFFSETTO:-0600
TZNAME:CST
DTSTART:20231105T070000
END:STANDARD
BEGIN:DAYLIGHT
TZOFFSETFROM:-0600
TZOFFSETTO:-0500
TZNAME:CDT
DTSTART:20240310T080000
END:DAYLIGHT
BEGIN:STANDARD
TZOFFSETFROM:-0500
TZOFFSETTO:-0600
TZNAME:CST
DTSTART:20241103T070000
END:STANDARD
BEGIN:DAYLIGHT
TZOFFSETFROM:-0600
TZOFFSETTO:-0500
TZNAME:CDT
DTSTART:20250309T080000
END:DAYLIGHT
BEGIN:STANDARD
TZOFFSETFROM:-0500
TZOFFSETTO:-0600
TZNAME:CST
DTSTART:20251102T070000
END:STANDARD
END:VTIMEZONE
BEGIN:VEVENT
DTSTART;VALUE=DATE:20240301
DTEND;VALUE=DATE:20240401
DTSTAMP:20260423T012555
CREATED:20240308T160704Z
LAST-MODIFIED:20240308T170209Z
UID:10022727-1709251200-1711929599@www.pittks.org
SUMMARY:USD 250 Elementary Art Show
DESCRIPTION:Art Gallery\nThe Beverly Corcoran Art Gallery\, located inside Memorial Auditorium & Convention Center\, features art exhibits from local artists and students. The art gallery is available for the public to enjoy\, free of charge\, whenever the Memorial Auditorium is open for evening and weekend meetings and performances. \n2024 Schedule:\nMarch: USD 250 Elementary Art Show \nAug:  Little Balkin Days Photo Contest
URL:https://www.pittks.org/event/usd-250-elementary-art-show/
LOCATION:Memorial Auditorium\, 503 N. Pine St.\, Pittsburg\, KS\, 66762\, United States
CATEGORIES:Memorial Auditorium
ATTACH;FMTTYPE=image/jpeg:https://www.pittks.org/wp-content/uploads/2024/03/art-scaled.jpg
END:VEVENT
BEGIN:VEVENT
DTSTART;TZID=America/Chicago:20240312T100000
DTEND;TZID=America/Chicago:20240313T190000
DTSTAMP:20260423T012555
CREATED:20240125T200058Z
LAST-MODIFIED:20240125T202151Z
UID:10022666-1710237600-1710356400@www.pittks.org
SUMMARY:Rhea Lana's of Pittsburg (March 10-16)
DESCRIPTION:Gently-used children’s clothes\, shoes\, toys\, books\, furniture\, baby gear\, and more! \nMarch 10 – 16 \nPre-Sale March 8 & 9
URL:https://www.pittks.org/event/rhea-lanas-of-pittsburg-march-10-16/2024-03-12/
LOCATION:Memorial Auditorium\, 503 N. Pine St.\, Pittsburg\, KS\, 66762\, United States
CATEGORIES:Children,Kids,Memorial Auditorium,Retail Shopping,Trade Show/Expo
ATTACH;FMTTYPE=image/png:https://www.pittks.org/wp-content/uploads/2024/01/Flyer-2.png
END:VEVENT
BEGIN:VEVENT
DTSTART;TZID=America/Chicago:20240313T073000
DTEND;TZID=America/Chicago:20240313T173000
DTSTAMP:20260423T012555
CREATED:20240213T215254Z
LAST-MODIFIED:20240213T222411Z
UID:10022707-1710315000-1710351000@www.pittks.org
SUMMARY:Camp Now & Then
DESCRIPTION:Camp Now & Then is a fun opportunity for kids to play games\, create crafts\, and make new friends for those sporadic days when kids are not in school during the year!\n7:30am – 5:30pm\nAges 5 – 12\nLincoln Center | 710 W 9th St.\n$20.00 Per Day Per Child\n2023 – 2024 Out of School Dates\nFebruary 19 & 23\nNo Camp February 16.\nMarch 11 – 15 & 29\nApril 1\nTo Register: Call 620.231.8310 or come to our office at Lincoln Center at 710 W 9th St. Pittsburg\, KS\nFor More Information\n620.231.8310 | 710 W 9th St
URL:https://www.pittks.org/event/camp-now-then-9/2024-03-13/
CATEGORIES:Children's Camps
ATTACH;FMTTYPE=image/jpeg:https://www.pittks.org/wp-content/uploads/2024/02/421569760_790035303153231_3710826773457485623_n.jpg
END:VEVENT
BEGIN:VEVENT
DTSTART;TZID=America/Chicago:20240313T100000
DTEND;TZID=America/Chicago:20240314T190000
DTSTAMP:20260423T012555
CREATED:20240125T200058Z
LAST-MODIFIED:20240125T202151Z
UID:10022667-1710324000-1710442800@www.pittks.org
SUMMARY:Rhea Lana's of Pittsburg (March 10-16)
DESCRIPTION:Gently-used children’s clothes\, shoes\, toys\, books\, furniture\, baby gear\, and more! \nMarch 10 – 16 \nPre-Sale March 8 & 9
URL:https://www.pittks.org/event/rhea-lanas-of-pittsburg-march-10-16/2024-03-13/
LOCATION:Memorial Auditorium\, 503 N. Pine St.\, Pittsburg\, KS\, 66762\, United States
CATEGORIES:Children,Kids,Memorial Auditorium,Retail Shopping,Trade Show/Expo
ATTACH;FMTTYPE=image/png:https://www.pittks.org/wp-content/uploads/2024/01/Flyer-2.png
END:VEVENT
BEGIN:VEVENT
DTSTART;TZID=America/Chicago:20240313T150000
DTEND;TZID=America/Chicago:20240313T170000
DTSTAMP:20260423T012555
CREATED:20231227T170818Z
LAST-MODIFIED:20240213T222706Z
UID:10022388-1710342000-1710349200@www.pittks.org
SUMMARY:PPRD Softball Adult League
DESCRIPTION:Mixed 7/3: Tuesday\, March 5th – April 30th \nDeadline February 20th \n  \nMixed 5/5: Wednesday\, March 6th – May 1st \nDeadline February 21th \n  \n6-week league – $250 per team. \nEnd of the season tournament following the last week of play. \nRegister by calling: 620-231-8310
URL:https://www.pittks.org/event/pprd-softball-audult-league/2024-03-13/
CATEGORIES:Adults,Athletics
ATTACH;FMTTYPE=image/png:https://www.pittks.org/wp-content/uploads/2023/12/spring-softball-1.png
END:VEVENT
BEGIN:VEVENT
DTSTART;TZID=America/Chicago:20240313T163000
DTEND;TZID=America/Chicago:20240313T163000
DTSTAMP:20260423T012555
CREATED:20200706T202539Z
LAST-MODIFIED:20250611T165603Z
UID:10020985-1710347400-1710347400@www.pittks.org
SUMMARY:Library Board of Trustees Meeting
DESCRIPTION:The Library Board of Trustees will hold its monthly meeting in-person in the library meeting room. Meetings are typically held on the second Wednesday of each month at 4:30 pm. For more information\, contact Bev Clarkson at (620) 231-8100.
URL:https://www.pittks.org/event/library-board-of-trustees-meeting/2024-03-13/
LOCATION:Pittsburg Public Library\, 308 N Walnut St\, Pittsburg\, 66762\, United States
CATEGORIES:Government
ATTACH;FMTTYPE=image/jpeg:https://www.pittks.org/wp-content/uploads/2020/07/library_small.jpg
END:VEVENT
BEGIN:VEVENT
DTSTART;TZID=America/Chicago:20240313T173000
DTEND;TZID=America/Chicago:20240313T173000
DTSTAMP:20260423T012555
CREATED:20200706T202939Z
LAST-MODIFIED:20250611T165603Z
UID:10021029-1710351000-1710351000@www.pittks.org
SUMMARY:Sustainability Advisory Committee Meeting
DESCRIPTION:The Sustainability Advisory Committee will hold its regularly-scheduled monthly meeting at City Hall. The committee typically meets every second Wednesday of the month at 5:30 pm. Contact Jay Byers at (620) 230-5685.
URL:https://www.pittks.org/event/sustainability-advisory-committee-meeting/2024-03-13/
LOCATION:City Hall\, 201 W. 4th St\, Pittsburg\, Kansas\, 66762
CATEGORIES:Government
ATTACH;FMTTYPE=image/jpeg:https://www.pittks.org/wp-content/uploads/2020/07/SAC_Group_SM.jpg
END:VEVENT
END:VCALENDAR