BEGIN:VCALENDAR
VERSION:2.0
PRODID:-//City of Pittsburg - ECPv6.15.20//NONSGML v1.0//EN
CALSCALE:GREGORIAN
METHOD:PUBLISH
X-WR-CALNAME:City of Pittsburg
X-ORIGINAL-URL:https://www.pittks.org
X-WR-CALDESC:Events for City of Pittsburg
REFRESH-INTERVAL;VALUE=DURATION:PT1H
X-Robots-Tag:noindex
X-PUBLISHED-TTL:PT1H
BEGIN:VTIMEZONE
TZID:America/Chicago
BEGIN:DAYLIGHT
TZOFFSETFROM:-0600
TZOFFSETTO:-0500
TZNAME:CDT
DTSTART:20230312T080000
END:DAYLIGHT
BEGIN:STANDARD
TZOFFSETFROM:-0500
TZOFFSETTO:-0600
TZNAME:CST
DTSTART:20231105T070000
END:STANDARD
BEGIN:DAYLIGHT
TZOFFSETFROM:-0600
TZOFFSETTO:-0500
TZNAME:CDT
DTSTART:20240310T080000
END:DAYLIGHT
BEGIN:STANDARD
TZOFFSETFROM:-0500
TZOFFSETTO:-0600
TZNAME:CST
DTSTART:20241103T070000
END:STANDARD
BEGIN:DAYLIGHT
TZOFFSETFROM:-0600
TZOFFSETTO:-0500
TZNAME:CDT
DTSTART:20250309T080000
END:DAYLIGHT
BEGIN:STANDARD
TZOFFSETFROM:-0500
TZOFFSETTO:-0600
TZNAME:CST
DTSTART:20251102T070000
END:STANDARD
END:VTIMEZONE
BEGIN:VEVENT
DTSTART;VALUE=DATE:20240301
DTEND;VALUE=DATE:20240401
DTSTAMP:20260422T220649
CREATED:20240308T160704Z
LAST-MODIFIED:20240308T170209Z
UID:10022727-1709251200-1711929599@www.pittks.org
SUMMARY:USD 250 Elementary Art Show
DESCRIPTION:Art Gallery\nThe Beverly Corcoran Art Gallery\, located inside Memorial Auditorium & Convention Center\, features art exhibits from local artists and students. The art gallery is available for the public to enjoy\, free of charge\, whenever the Memorial Auditorium is open for evening and weekend meetings and performances. \n2024 Schedule:\nMarch: USD 250 Elementary Art Show \nAug:  Little Balkin Days Photo Contest
URL:https://www.pittks.org/event/usd-250-elementary-art-show/
LOCATION:Memorial Auditorium\, 503 N. Pine St.\, Pittsburg\, KS\, 66762\, United States
CATEGORIES:Memorial Auditorium
ATTACH;FMTTYPE=image/jpeg:https://www.pittks.org/wp-content/uploads/2024/03/art-scaled.jpg
END:VEVENT
BEGIN:VEVENT
DTSTART;TZID=America/Chicago:20240311T100000
DTEND;TZID=America/Chicago:20240312T190000
DTSTAMP:20260422T220649
CREATED:20240125T200058Z
LAST-MODIFIED:20240125T202151Z
UID:10022665-1710151200-1710270000@www.pittks.org
SUMMARY:Rhea Lana's of Pittsburg (March 10-16)
DESCRIPTION:Gently-used children’s clothes\, shoes\, toys\, books\, furniture\, baby gear\, and more! \nMarch 10 – 16 \nPre-Sale March 8 & 9
URL:https://www.pittks.org/event/rhea-lanas-of-pittsburg-march-10-16/2024-03-11/
LOCATION:Memorial Auditorium\, 503 N. Pine St.\, Pittsburg\, KS\, 66762\, United States
CATEGORIES:Children,Kids,Memorial Auditorium,Retail Shopping,Trade Show/Expo
ATTACH;FMTTYPE=image/png:https://www.pittks.org/wp-content/uploads/2024/01/Flyer-2.png
END:VEVENT
BEGIN:VEVENT
DTSTART;TZID=America/Chicago:20240312T073000
DTEND;TZID=America/Chicago:20240312T173000
DTSTAMP:20260422T220649
CREATED:20240213T215254Z
LAST-MODIFIED:20240213T222411Z
UID:10022706-1710228600-1710264600@www.pittks.org
SUMMARY:Camp Now & Then
DESCRIPTION:Camp Now & Then is a fun opportunity for kids to play games\, create crafts\, and make new friends for those sporadic days when kids are not in school during the year!\n7:30am – 5:30pm\nAges 5 – 12\nLincoln Center | 710 W 9th St.\n$20.00 Per Day Per Child\n2023 – 2024 Out of School Dates\nFebruary 19 & 23\nNo Camp February 16.\nMarch 11 – 15 & 29\nApril 1\nTo Register: Call 620.231.8310 or come to our office at Lincoln Center at 710 W 9th St. Pittsburg\, KS\nFor More Information\n620.231.8310 | 710 W 9th St
URL:https://www.pittks.org/event/camp-now-then-9/2024-03-12/
CATEGORIES:Children's Camps
ATTACH;FMTTYPE=image/jpeg:https://www.pittks.org/wp-content/uploads/2024/02/421569760_790035303153231_3710826773457485623_n.jpg
END:VEVENT
BEGIN:VEVENT
DTSTART;TZID=America/Chicago:20240312T100000
DTEND;TZID=America/Chicago:20240313T190000
DTSTAMP:20260422T220649
CREATED:20240125T200058Z
LAST-MODIFIED:20240125T202151Z
UID:10022666-1710237600-1710356400@www.pittks.org
SUMMARY:Rhea Lana's of Pittsburg (March 10-16)
DESCRIPTION:Gently-used children’s clothes\, shoes\, toys\, books\, furniture\, baby gear\, and more! \nMarch 10 – 16 \nPre-Sale March 8 & 9
URL:https://www.pittks.org/event/rhea-lanas-of-pittsburg-march-10-16/2024-03-12/
LOCATION:Memorial Auditorium\, 503 N. Pine St.\, Pittsburg\, KS\, 66762\, United States
CATEGORIES:Children,Kids,Memorial Auditorium,Retail Shopping,Trade Show/Expo
ATTACH;FMTTYPE=image/png:https://www.pittks.org/wp-content/uploads/2024/01/Flyer-2.png
END:VEVENT
BEGIN:VEVENT
DTSTART;TZID=America/Chicago:20240312T150000
DTEND;TZID=America/Chicago:20240312T170000
DTSTAMP:20260422T220649
CREATED:20231227T170818Z
LAST-MODIFIED:20240213T222706Z
UID:10022387-1710255600-1710262800@www.pittks.org
SUMMARY:PPRD Softball Adult League
DESCRIPTION:Mixed 7/3: Tuesday\, March 5th – April 30th \nDeadline February 20th \n  \nMixed 5/5: Wednesday\, March 6th – May 1st \nDeadline February 21th \n  \n6-week league – $250 per team. \nEnd of the season tournament following the last week of play. \nRegister by calling: 620-231-8310
URL:https://www.pittks.org/event/pprd-softball-audult-league/2024-03-12/
CATEGORIES:Adults,Athletics
ATTACH;FMTTYPE=image/png:https://www.pittks.org/wp-content/uploads/2023/12/spring-softball-1.png
END:VEVENT
BEGIN:VEVENT
DTSTART;TZID=America/Chicago:20240312T173000
DTEND;TZID=America/Chicago:20240312T173000
DTSTAMP:20260422T220649
CREATED:20200406T213946Z
LAST-MODIFIED:20240129T220358Z
UID:10020835-1710264600-1710264600@www.pittks.org
SUMMARY:City Commission Meeting
DESCRIPTION:The Pittsburg City Commission meets on the second and fourth Tuesday of each month at 5:30 pm\, inside the Beard-Shanks Law Enforcement Center courtroom. For more information\, contact City Clerk Tammy Nagel at (620) 230-5532. \nCommission meetings are broadcast live on Cox channel 6\, Craw-Kan channel 406\, and on the city’s YouTube channel: www.pittks.org/YouTube. Members of the public are encouraged to watch remotely or attend in-person. \nFor meeting minutes and agendas\, visit pittks.org/city-government/city-commission.
URL:https://www.pittks.org/event/city-commission-meeting/2024-03-12/
LOCATION:Beard-Shanks Law Enforcement Center courtroom
CATEGORIES:Government
ATTACH;FMTTYPE=image/jpeg:https://www.pittks.org/wp-content/uploads/2018/11/CityHall.jpg
END:VEVENT
END:VCALENDAR