BEGIN:VCALENDAR
VERSION:2.0
PRODID:-//City of Pittsburg - ECPv6.15.20//NONSGML v1.0//EN
CALSCALE:GREGORIAN
METHOD:PUBLISH
X-WR-CALNAME:City of Pittsburg
X-ORIGINAL-URL:https://www.pittks.org
X-WR-CALDESC:Events for City of Pittsburg
REFRESH-INTERVAL;VALUE=DURATION:PT1H
X-Robots-Tag:noindex
X-PUBLISHED-TTL:PT1H
BEGIN:VTIMEZONE
TZID:America/Chicago
BEGIN:DAYLIGHT
TZOFFSETFROM:-0600
TZOFFSETTO:-0500
TZNAME:CDT
DTSTART:20220313T080000
END:DAYLIGHT
BEGIN:STANDARD
TZOFFSETFROM:-0500
TZOFFSETTO:-0600
TZNAME:CST
DTSTART:20221106T070000
END:STANDARD
BEGIN:DAYLIGHT
TZOFFSETFROM:-0600
TZOFFSETTO:-0500
TZNAME:CDT
DTSTART:20230312T080000
END:DAYLIGHT
BEGIN:STANDARD
TZOFFSETFROM:-0500
TZOFFSETTO:-0600
TZNAME:CST
DTSTART:20231105T070000
END:STANDARD
BEGIN:DAYLIGHT
TZOFFSETFROM:-0600
TZOFFSETTO:-0500
TZNAME:CDT
DTSTART:20240310T080000
END:DAYLIGHT
BEGIN:STANDARD
TZOFFSETFROM:-0500
TZOFFSETTO:-0600
TZNAME:CST
DTSTART:20241103T070000
END:STANDARD
END:VTIMEZONE
BEGIN:VEVENT
DTSTART;VALUE=DATE:20230829
DTEND;VALUE=DATE:20231005
DTSTAMP:20260423T205527
CREATED:20230315T192118Z
LAST-MODIFIED:20230315T192118Z
UID:10021618-1693267200-1696463999@www.pittks.org
SUMMARY:Adult Softball League
DESCRIPTION:TUESDAY 7/3 COED\nWEDNESDAY 5/5 COED \nSession 1: April 11 – May 17 | RSVP by April 4\nSession 2: May 30 – August 2 | RSVP by May 23\nSession 3: August 29 – October 4 | RSVP by August 22\nLast Week Will Be Tournament Play \n$250.00 Per Team For Session 1 & 3\n$325.00 Per Team For Session 2 \nDon Gutteridge Sports Complex \nRegister: 620.231.8310 | 710 W 9th St.
URL:https://www.pittks.org/event/adult-softball-league-4/
LOCATION:Don Gutteridge Sports Complex\, 702 Memorial Dr.\, Pittsburg\, KS\, 66762\, United States
CATEGORIES:Adults,Athletics
ATTACH;FMTTYPE=image/png:https://www.pittks.org/wp-content/uploads/2023/03/2023-Adult-Softball-League-Flyer.png
ORGANIZER;CN="Pittsburg Parks & Recreation Department":MAILTO:pprd@pittks.org
END:VEVENT
BEGIN:VEVENT
DTSTART;TZID=America/Chicago:20230919T100000
DTEND;TZID=America/Chicago:20230919T110000
DTSTAMP:20260423T205527
CREATED:20230830T164321Z
LAST-MODIFIED:20230830T164321Z
UID:10022619-1695117600-1695121200@www.pittks.org
SUMMARY:Story Time
DESCRIPTION:The Fall Story Time session starts on Tuesday\, September 5\, and continues through Wednesday\, October 16. Story Time is open to kids and families. No registration is required for this free program.\nMonday\n6:00 p.m.\nTuesday\n10:00 a.m.\nWednesday\n10:00 a.m.
URL:https://www.pittks.org/event/story-time-7/
LOCATION:Pittsburg Public Library\, 308 N Walnut\, Pittsburg\, KS\, 66762\, United States
CATEGORIES:Children
ATTACH;FMTTYPE=image/png:https://www.pittks.org/wp-content/uploads/2023/08/Story-Time-Fall-FczRq3.tmp_.png
ORGANIZER;CN="Pittsburg Public Library":MAILTO:info@pplonline.org
END:VEVENT
BEGIN:VEVENT
DTSTART;TZID=America/Chicago:20230919T133000
DTEND;TZID=America/Chicago:20230919T143000
DTSTAMP:20260423T205527
CREATED:20230830T164321Z
LAST-MODIFIED:20230830T164321Z
UID:10022620-1695130200-1695133800@www.pittks.org
SUMMARY:September Book Discussion
DESCRIPTION:The Third Tuesday Book Group will meet on Tuesday\, September 19\, at 1:30 p.m. in the Library’s Meeting Room. The book selection for September is The Second Life of Mirielle West by Amanda Skenandore. New readers are always welcome!
URL:https://www.pittks.org/event/september-book-discussion/
LOCATION:Pittsburg Public Library\, 308 N Walnut\, Pittsburg\, KS\, 66762\, United States
CATEGORIES:Adults
ATTACH;FMTTYPE=image/png:https://www.pittks.org/wp-content/uploads/2023/08/BD-SecondLife-8g4QAx.tmp_.png
ORGANIZER;CN="Pittsburg Public Library":MAILTO:info@pplonline.org
END:VEVENT
END:VCALENDAR